BEGIN:VCALENDAR
VERSION:2.0
PRODID:-//University of Maine at Machias - ECPv6.15.17.1//NONSGML v1.0//EN
CALSCALE:GREGORIAN
METHOD:PUBLISH
X-WR-CALNAME:University of Maine at Machias
X-ORIGINAL-URL:https://machias.edu
X-WR-CALDESC:Events for University of Maine at Machias
REFRESH-INTERVAL;VALUE=DURATION:PT1H
X-Robots-Tag:noindex
X-PUBLISHED-TTL:PT1H
BEGIN:VTIMEZONE
TZID:America/New_York
BEGIN:DAYLIGHT
TZOFFSETFROM:-0500
TZOFFSETTO:-0400
TZNAME:EDT
DTSTART:20200308T070000
END:DAYLIGHT
BEGIN:STANDARD
TZOFFSETFROM:-0400
TZOFFSETTO:-0500
TZNAME:EST
DTSTART:20201101T060000
END:STANDARD
BEGIN:DAYLIGHT
TZOFFSETFROM:-0500
TZOFFSETTO:-0400
TZNAME:EDT
DTSTART:20210314T070000
END:DAYLIGHT
BEGIN:STANDARD
TZOFFSETFROM:-0400
TZOFFSETTO:-0500
TZNAME:EST
DTSTART:20211107T060000
END:STANDARD
BEGIN:DAYLIGHT
TZOFFSETFROM:-0500
TZOFFSETTO:-0400
TZNAME:EDT
DTSTART:20220313T070000
END:DAYLIGHT
BEGIN:STANDARD
TZOFFSETFROM:-0400
TZOFFSETTO:-0500
TZNAME:EST
DTSTART:20221106T060000
END:STANDARD
END:VTIMEZONE
BEGIN:VEVENT
DTSTART;TZID=America/New_York:20211117T090000
DTEND;TZID=America/New_York:20211117T150000
DTSTAMP:20260422T060007
CREATED:20211101T173723Z
LAST-MODIFIED:20211117T194804Z
UID:10064314-1637139600-1637161200@machias.edu
SUMMARY:Advising Fest!
DESCRIPTION:ADVISING FEST is scheduled for 9 am – 3 pm on November 17th in Torrey Hall. We will invite “all hands on deck” to join us for food and fun while helping students to get registered for spring. All students who register for spring semester by 11/23 will be entered into a raffle for a pair of airpods! By encouraging students to register prior to Thanksgiving break\, this will help to inform decisions about the ability for classes to run\, identify the need for extra seats sooner rather than later\, and reduce workload for the crunch time between returning from break and final exams (and over semester break!). We’d love to help get the word out about faculty advisor availability for drop-in or scheduling advising appointments – if you’ve got a schedule ready to share\, please send it to Lori McBrine (lori.mcbrine@maine.edu). This will help us to connect students with faculty advisors and it will help us to reach out to you if questions arise.
URL:https://machias.edu/event/advising-fest/
LOCATION:Torrey Hall
CATEGORIES:Faculty/Staff Calendar
END:VEVENT
END:VCALENDAR