BEGIN:VCALENDAR
VERSION:2.0
PRODID:-//University of Maine at Machias - ECPv6.15.17.1//NONSGML v1.0//EN
CALSCALE:GREGORIAN
METHOD:PUBLISH
X-WR-CALNAME:University of Maine at Machias
X-ORIGINAL-URL:https://machias.edu
X-WR-CALDESC:Events for University of Maine at Machias
REFRESH-INTERVAL;VALUE=DURATION:PT1H
X-Robots-Tag:noindex
X-PUBLISHED-TTL:PT1H
BEGIN:VTIMEZONE
TZID:UTC
BEGIN:STANDARD
TZOFFSETFROM:+0000
TZOFFSETTO:+0000
TZNAME:UTC
DTSTART:20220101T000000
END:STANDARD
END:VTIMEZONE
BEGIN:VEVENT
DTSTART;TZID=UTC:20230617T100000
DTEND;TZID=UTC:20230617T140000
DTSTAMP:20260421T220243
CREATED:20230515T193809Z
LAST-MODIFIED:20230515T193809Z
UID:10076352-1686996000-1687010400@machias.edu
SUMMARY:Mac Sennett Lobster Feed -Alumni reunion
DESCRIPTION:
URL:https://machias.edu/event/mac-sennett-lobster-feed-alumni-reunion/
LOCATION:Kilburn Commons
CATEGORIES:Events
END:VEVENT
END:VCALENDAR