BEGIN:VCALENDAR
VERSION:2.0
PRODID:-//University of Maine at Machias - ECPv6.15.17.1//NONSGML v1.0//EN
CALSCALE:GREGORIAN
METHOD:PUBLISH
X-WR-CALNAME:University of Maine at Machias
X-ORIGINAL-URL:https://machias.edu
X-WR-CALDESC:Events for University of Maine at Machias
REFRESH-INTERVAL;VALUE=DURATION:PT1H
X-Robots-Tag:noindex
X-PUBLISHED-TTL:PT1H
BEGIN:VTIMEZONE
TZID:America/New_York
BEGIN:DAYLIGHT
TZOFFSETFROM:-0500
TZOFFSETTO:-0400
TZNAME:EDT
DTSTART:20190310T070000
END:DAYLIGHT
BEGIN:STANDARD
TZOFFSETFROM:-0400
TZOFFSETTO:-0500
TZNAME:EST
DTSTART:20191103T060000
END:STANDARD
BEGIN:DAYLIGHT
TZOFFSETFROM:-0500
TZOFFSETTO:-0400
TZNAME:EDT
DTSTART:20200308T070000
END:DAYLIGHT
BEGIN:STANDARD
TZOFFSETFROM:-0400
TZOFFSETTO:-0500
TZNAME:EST
DTSTART:20201101T060000
END:STANDARD
BEGIN:DAYLIGHT
TZOFFSETFROM:-0500
TZOFFSETTO:-0400
TZNAME:EDT
DTSTART:20210314T070000
END:DAYLIGHT
BEGIN:STANDARD
TZOFFSETFROM:-0400
TZOFFSETTO:-0500
TZNAME:EST
DTSTART:20211107T060000
END:STANDARD
END:VTIMEZONE
BEGIN:VEVENT
DTSTART;TZID=America/New_York:20200526T100000
DTEND;TZID=America/New_York:20200526T110000
DTSTAMP:20260420T091104
CREATED:20200509T034102Z
LAST-MODIFIED:20200526T045404Z
UID:10051291-1590487200-1590490800@machias.edu
SUMMARY:Google Calendar 101 - Teach Your Students
DESCRIPTION:──────────\nHi there\,\nMeghan Wilson Duff is inviting you to a scheduled Zoom meeting.\nJoin from PC\, Mac\, Linux\, iOS or Android: https://maine.zoom.us/j/93180777696\nFrom a Polycom or other H.323 room system that is not a member of a video conference\, click call on the remote and dial one of the following IP addresses followed by # the meeting ID and # again:\n  162.255.36.11 (US East)\n  162.255.37.11 (US West)\n     Meeting ID: 931 8077 7696\nPlease call your campus Help Desk if you need assistance.\n──────────
URL:https://machias.edu/event/google-calendar-101-teach-your-students/
LOCATION:https://maine.zoom.us/j/93180777696\,
CATEGORIES:Faculty/Staff Calendar
END:VEVENT
END:VCALENDAR