BEGIN:VCALENDAR
VERSION:2.0
PRODID:-//University of Maine at Machias - ECPv6.15.17.1//NONSGML v1.0//EN
CALSCALE:GREGORIAN
METHOD:PUBLISH
X-ORIGINAL-URL:https://machias.edu
X-WR-CALDESC:Events for University of Maine at Machias
REFRESH-INTERVAL;VALUE=DURATION:PT1H
X-Robots-Tag:noindex
X-PUBLISHED-TTL:PT1H
BEGIN:VTIMEZONE
TZID:America/New_York
BEGIN:DAYLIGHT
TZOFFSETFROM:-0500
TZOFFSETTO:-0400
TZNAME:EDT
DTSTART:20200308T070000
END:DAYLIGHT
BEGIN:STANDARD
TZOFFSETFROM:-0400
TZOFFSETTO:-0500
TZNAME:EST
DTSTART:20201101T060000
END:STANDARD
BEGIN:DAYLIGHT
TZOFFSETFROM:-0500
TZOFFSETTO:-0400
TZNAME:EDT
DTSTART:20210314T070000
END:DAYLIGHT
BEGIN:STANDARD
TZOFFSETFROM:-0400
TZOFFSETTO:-0500
TZNAME:EST
DTSTART:20211107T060000
END:STANDARD
BEGIN:DAYLIGHT
TZOFFSETFROM:-0500
TZOFFSETTO:-0400
TZNAME:EDT
DTSTART:20220313T070000
END:DAYLIGHT
BEGIN:STANDARD
TZOFFSETFROM:-0400
TZOFFSETTO:-0500
TZNAME:EST
DTSTART:20221106T060000
END:STANDARD
END:VTIMEZONE
BEGIN:VEVENT
DTSTART;TZID=America/New_York:20211110T130000
DTEND;TZID=America/New_York:20211110T140000
DTSTAMP:20260424T173049
CREATED:20210907T212335Z
LAST-MODIFIED:20211110T185645Z
UID:10075970-1636549200-1636552800@machias.edu
SUMMARY:Staff Meeting
DESCRIPTION:──────────\nHi there\,\nRosemarie Mondville is inviting you to a scheduled Zoom meeting.\nJoin from PC\, Mac\, Linux\, iOS or Android: https://maine.zoom.us/j/88068027414\nOr Telephone: \n        US: +1 301 715 8592  or +1 312 626 6799  or +1 646 876 9923  or +1 408 638 0968  or +1 669 900 6833  or +1 253 215 8782  or +1 346 248 7799\n    Meeting ID: 880 6802 7414\nFrom a Polycom or other H.323 room system that is not a member of a video conference\, click call on the remote and dial one of the following IP addresses followed by # the meeting ID and # again:\n  162.255.36.11 (US East)\n  162.255.37.11 (US West)\n     Meeting ID: 880 6802 7414\nPlease call your campus Help Desk if you need assistance.\n──────────
URL:https://machias.edu/event/staff-meeting-15/
LOCATION:https://maine.zoom.us/j/88068027414
CATEGORIES:Faculty/Staff Calendar
END:VEVENT
END:VCALENDAR