BEGIN:VCALENDAR
VERSION:2.0
PRODID:-//University of Maine at Machias - ECPv6.15.17.1//NONSGML v1.0//EN
CALSCALE:GREGORIAN
METHOD:PUBLISH
X-ORIGINAL-URL:https://machias.edu
X-WR-CALDESC:Events for University of Maine at Machias
REFRESH-INTERVAL;VALUE=DURATION:PT1H
X-Robots-Tag:noindex
X-PUBLISHED-TTL:PT1H
BEGIN:VTIMEZONE
TZID:America/New_York
BEGIN:DAYLIGHT
TZOFFSETFROM:-0500
TZOFFSETTO:-0400
TZNAME:EDT
DTSTART:20210314T070000
END:DAYLIGHT
BEGIN:STANDARD
TZOFFSETFROM:-0400
TZOFFSETTO:-0500
TZNAME:EST
DTSTART:20211107T060000
END:STANDARD
BEGIN:DAYLIGHT
TZOFFSETFROM:-0500
TZOFFSETTO:-0400
TZNAME:EDT
DTSTART:20220313T070000
END:DAYLIGHT
BEGIN:STANDARD
TZOFFSETFROM:-0400
TZOFFSETTO:-0500
TZNAME:EST
DTSTART:20221106T060000
END:STANDARD
BEGIN:DAYLIGHT
TZOFFSETFROM:-0500
TZOFFSETTO:-0400
TZNAME:EDT
DTSTART:20230312T070000
END:DAYLIGHT
BEGIN:STANDARD
TZOFFSETFROM:-0400
TZOFFSETTO:-0500
TZNAME:EST
DTSTART:20231105T060000
END:STANDARD
END:VTIMEZONE
BEGIN:VEVENT
DTSTART;TZID=America/New_York:20220324T080000
DTEND;TZID=America/New_York:20220324T090000
DTSTAMP:20260424T160947
CREATED:20220317T042637Z
LAST-MODIFIED:20220324T050847Z
UID:10077780-1648108800-1648112400@machias.edu
SUMMARY:Workshop: Registration Campaign Training
DESCRIPTION:
URL:https://machias.edu/event/workshop/
LOCATION:https://maine.zoom.us/j/81787192471?pwd=eVhYZm0yNVIybG1TMko2QlltRVlMZz09
CATEGORIES:Faculty/Staff Calendar
END:VEVENT
BEGIN:VEVENT
DTSTART;TZID=America/New_York:20220214T130000
DTEND;TZID=America/New_York:20220214T140000
DTSTAMP:20260424T160947
CREATED:20220209T001651Z
LAST-MODIFIED:20220214T003203Z
UID:10077647-1644843600-1644847200@machias.edu
SUMMARY:Embedded Tutor Discussion
DESCRIPTION:You are invited to a Zoom meeting now.\nJoin from PC\, Mac\, Linux\, iOS or Android: https://maine.zoom.us/j/81787192471?pwd=eVhYZm0yNVIybG1TMko2QlltRVlMZz09\n    Password: 505337\nOr Telephone: \n        US: +1 646 876 9923  or +1 301 715 8592  or +1 312 626 6799  or +1 346 248 7799  or +1 408 638 0968  or +1 669 900 6833  or +1 253 215 8782\n    Meeting ID: 817 8719 2471\nFrom a Polycom or other H.323 room system that is not a member of a video conference\, click call on the remote and dial one of the following IP addresses followed by # the meeting ID and # again:\n    162.255.36.11 (US East)\n    162.255.37.11 (US West)\n     Meeting ID: 817 8719 2471\n    Password: 505337\nPlease call your campus Help Desk if you need assistance.
URL:https://machias.edu/event/embedded-tutor-discussion/
LOCATION:https://maine.zoom.us/j/81787192471?pwd=eVhYZm0yNVIybG1TMko2QlltRVlMZz09
CATEGORIES:Faculty/Staff Calendar
END:VEVENT
BEGIN:VEVENT
DTSTART;TZID=America/New_York:20220207T130000
DTEND;TZID=America/New_York:20220207T140000
DTSTAMP:20260424T160947
CREATED:20220206T000804Z
LAST-MODIFIED:20220207T000753Z
UID:10074812-1644238800-1644242400@machias.edu
SUMMARY:Student Success & Classroom Instruction
DESCRIPTION:You are invited to a Zoom meeting now.\nJoin from PC\, Mac\, Linux\, iOS or Android: https://maine.zoom.us/j/81787192471?pwd=eVhYZm0yNVIybG1TMko2QlltRVlMZz09\n    Password: 505337\nOr Telephone: \n        US: +1 646 876 9923  or +1 301 715 8592  or +1 312 626 6799  or +1 346 248 7799  or +1 408 638 0968  or +1 669 900 6833  or +1 253 215 8782\n    Meeting ID: 817 8719 2471\nFrom a Polycom or other H.323 room system that is not a member of a video conference\, click call on the remote and dial one of the following IP addresses followed by # the meeting ID and # again:\n    162.255.36.11 (US East)\n    162.255.37.11 (US West)\n     Meeting ID: 817 8719 2471\n    Password: 505337\nPlease call your campus Help Desk if you need assistance.
URL:https://machias.edu/event/student-success-classroom-instruction/
LOCATION:https://maine.zoom.us/j/81787192471?pwd=eVhYZm0yNVIybG1TMko2QlltRVlMZz09
CATEGORIES:Faculty/Staff Calendar
END:VEVENT
BEGIN:VEVENT
DTSTART;TZID=America/New_York:20220131T130000
DTEND;TZID=America/New_York:20220131T140000
DTSTAMP:20260424T160947
CREATED:20220126T223603Z
LAST-MODIFIED:20220130T230114Z
UID:10077590-1643634000-1643637600@machias.edu
SUMMARY:Reporting Students of Concern (Discussion)
DESCRIPTION:You are invited to a Zoom meeting now.\nJoin from PC\, Mac\, Linux\, iOS or Android: https://maine.zoom.us/j/81787192471?pwd=eVhYZm0yNVIybG1TMko2QlltRVlMZz09\n    Password: 505337\nOr Telephone: \n        US: +1 646 876 9923  or +1 301 715 8592  or +1 312 626 6799  or +1 346 248 7799  or +1 408 638 0968  or +1 669 900 6833  or +1 253 215 8782\n    Meeting ID: 817 8719 2471\nFrom a Polycom or other H.323 room system that is not a member of a video conference\, click call on the remote and dial one of the following IP addresses followed by # the meeting ID and # again:\n    162.255.36.11 (US East)\n    162.255.37.11 (US West)\n     Meeting ID: 817 8719 2471\n    Password: 505337\nPlease call your campus Help Desk if you need assistance.
URL:https://machias.edu/event/reporting-students-of-concern-discussion/
LOCATION:https://maine.zoom.us/j/81787192471?pwd=eVhYZm0yNVIybG1TMko2QlltRVlMZz09
CATEGORIES:Faculty/Staff Calendar
END:VEVENT
BEGIN:VEVENT
DTSTART;TZID=America/New_York:20220124T130000
DTEND;TZID=America/New_York:20220124T140000
DTSTAMP:20260424T160947
CREATED:20220120T222146Z
LAST-MODIFIED:20220123T222337Z
UID:10074752-1643029200-1643032800@machias.edu
SUMMARY:Two-week Alerts & No-Shows
DESCRIPTION:
URL:https://machias.edu/event/two-week-alerts-no-shows/
LOCATION:https://maine.zoom.us/j/81787192471?pwd=eVhYZm0yNVIybG1TMko2QlltRVlMZz09
CATEGORIES:Faculty/Staff Calendar
END:VEVENT
BEGIN:VEVENT
DTSTART;TZID=America/New_York:20220113T120000
DTEND;TZID=America/New_York:20220113T130000
DTSTAMP:20260424T160947
CREATED:20220111T203936Z
LAST-MODIFIED:20220112T211632Z
UID:10077372-1642075200-1642078800@machias.edu
SUMMARY:Retention Kickoff Workshop
DESCRIPTION:All full- and part-time faculty are asked to participate in a Retention Kickoff Workshop. This spring\, full-time and part-time faculty are encouraged to participate in student retention improvement efforts. This introductory/kickoff session via Zoom on Thursday\, 1/13\, noon – 1 pm\, will provide a summary of overall student retention at UMM over time. There will be several follow-up sessions scheduled throughout the semester. Please complete this survey at your earliest convenience so that we may be able to schedule follow-up events at a time when the greatest number of faculty are able to attend.
URL:https://machias.edu/event/retention-kickoff-workshop/
LOCATION:https://maine.zoom.us/j/81787192471?pwd=eVhYZm0yNVIybG1TMko2QlltRVlMZz09
CATEGORIES:Faculty/Staff Calendar
END:VEVENT
END:VCALENDAR