BEGIN:VCALENDAR
VERSION:2.0
PRODID:-//University of Maine at Machias - ECPv6.15.17.1//NONSGML v1.0//EN
CALSCALE:GREGORIAN
METHOD:PUBLISH
X-WR-CALNAME:University of Maine at Machias
X-ORIGINAL-URL:https://machias.edu
X-WR-CALDESC:Events for University of Maine at Machias
REFRESH-INTERVAL;VALUE=DURATION:PT1H
X-Robots-Tag:noindex
X-PUBLISHED-TTL:PT1H
BEGIN:VTIMEZONE
TZID:America/New_York
BEGIN:DAYLIGHT
TZOFFSETFROM:-0500
TZOFFSETTO:-0400
TZNAME:EDT
DTSTART:20200308T070000
END:DAYLIGHT
BEGIN:STANDARD
TZOFFSETFROM:-0400
TZOFFSETTO:-0500
TZNAME:EST
DTSTART:20201101T060000
END:STANDARD
BEGIN:DAYLIGHT
TZOFFSETFROM:-0500
TZOFFSETTO:-0400
TZNAME:EDT
DTSTART:20210314T070000
END:DAYLIGHT
BEGIN:STANDARD
TZOFFSETFROM:-0400
TZOFFSETTO:-0500
TZNAME:EST
DTSTART:20211107T060000
END:STANDARD
BEGIN:DAYLIGHT
TZOFFSETFROM:-0500
TZOFFSETTO:-0400
TZNAME:EDT
DTSTART:20220313T070000
END:DAYLIGHT
BEGIN:STANDARD
TZOFFSETFROM:-0400
TZOFFSETTO:-0500
TZNAME:EST
DTSTART:20221106T060000
END:STANDARD
BEGIN:DAYLIGHT
TZOFFSETFROM:-0500
TZOFFSETTO:-0400
TZNAME:EDT
DTSTART:20230312T070000
END:DAYLIGHT
BEGIN:STANDARD
TZOFFSETFROM:-0400
TZOFFSETTO:-0500
TZNAME:EST
DTSTART:20231105T060000
END:STANDARD
END:VTIMEZONE
BEGIN:VEVENT
DTSTART;TZID=America/New_York:20220106T140000
DTEND;TZID=America/New_York:20220106T170000
DTSTAMP:20260422T161619
CREATED:20211015T155246Z
LAST-MODIFIED:20211127T203246Z
UID:10076371-1641477600-1641488400@machias.edu
SUMMARY:COVID-19 Testing
DESCRIPTION:Please use the door by the soccer field. Remember to not eat\, drink\, smoke\, or chew anything (except a few sips of water) at least one hour prior to testing.
URL:https://machias.edu/event/covid-19-testing-25/
LOCATION:Clipper Lounge\, Sennett Hall
CATEGORIES:Faculty/Staff Calendar
END:VEVENT
BEGIN:VEVENT
DTSTART;TZID=America/New_York:20220104T090000
DTEND;TZID=America/New_York:20220104T120000
DTSTAMP:20260422T161619
CREATED:20211015T155245Z
LAST-MODIFIED:20211127T203246Z
UID:10076368-1641286800-1641297600@machias.edu
SUMMARY:COVID-19 Testing
DESCRIPTION:Please use the door by the soccer field. Remember to not eat\, drink\, smoke\, or chew anything (except a few sips of water) at least one hour prior to testing.
URL:https://machias.edu/event/covid-19-testing-24/
LOCATION:Clipper Lounge\, Sennett Hall
CATEGORIES:Faculty/Staff Calendar
END:VEVENT
BEGIN:VEVENT
DTSTART;TZID=America/New_York:20211230T140000
DTEND;TZID=America/New_York:20211230T170000
DTSTAMP:20260422T161619
CREATED:20211015T155245Z
LAST-MODIFIED:20211127T203246Z
UID:10076365-1640872800-1640883600@machias.edu
SUMMARY:COVID-19 Testing
DESCRIPTION:Please use the door by the soccer field. Remember to not eat\, drink\, smoke\, or chew anything (except a few sips of water) at least one hour prior to testing.
URL:https://machias.edu/event/covid-19-testing-23/
LOCATION:Clipper Lounge\, Sennett Hall
CATEGORIES:Faculty/Staff Calendar
END:VEVENT
BEGIN:VEVENT
DTSTART;TZID=America/New_York:20211228T090000
DTEND;TZID=America/New_York:20211228T120000
DTSTAMP:20260422T161619
CREATED:20211015T155245Z
LAST-MODIFIED:20211127T203246Z
UID:10076362-1640682000-1640692800@machias.edu
SUMMARY:COVID-19 Testing
DESCRIPTION:Please use the door by the soccer field. Remember to not eat\, drink\, smoke\, or chew anything (except a few sips of water) at least one hour prior to testing.
URL:https://machias.edu/event/covid-19-testing-22/
LOCATION:Clipper Lounge\, Sennett Hall
CATEGORIES:Faculty/Staff Calendar
END:VEVENT
BEGIN:VEVENT
DTSTART;TZID=America/New_York:20211223T140000
DTEND;TZID=America/New_York:20211223T170000
DTSTAMP:20260422T161619
CREATED:20211015T155244Z
LAST-MODIFIED:20211127T203245Z
UID:10076359-1640268000-1640278800@machias.edu
SUMMARY:COVID-19 Testing
DESCRIPTION:Please use the door by the soccer field. Remember to not eat\, drink\, smoke\, or chew anything (except a few sips of water) at least one hour prior to testing.
URL:https://machias.edu/event/covid-19-testing-21/
LOCATION:Clipper Lounge\, Sennett Hall
CATEGORIES:Faculty/Staff Calendar
END:VEVENT
BEGIN:VEVENT
DTSTART;TZID=America/New_York:20211221T090000
DTEND;TZID=America/New_York:20211221T120000
DTSTAMP:20260422T161619
CREATED:20211015T155243Z
LAST-MODIFIED:20211127T203245Z
UID:10076356-1640077200-1640088000@machias.edu
SUMMARY:COVID-19 Testing
DESCRIPTION:Please use the door by the soccer field. Remember to not eat\, drink\, smoke\, or chew anything (except a few sips of water) at least one hour prior to testing.
URL:https://machias.edu/event/covid-19-testing-20/
LOCATION:Clipper Lounge\, Sennett Hall
CATEGORIES:Faculty/Staff Calendar
END:VEVENT
BEGIN:VEVENT
DTSTART;TZID=America/New_York:20211216T140000
DTEND;TZID=America/New_York:20211216T170000
DTSTAMP:20260422T161619
CREATED:20211013T154133Z
LAST-MODIFIED:20211127T203245Z
UID:10076350-1639663200-1639674000@machias.edu
SUMMARY:COVID-19 Testing
DESCRIPTION:Please use the door by the soccer field. Remember to not eat\, drink\, smoke\, or chew anything (except a few sips of water) at least one hour prior to testing.
URL:https://machias.edu/event/covid-19-testing-19/
LOCATION:Clipper Lounge\, Sennett Hall
CATEGORIES:Faculty/Staff Calendar
END:VEVENT
BEGIN:VEVENT
DTSTART;TZID=America/New_York:20211214T090000
DTEND;TZID=America/New_York:20211214T120000
DTSTAMP:20260422T161619
CREATED:20211013T154132Z
LAST-MODIFIED:20211127T203244Z
UID:10076347-1639472400-1639483200@machias.edu
SUMMARY:COVID-19 Testing
DESCRIPTION:Please use the door by the soccer field. Remember to not eat\, drink\, smoke\, or chew anything (except a few sips of water) at least one hour prior to testing.
URL:https://machias.edu/event/covid-19-testing-18/
LOCATION:Clipper Lounge\, Sennett Hall
CATEGORIES:Faculty/Staff Calendar
END:VEVENT
BEGIN:VEVENT
DTSTART;TZID=America/New_York:20211209T140000
DTEND;TZID=America/New_York:20211209T170000
DTSTAMP:20260422T161619
CREATED:20211013T154132Z
LAST-MODIFIED:20211127T203244Z
UID:10076344-1639058400-1639069200@machias.edu
SUMMARY:COVID-19 Testing
DESCRIPTION:Please use the door by the soccer field. Remember to not eat\, drink\, smoke\, or chew anything (except a few sips of water) at least one hour prior to testing.
URL:https://machias.edu/event/covid-19-testing-17/
LOCATION:Clipper Lounge\, Sennett Hall
CATEGORIES:Faculty/Staff Calendar
END:VEVENT
BEGIN:VEVENT
DTSTART;TZID=America/New_York:20211207T090000
DTEND;TZID=America/New_York:20211207T120000
DTSTAMP:20260422T161619
CREATED:20211013T154130Z
LAST-MODIFIED:20211127T203243Z
UID:10076338-1638867600-1638878400@machias.edu
SUMMARY:COVID-19 Testing
DESCRIPTION:Please use the door by the soccer field. Remember to not eat\, drink\, smoke\, or chew anything (except a few sips of water) at least one hour prior to testing.
URL:https://machias.edu/event/covid-19-testing-16/
LOCATION:Clipper Lounge\, Sennett Hall
CATEGORIES:Faculty/Staff Calendar
END:VEVENT
BEGIN:VEVENT
DTSTART;TZID=America/New_York:20211202T140000
DTEND;TZID=America/New_York:20211202T170000
DTSTAMP:20260422T161619
CREATED:20211013T154130Z
LAST-MODIFIED:20211127T203243Z
UID:10076335-1638453600-1638464400@machias.edu
SUMMARY:COVID-19 Testing
DESCRIPTION:Please use the door by the soccer field. Remember to not eat\, drink\, smoke\, or chew anything (except a few sips of water) at least one hour prior to testing.
URL:https://machias.edu/event/covid-19-testing-15/
LOCATION:Clipper Lounge\, Sennett Hall
CATEGORIES:Faculty/Staff Calendar
END:VEVENT
BEGIN:VEVENT
DTSTART;TZID=America/New_York:20211130T090000
DTEND;TZID=America/New_York:20211130T120000
DTSTAMP:20260422T161619
CREATED:20211013T154129Z
LAST-MODIFIED:20211127T203242Z
UID:10076332-1638262800-1638273600@machias.edu
SUMMARY:COVID-19 Testing
DESCRIPTION:Please use the door by the soccer field. Remember to not eat\, drink\, smoke\, or chew anything (except a few sips of water) at least one hour prior to testing.
URL:https://machias.edu/event/covid-19-testing-14/
LOCATION:Clipper Lounge\, Sennett Hall
CATEGORIES:Faculty/Staff Calendar
END:VEVENT
BEGIN:VEVENT
DTSTART;TZID=America/New_York:20211125T140000
DTEND;TZID=America/New_York:20211125T170000
DTSTAMP:20260422T161619
CREATED:20211013T154128Z
LAST-MODIFIED:20211125T201937Z
UID:10076329-1637848800-1637859600@machias.edu
SUMMARY:COVID-19 Testing
DESCRIPTION:Please use the door by the soccer field. Remember to not eat\, drink\, smoke\, or chew anything (except a few sips of water) at least one hour prior to testing.
URL:https://machias.edu/event/covid-19-testing-13/
LOCATION:Clipper Lounge\, Sennett Hall
CATEGORIES:Faculty/Staff Calendar
END:VEVENT
BEGIN:VEVENT
DTSTART;TZID=America/New_York:20211123T090000
DTEND;TZID=America/New_York:20211123T120000
DTSTAMP:20260422T161619
CREATED:20211013T154127Z
LAST-MODIFIED:20211122T200245Z
UID:10076326-1637658000-1637668800@machias.edu
SUMMARY:COVID-19 Testing
DESCRIPTION:Please use the door by the soccer field. Remember to not eat\, drink\, smoke\, or chew anything (except a few sips of water) at least one hour prior to testing.
URL:https://machias.edu/event/covid-19-testing-12/
LOCATION:Clipper Lounge\, Sennett Hall
CATEGORIES:Faculty/Staff Calendar
END:VEVENT
BEGIN:VEVENT
DTSTART;TZID=America/New_York:20211118T140000
DTEND;TZID=America/New_York:20211118T170000
DTSTAMP:20260422T161619
CREATED:20211013T154126Z
LAST-MODIFIED:20211118T194932Z
UID:10064209-1637244000-1637254800@machias.edu
SUMMARY:COVID-19 Testing
DESCRIPTION:Please use the door by the soccer field. Remember to not eat\, drink\, smoke\, or chew anything (except a few sips of water) at least one hour prior to testing.
URL:https://machias.edu/event/covid-19-testing-11/
LOCATION:Clipper Lounge\, Sennett Hall
CATEGORIES:Faculty/Staff Calendar
END:VEVENT
BEGIN:VEVENT
DTSTART;TZID=America/New_York:20211116T090000
DTEND;TZID=America/New_York:20211116T120000
DTSTAMP:20260422T161619
CREATED:20211013T154125Z
LAST-MODIFIED:20211115T194644Z
UID:10064206-1637053200-1637064000@machias.edu
SUMMARY:COVID-19 Testing
DESCRIPTION:Please use the door by the soccer field. Remember to not eat\, drink\, smoke\, or chew anything (except a few sips of water) at least one hour prior to testing.
URL:https://machias.edu/event/covid-19-testing-10/
LOCATION:Clipper Lounge\, Sennett Hall
CATEGORIES:Faculty/Staff Calendar
END:VEVENT
BEGIN:VEVENT
DTSTART;TZID=America/New_York:20211111T140000
DTEND;TZID=America/New_York:20211111T170000
DTSTAMP:20260422T161619
CREATED:20211013T154123Z
LAST-MODIFIED:20211111T190902Z
UID:10064203-1636639200-1636650000@machias.edu
SUMMARY:COVID-19 Testing
DESCRIPTION:Please use the door by the soccer field. Remember to not eat\, drink\, smoke\, or chew anything (except a few sips of water) at least one hour prior to testing.
URL:https://machias.edu/event/covid-19-testing-9/
LOCATION:Clipper Lounge\, Sennett Hall
CATEGORIES:Faculty/Staff Calendar
END:VEVENT
BEGIN:VEVENT
DTSTART;TZID=America/New_York:20211109T090000
DTEND;TZID=America/New_York:20211109T120000
DTSTAMP:20260422T161619
CREATED:20211013T154122Z
LAST-MODIFIED:20211108T182112Z
UID:10064200-1636448400-1636459200@machias.edu
SUMMARY:COVID-19 Testing
DESCRIPTION:Please use the door by the soccer field. Remember to not eat\, drink\, smoke\, or chew anything (except a few sips of water) at least one hour prior to testing.
URL:https://machias.edu/event/covid-19-testing-8/
LOCATION:Clipper Lounge\, Sennett Hall
CATEGORIES:Faculty/Staff Calendar
END:VEVENT
BEGIN:VEVENT
DTSTART;TZID=America/New_York:20211104T140000
DTEND;TZID=America/New_York:20211104T170000
DTSTAMP:20260422T161619
CREATED:20211013T154122Z
LAST-MODIFIED:20211104T174154Z
UID:10064197-1636034400-1636045200@machias.edu
SUMMARY:COVID-19 Testing
DESCRIPTION:Please use the door by the soccer field. Remember to not eat\, drink\, smoke\, or chew anything (except a few sips of water) at least one hour prior to testing.
URL:https://machias.edu/event/covid-19-testing-7/
LOCATION:Clipper Lounge\, Sennett Hall
CATEGORIES:Faculty/Staff Calendar
END:VEVENT
BEGIN:VEVENT
DTSTART;TZID=America/New_York:20211102T090000
DTEND;TZID=America/New_York:20211102T120000
DTSTAMP:20260422T161619
CREATED:20211013T154121Z
LAST-MODIFIED:20211101T173732Z
UID:10064194-1635843600-1635854400@machias.edu
SUMMARY:COVID-19 Testing
DESCRIPTION:Please use the door by the soccer field. Remember to not eat\, drink\, smoke\, or chew anything (except a few sips of water) at least one hour prior to testing.
URL:https://machias.edu/event/covid-19-testing-6/
LOCATION:Clipper Lounge\, Sennett Hall
CATEGORIES:Faculty/Staff Calendar
END:VEVENT
BEGIN:VEVENT
DTSTART;TZID=America/New_York:20211028T140000
DTEND;TZID=America/New_York:20211028T170000
DTSTAMP:20260422T161619
CREATED:20211013T154120Z
LAST-MODIFIED:20211028T172145Z
UID:10064191-1635429600-1635440400@machias.edu
SUMMARY:COVID-19 Testing
DESCRIPTION:Please use the door by the soccer field. Remember to not eat\, drink\, smoke\, or chew anything (except a few sips of water) at least one hour prior to testing.
URL:https://machias.edu/event/covid-19-testing-5/
LOCATION:Clipper Lounge\, Sennett Hall
CATEGORIES:Faculty/Staff Calendar
END:VEVENT
BEGIN:VEVENT
DTSTART;TZID=America/New_York:20211026T090000
DTEND;TZID=America/New_York:20211026T120000
DTSTAMP:20260422T161619
CREATED:20211013T154119Z
LAST-MODIFIED:20211025T171539Z
UID:10064188-1635238800-1635249600@machias.edu
SUMMARY:COVID-19 Testing
DESCRIPTION:Please use the door by the soccer field. Remember to not eat\, drink\, smoke\, or chew anything (except a few sips of water) at least one hour prior to testing.
URL:https://machias.edu/event/covid-19-testing-4/
LOCATION:Clipper Lounge\, Sennett Hall
CATEGORIES:Faculty/Staff Calendar
END:VEVENT
BEGIN:VEVENT
DTSTART;TZID=America/New_York:20211021T140000
DTEND;TZID=America/New_York:20211021T170000
DTSTAMP:20260422T161619
CREATED:20211013T154118Z
LAST-MODIFIED:20211021T164432Z
UID:10064185-1634824800-1634835600@machias.edu
SUMMARY:COVID-19 Testing
DESCRIPTION:Please use the door by the soccer field. Remember to not eat\, drink\, smoke\, or chew anything (except a few sips of water) at least one hour prior to testing.
URL:https://machias.edu/event/covid-19-testing-3/
LOCATION:Clipper Lounge\, Sennett Hall
CATEGORIES:Faculty/Staff Calendar
END:VEVENT
BEGIN:VEVENT
DTSTART;TZID=America/New_York:20211019T090000
DTEND;TZID=America/New_York:20211019T120000
DTSTAMP:20260422T161619
CREATED:20211013T154118Z
LAST-MODIFIED:20211018T162451Z
UID:10064182-1634634000-1634644800@machias.edu
SUMMARY:COVID-19 Testing
DESCRIPTION:Please use the door by the soccer field. Remember to not eat\, drink\, smoke\, or chew anything (except a few sips of water) at least one hour prior to testing.
URL:https://machias.edu/event/covid-19-testing-2/
LOCATION:Clipper Lounge\, Sennett Hall
CATEGORIES:Faculty/Staff Calendar
END:VEVENT
BEGIN:VEVENT
DTSTART;TZID=America/New_York:20211014T140000
DTEND;TZID=America/New_York:20211014T170000
DTSTAMP:20260422T161619
CREATED:20211013T154117Z
LAST-MODIFIED:20211014T154429Z
UID:10076323-1634220000-1634230800@machias.edu
SUMMARY:COVID-19 Testing
DESCRIPTION:Please use the door by the soccer field. Remember to not eat\, drink\, smoke\, or chew anything (except a few sips of water) at least one hour prior to testing.
URL:https://machias.edu/event/covid-19-testing/
LOCATION:Clipper Lounge\, Sennett Hall
CATEGORIES:Faculty/Staff Calendar
END:VEVENT
END:VCALENDAR