BEGIN:VCALENDAR
VERSION:2.0
PRODID:-//University of Maine at Machias - ECPv6.15.17.1//NONSGML v1.0//EN
CALSCALE:GREGORIAN
METHOD:PUBLISH
X-WR-CALNAME:University of Maine at Machias
X-ORIGINAL-URL:https://machias.edu
X-WR-CALDESC:Events for University of Maine at Machias
REFRESH-INTERVAL;VALUE=DURATION:PT1H
X-Robots-Tag:noindex
X-PUBLISHED-TTL:PT1H
BEGIN:VTIMEZONE
TZID:America/New_York
BEGIN:DAYLIGHT
TZOFFSETFROM:-0500
TZOFFSETTO:-0400
TZNAME:EDT
DTSTART:20260308T070000
END:DAYLIGHT
BEGIN:STANDARD
TZOFFSETFROM:-0400
TZOFFSETTO:-0500
TZNAME:EST
DTSTART:20261101T060000
END:STANDARD
BEGIN:DAYLIGHT
TZOFFSETFROM:-0500
TZOFFSETTO:-0400
TZNAME:EDT
DTSTART:20270314T070000
END:DAYLIGHT
BEGIN:STANDARD
TZOFFSETFROM:-0400
TZOFFSETTO:-0500
TZNAME:EST
DTSTART:20271107T060000
END:STANDARD
BEGIN:DAYLIGHT
TZOFFSETFROM:-0500
TZOFFSETTO:-0400
TZNAME:EDT
DTSTART:20280312T070000
END:DAYLIGHT
BEGIN:STANDARD
TZOFFSETFROM:-0400
TZOFFSETTO:-0500
TZNAME:EST
DTSTART:20281105T060000
END:STANDARD
END:VTIMEZONE
BEGIN:VTIMEZONE
TZID:UTC
BEGIN:STANDARD
TZOFFSETFROM:+0000
TZOFFSETTO:+0000
TZNAME:UTC
DTSTART:20260101T000000
END:STANDARD
END:VTIMEZONE
BEGIN:VEVENT
DTSTART;VALUE=DATE:20270214
DTEND;VALUE=DATE:20270215
DTSTAMP:20260421T161350
CREATED:20241007T161342Z
LAST-MODIFIED:20241007T161424Z
UID:10083588-1802563200-1802649599@machias.edu
SUMMARY:Reynolds/Fitness Center Closed
DESCRIPTION:
URL:https://machias.edu/event/reynolds-fitness-center-closed/2027-02-14/
CATEGORIES:Fitness Center hours
END:VEVENT
BEGIN:VEVENT
DTSTART;VALUE=DATE:20270215
DTEND;VALUE=DATE:20270216
DTSTAMP:20260421T161350
CREATED:20210416T141508Z
LAST-MODIFIED:20250307T185055Z
UID:10055417-1802649600-1802735999@machias.edu
SUMMARY:Fitness Center open 6 a.m.–7 p.m.
DESCRIPTION:Facility Hours & Events
URL:https://machias.edu/event/6-a-m-7-p-m-2022-07-01/2027-02-15/
CATEGORIES:Fitness Center hours
END:VEVENT
BEGIN:VEVENT
DTSTART;VALUE=DATE:20270216
DTEND;VALUE=DATE:20270217
DTSTAMP:20260421T161350
CREATED:20210416T141508Z
LAST-MODIFIED:20250307T185055Z
UID:10055420-1802736000-1802822399@machias.edu
SUMMARY:Fitness Center open 6 a.m.–7 p.m.
DESCRIPTION:Facility Hours & Events
URL:https://machias.edu/event/6-a-m-7-p-m-2022-07-01/2027-02-16/
CATEGORIES:Fitness Center hours
END:VEVENT
BEGIN:VEVENT
DTSTART;VALUE=DATE:20270217
DTEND;VALUE=DATE:20270218
DTSTAMP:20260421T161350
CREATED:20210416T141508Z
LAST-MODIFIED:20250307T185055Z
UID:10055423-1802822400-1802908799@machias.edu
SUMMARY:Fitness Center open 6 a.m.–7 p.m.
DESCRIPTION:Facility Hours & Events
URL:https://machias.edu/event/6-a-m-7-p-m-2022-07-01/2027-02-17/
CATEGORIES:Fitness Center hours
END:VEVENT
BEGIN:VEVENT
DTSTART;VALUE=DATE:20270218
DTEND;VALUE=DATE:20270219
DTSTAMP:20260421T161350
CREATED:20210416T141508Z
LAST-MODIFIED:20250307T185055Z
UID:10055426-1802908800-1802995199@machias.edu
SUMMARY:Fitness Center open 6 a.m.–7 p.m.
DESCRIPTION:Facility Hours & Events
URL:https://machias.edu/event/6-a-m-7-p-m-2022-07-01/2027-02-18/
CATEGORIES:Fitness Center hours
END:VEVENT
BEGIN:VEVENT
DTSTART;VALUE=DATE:20270219
DTEND;VALUE=DATE:20270220
DTSTAMP:20260421T161350
CREATED:20210416T141508Z
LAST-MODIFIED:20250307T185055Z
UID:10055429-1802995200-1803081599@machias.edu
SUMMARY:Fitness Center open 6 a.m.–7 p.m.
DESCRIPTION:Facility Hours & Events
URL:https://machias.edu/event/6-a-m-7-p-m-2022-07-01/2027-02-19/
CATEGORIES:Fitness Center hours
END:VEVENT
BEGIN:VEVENT
DTSTART;VALUE=DATE:20270220
DTEND;VALUE=DATE:20270221
DTSTAMP:20260421T161350
CREATED:20241007T155019Z
LAST-MODIFIED:20241007T160708Z
UID:10082808-1803081600-1803167999@machias.edu
SUMMARY:Reynolds/Fitness Center Open 9am-3pm
DESCRIPTION:
URL:https://machias.edu/event/reynolds-fitness-center-open-9am-3pm-2/2027-02-20/
CATEGORIES:Fitness Center hours
END:VEVENT
END:VCALENDAR