BEGIN:VCALENDAR
VERSION:2.0
PRODID:-//University of Maine at Machias - ECPv6.15.17.1//NONSGML v1.0//EN
CALSCALE:GREGORIAN
METHOD:PUBLISH
X-ORIGINAL-URL:https://machias.edu
X-WR-CALDESC:Events for University of Maine at Machias
REFRESH-INTERVAL;VALUE=DURATION:PT1H
X-Robots-Tag:noindex
X-PUBLISHED-TTL:PT1H
BEGIN:VTIMEZONE
TZID:America/New_York
BEGIN:DAYLIGHT
TZOFFSETFROM:-0500
TZOFFSETTO:-0400
TZNAME:EDT
DTSTART:20220313T070000
END:DAYLIGHT
BEGIN:STANDARD
TZOFFSETFROM:-0400
TZOFFSETTO:-0500
TZNAME:EST
DTSTART:20221106T060000
END:STANDARD
BEGIN:DAYLIGHT
TZOFFSETFROM:-0500
TZOFFSETTO:-0400
TZNAME:EDT
DTSTART:20230312T070000
END:DAYLIGHT
BEGIN:STANDARD
TZOFFSETFROM:-0400
TZOFFSETTO:-0500
TZNAME:EST
DTSTART:20231105T060000
END:STANDARD
BEGIN:DAYLIGHT
TZOFFSETFROM:-0500
TZOFFSETTO:-0400
TZNAME:EDT
DTSTART:20240310T070000
END:DAYLIGHT
BEGIN:STANDARD
TZOFFSETFROM:-0400
TZOFFSETTO:-0500
TZNAME:EST
DTSTART:20241103T060000
END:STANDARD
END:VTIMEZONE
BEGIN:VEVENT
DTSTART;VALUE=DATE:20231224
DTEND;VALUE=DATE:20231225
DTSTAMP:20260419T195247
CREATED:20230925T000454Z
LAST-MODIFIED:20231224T064001Z
UID:10079687-1703376000-1703462399@machias.edu
SUMMARY:Library closed
DESCRIPTION:
URL:https://machias.edu/event/library-closed-246/
CATEGORIES:Merrill Library
END:VEVENT
BEGIN:VEVENT
DTSTART;VALUE=DATE:20231225
DTEND;VALUE=DATE:20231226
DTSTAMP:20260419T195247
CREATED:20210416T141508Z
LAST-MODIFIED:20250307T185055Z
UID:10052954-1703462400-1703548799@machias.edu
SUMMARY:Fitness Center open 6 a.m.–7 p.m.
DESCRIPTION:Facility Hours & Events
URL:https://machias.edu/event/6-a-m-7-p-m-2022-07-01/2023-12-25/
CATEGORIES:Fitness Center hours
END:VEVENT
BEGIN:VEVENT
DTSTART;VALUE=DATE:20231225
DTEND;VALUE=DATE:20231226
DTSTAMP:20260419T195247
CREATED:20230926T000351Z
LAST-MODIFIED:20231225T065517Z
UID:10079690-1703462400-1703548799@machias.edu
SUMMARY:Library closed
DESCRIPTION:
URL:https://machias.edu/event/library-closed-247/
CATEGORIES:Merrill Library
END:VEVENT
BEGIN:VEVENT
DTSTART;VALUE=DATE:20231226
DTEND;VALUE=DATE:20231227
DTSTAMP:20260419T195247
CREATED:20210416T141508Z
LAST-MODIFIED:20250307T185055Z
UID:10052957-1703548800-1703635199@machias.edu
SUMMARY:Fitness Center open 6 a.m.–7 p.m.
DESCRIPTION:Facility Hours & Events
URL:https://machias.edu/event/6-a-m-7-p-m-2022-07-01/2023-12-26/
CATEGORIES:Fitness Center hours
END:VEVENT
BEGIN:VEVENT
DTSTART;VALUE=DATE:20231226
DTEND;VALUE=DATE:20231227
DTSTAMP:20260419T195247
CREATED:20230927T000840Z
LAST-MODIFIED:20231226T071000Z
UID:10079693-1703548800-1703635199@machias.edu
SUMMARY:Library closed
DESCRIPTION:
URL:https://machias.edu/event/library-closed-248/
CATEGORIES:Merrill Library
END:VEVENT
BEGIN:VEVENT
DTSTART;VALUE=DATE:20231227
DTEND;VALUE=DATE:20231228
DTSTAMP:20260419T195247
CREATED:20210416T141508Z
LAST-MODIFIED:20250307T185055Z
UID:10052960-1703635200-1703721599@machias.edu
SUMMARY:Fitness Center open 6 a.m.–7 p.m.
DESCRIPTION:Facility Hours & Events
URL:https://machias.edu/event/6-a-m-7-p-m-2022-07-01/2023-12-27/
CATEGORIES:Fitness Center hours
END:VEVENT
BEGIN:VEVENT
DTSTART;VALUE=DATE:20231227
DTEND;VALUE=DATE:20231228
DTSTAMP:20260419T195247
CREATED:20230928T002144Z
LAST-MODIFIED:20231227T070927Z
UID:10079696-1703635200-1703721599@machias.edu
SUMMARY:Library closed
DESCRIPTION:
URL:https://machias.edu/event/library-closed-249/
CATEGORIES:Merrill Library
END:VEVENT
BEGIN:VEVENT
DTSTART;VALUE=DATE:20231228
DTEND;VALUE=DATE:20231229
DTSTAMP:20260419T195247
CREATED:20210416T141508Z
LAST-MODIFIED:20250307T185055Z
UID:10052963-1703721600-1703807999@machias.edu
SUMMARY:Fitness Center open 6 a.m.–7 p.m.
DESCRIPTION:Facility Hours & Events
URL:https://machias.edu/event/6-a-m-7-p-m-2022-07-01/2023-12-28/
CATEGORIES:Fitness Center hours
END:VEVENT
BEGIN:VEVENT
DTSTART;VALUE=DATE:20231228
DTEND;VALUE=DATE:20231229
DTSTAMP:20260419T195247
CREATED:20230929T003610Z
LAST-MODIFIED:20231228T070943Z
UID:10079699-1703721600-1703807999@machias.edu
SUMMARY:Library closed
DESCRIPTION:
URL:https://machias.edu/event/library-closed-250/
CATEGORIES:Merrill Library
END:VEVENT
BEGIN:VEVENT
DTSTART;VALUE=DATE:20231229
DTEND;VALUE=DATE:20231230
DTSTAMP:20260419T195247
CREATED:20210416T141508Z
LAST-MODIFIED:20250307T185055Z
UID:10052966-1703808000-1703894399@machias.edu
SUMMARY:Fitness Center open 6 a.m.–7 p.m.
DESCRIPTION:Facility Hours & Events
URL:https://machias.edu/event/6-a-m-7-p-m-2022-07-01/2023-12-29/
CATEGORIES:Fitness Center hours
END:VEVENT
BEGIN:VEVENT
DTSTART;VALUE=DATE:20231229
DTEND;VALUE=DATE:20231230
DTSTAMP:20260419T195247
CREATED:20230930T003622Z
LAST-MODIFIED:20231229T071149Z
UID:10079702-1703808000-1703894399@machias.edu
SUMMARY:Library closed
DESCRIPTION:
URL:https://machias.edu/event/library-closed-251/
CATEGORIES:Merrill Library
END:VEVENT
BEGIN:VEVENT
DTSTART;VALUE=DATE:20231230
DTEND;VALUE=DATE:20231231
DTSTAMP:20260419T195247
CREATED:20231001T003616Z
LAST-MODIFIED:20231230T072810Z
UID:10079722-1703894400-1703980799@machias.edu
SUMMARY:Library closed
DESCRIPTION:
URL:https://machias.edu/event/library-closed-252/
CATEGORIES:Merrill Library
END:VEVENT
END:VCALENDAR