BEGIN:VCALENDAR
VERSION:2.0
PRODID:-//University of Maine at Machias - ECPv6.15.17.1//NONSGML v1.0//EN
CALSCALE:GREGORIAN
METHOD:PUBLISH
X-WR-CALNAME:University of Maine at Machias
X-ORIGINAL-URL:https://machias.edu
X-WR-CALDESC:Events for University of Maine at Machias
REFRESH-INTERVAL;VALUE=DURATION:PT1H
X-Robots-Tag:noindex
X-PUBLISHED-TTL:PT1H
BEGIN:VTIMEZONE
TZID:America/New_York
BEGIN:DAYLIGHT
TZOFFSETFROM:-0500
TZOFFSETTO:-0400
TZNAME:EDT
DTSTART:20210314T070000
END:DAYLIGHT
BEGIN:STANDARD
TZOFFSETFROM:-0400
TZOFFSETTO:-0500
TZNAME:EST
DTSTART:20211107T060000
END:STANDARD
BEGIN:DAYLIGHT
TZOFFSETFROM:-0500
TZOFFSETTO:-0400
TZNAME:EDT
DTSTART:20220313T070000
END:DAYLIGHT
BEGIN:STANDARD
TZOFFSETFROM:-0400
TZOFFSETTO:-0500
TZNAME:EST
DTSTART:20221106T060000
END:STANDARD
BEGIN:DAYLIGHT
TZOFFSETFROM:-0500
TZOFFSETTO:-0400
TZNAME:EDT
DTSTART:20230312T070000
END:DAYLIGHT
BEGIN:STANDARD
TZOFFSETFROM:-0400
TZOFFSETTO:-0500
TZNAME:EST
DTSTART:20231105T060000
END:STANDARD
END:VTIMEZONE
BEGIN:VEVENT
DTSTART;VALUE=DATE:20220904
DTEND;VALUE=DATE:20220905
DTSTAMP:20260424T074130
CREATED:20220819T005835Z
LAST-MODIFIED:20220819T005835Z
UID:10078322-1662249600-1662335999@machias.edu
SUMMARY:Last day to add classes
DESCRIPTION:
URL:https://machias.edu/event/last-day-to-add-classes-7/
CATEGORIES:Academic Calendar
END:VEVENT
BEGIN:VEVENT
DTSTART;TZID=America/New_York:20220904T140000
DTEND;TZID=America/New_York:20220904T200000
DTSTAMP:20260424T074130
CREATED:20220812T073607Z
LAST-MODIFIED:20220904T113115Z
UID:10078121-1662300000-1662321600@machias.edu
SUMMARY:Library open 2pm - 8pm
DESCRIPTION:
URL:https://machias.edu/event/library-open-2pm-8pm-20/
CATEGORIES:Merrill Library
END:VEVENT
BEGIN:VEVENT
DTSTART;VALUE=DATE:20220905
DTEND;VALUE=DATE:20220906
DTSTAMP:20260424T074130
CREATED:20210416T141508Z
LAST-MODIFIED:20250307T185055Z
UID:10051934-1662336000-1662422399@machias.edu
SUMMARY:Fitness Center open 6 a.m.–7 p.m.
DESCRIPTION:Facility Hours & Events
URL:https://machias.edu/event/6-a-m-7-p-m-2022-07-01/2022-09-05/
CATEGORIES:Fitness Center hours
END:VEVENT
BEGIN:VEVENT
DTSTART;VALUE=DATE:20220905
DTEND;VALUE=DATE:20220906
DTSTAMP:20260424T074130
CREATED:20220607T215258Z
LAST-MODIFIED:20220811T072722Z
UID:10075207-1662336000-1662422399@machias.edu
SUMMARY:Library closed
DESCRIPTION:
URL:https://machias.edu/event/library-closed-163/
CATEGORIES:Merrill Library
END:VEVENT
BEGIN:VEVENT
DTSTART;VALUE=DATE:20220905
DTEND;VALUE=DATE:20220906
DTSTAMP:20260424T074130
CREATED:20220819T010001Z
LAST-MODIFIED:20220819T010001Z
UID:10078325-1662336000-1662422399@machias.edu
SUMMARY:No classes - Labor Day
DESCRIPTION:
URL:https://machias.edu/event/no-classes-labor-day/
CATEGORIES:Academic Calendar
END:VEVENT
BEGIN:VEVENT
DTSTART;TZID=America/New_York:20220905T080000
DTEND;TZID=America/New_York:20220905T163000
DTSTAMP:20260424T074130
CREATED:20220812T073608Z
LAST-MODIFIED:20220905T113612Z
UID:10078124-1662364800-1662395400@machias.edu
SUMMARY:Library open 8am - 4:30pm FOR REAL
DESCRIPTION:
URL:https://machias.edu/event/library-open-8am-430pm-95/
CATEGORIES:Merrill Library
END:VEVENT
BEGIN:VEVENT
DTSTART;VALUE=DATE:20220906
DTEND;VALUE=DATE:20220907
DTSTAMP:20260424T074130
CREATED:20210416T141508Z
LAST-MODIFIED:20250307T185055Z
UID:10051937-1662422400-1662508799@machias.edu
SUMMARY:Fitness Center open 6 a.m.–7 p.m.
DESCRIPTION:Facility Hours & Events
URL:https://machias.edu/event/6-a-m-7-p-m-2022-07-01/2022-09-06/
CATEGORIES:Fitness Center hours
END:VEVENT
BEGIN:VEVENT
DTSTART;TZID=America/New_York:20220906T080000
DTEND;TZID=America/New_York:20220906T220000
DTSTAMP:20260424T074130
CREATED:20220812T073608Z
LAST-MODIFIED:20220906T113907Z
UID:10078127-1662451200-1662501600@machias.edu
SUMMARY:Library open 8am - 10pm
DESCRIPTION:
URL:https://machias.edu/event/library-open-8am-10pm-154/
CATEGORIES:Merrill Library
END:VEVENT
BEGIN:VEVENT
DTSTART;VALUE=DATE:20220907
DTEND;VALUE=DATE:20220908
DTSTAMP:20260424T074130
CREATED:20210416T141508Z
LAST-MODIFIED:20250307T185055Z
UID:10051940-1662508800-1662595199@machias.edu
SUMMARY:Fitness Center open 6 a.m.–7 p.m.
DESCRIPTION:Facility Hours & Events
URL:https://machias.edu/event/6-a-m-7-p-m-2022-07-01/2022-09-07/
CATEGORIES:Fitness Center hours
END:VEVENT
BEGIN:VEVENT
DTSTART;TZID=America/New_York:20220907T080000
DTEND;TZID=America/New_York:20220907T220000
DTSTAMP:20260424T074130
CREATED:20220812T073608Z
LAST-MODIFIED:20220907T114111Z
UID:10078130-1662537600-1662588000@machias.edu
SUMMARY:Library open 8am - 10pm
DESCRIPTION:
URL:https://machias.edu/event/library-open-8am-10pm-155/
CATEGORIES:Merrill Library
END:VEVENT
BEGIN:VEVENT
DTSTART;VALUE=DATE:20220908
DTEND;VALUE=DATE:20220909
DTSTAMP:20260424T074130
CREATED:20210416T141508Z
LAST-MODIFIED:20250307T185055Z
UID:10051943-1662595200-1662681599@machias.edu
SUMMARY:Fitness Center open 6 a.m.–7 p.m.
DESCRIPTION:Facility Hours & Events
URL:https://machias.edu/event/6-a-m-7-p-m-2022-07-01/2022-09-08/
CATEGORIES:Fitness Center hours
END:VEVENT
BEGIN:VEVENT
DTSTART;TZID=America/New_York:20220908T080000
DTEND;TZID=America/New_York:20220908T220000
DTSTAMP:20260424T074130
CREATED:20220812T073608Z
LAST-MODIFIED:20220907T114111Z
UID:10078133-1662624000-1662674400@machias.edu
SUMMARY:Library open 8am - 10pm
DESCRIPTION:
URL:https://machias.edu/event/library-open-8am-10pm-156/
CATEGORIES:Merrill Library
END:VEVENT
BEGIN:VEVENT
DTSTART;VALUE=DATE:20220909
DTEND;VALUE=DATE:20220910
DTSTAMP:20260424T074130
CREATED:20210416T141508Z
LAST-MODIFIED:20250307T185055Z
UID:10051946-1662681600-1662767999@machias.edu
SUMMARY:Fitness Center open 6 a.m.–7 p.m.
DESCRIPTION:Facility Hours & Events
URL:https://machias.edu/event/6-a-m-7-p-m-2022-07-01/2022-09-09/
CATEGORIES:Fitness Center hours
END:VEVENT
BEGIN:VEVENT
DTSTART;TZID=America/New_York:20220909T080000
DTEND;TZID=America/New_York:20220909T170000
DTSTAMP:20260424T074130
CREATED:20220812T073608Z
LAST-MODIFIED:20220909T120110Z
UID:10078136-1662710400-1662742800@machias.edu
SUMMARY:Library open 8am - 5pm
DESCRIPTION:
URL:https://machias.edu/event/library-open-8am-5pm-47/
CATEGORIES:Merrill Library
END:VEVENT
BEGIN:VEVENT
DTSTART;TZID=America/New_York:20220910T140000
DTEND;TZID=America/New_York:20220910T180000
DTSTAMP:20260424T074130
CREATED:20220812T073608Z
LAST-MODIFIED:20220910T121435Z
UID:10078139-1662818400-1662832800@machias.edu
SUMMARY:Library open 2pm - 6pm
DESCRIPTION:
URL:https://machias.edu/event/library-open-2pm-6pm-18/
CATEGORIES:Merrill Library
END:VEVENT
END:VCALENDAR