BEGIN:VCALENDAR
VERSION:2.0
PRODID:-//University of Maine at Machias - ECPv6.15.17.1//NONSGML v1.0//EN
CALSCALE:GREGORIAN
METHOD:PUBLISH
X-ORIGINAL-URL:https://machias.edu
X-WR-CALDESC:Events for University of Maine at Machias
REFRESH-INTERVAL;VALUE=DURATION:PT1H
X-Robots-Tag:noindex
X-PUBLISHED-TTL:PT1H
BEGIN:VTIMEZONE
TZID:America/New_York
BEGIN:DAYLIGHT
TZOFFSETFROM:-0500
TZOFFSETTO:-0400
TZNAME:EDT
DTSTART:20210314T070000
END:DAYLIGHT
BEGIN:STANDARD
TZOFFSETFROM:-0400
TZOFFSETTO:-0500
TZNAME:EST
DTSTART:20211107T060000
END:STANDARD
BEGIN:DAYLIGHT
TZOFFSETFROM:-0500
TZOFFSETTO:-0400
TZNAME:EDT
DTSTART:20220313T070000
END:DAYLIGHT
BEGIN:STANDARD
TZOFFSETFROM:-0400
TZOFFSETTO:-0500
TZNAME:EST
DTSTART:20221106T060000
END:STANDARD
BEGIN:DAYLIGHT
TZOFFSETFROM:-0500
TZOFFSETTO:-0400
TZNAME:EDT
DTSTART:20230312T070000
END:DAYLIGHT
BEGIN:STANDARD
TZOFFSETFROM:-0400
TZOFFSETTO:-0500
TZNAME:EST
DTSTART:20231105T060000
END:STANDARD
END:VTIMEZONE
BEGIN:VEVENT
DTSTART;TZID=America/New_York:20220110T070000
DTEND;TZID=America/New_York:20220110T090000
DTSTAMP:20260423T051511
CREATED:20210902T200333Z
LAST-MODIFIED:20220719T152231Z
UID:10075658-1641798000-1641805200@machias.edu
SUMMARY:Pool Open 7:00 a.m.-9:00 a.m.
DESCRIPTION:
URL:https://machias.edu/event/pool-open-133/2022-01-10/
LOCATION:Reynolds Center
CATEGORIES:Pool
END:VEVENT
BEGIN:VEVENT
DTSTART;TZID=America/New_York:20220110T110000
DTEND;TZID=America/New_York:20220110T140000
DTSTAMP:20260423T051511
CREATED:20210902T201532Z
LAST-MODIFIED:20210903T130449Z
UID:10063190-1641812400-1641823200@machias.edu
SUMMARY:11:00 a.m.-2:00 p.m.
DESCRIPTION:
URL:https://machias.edu/event/pool-open-134/2022-01-10/
LOCATION:Reynolds Center
CATEGORIES:Pool
END:VEVENT
BEGIN:VEVENT
DTSTART;TZID=America/New_York:20220110T160000
DTEND;TZID=America/New_York:20220110T180000
DTSTAMP:20260423T051511
CREATED:20210902T202821Z
LAST-MODIFIED:20210903T125314Z
UID:10063694-1641830400-1641837600@machias.edu
SUMMARY:4:00 p.m.-6:00 p.m.
DESCRIPTION:
URL:https://machias.edu/event/pool-open-135/2022-01-10/
LOCATION:Reynolds Center
CATEGORIES:Pool
END:VEVENT
BEGIN:VEVENT
DTSTART;TZID=America/New_York:20220112T070000
DTEND;TZID=America/New_York:20220112T090000
DTSTAMP:20260423T051511
CREATED:20210902T200333Z
LAST-MODIFIED:20220719T152231Z
UID:10075661-1641970800-1641978000@machias.edu
SUMMARY:Pool Open 7:00 a.m.-9:00 a.m.
DESCRIPTION:
URL:https://machias.edu/event/pool-open-133/2022-01-12/
LOCATION:Reynolds Center
CATEGORIES:Pool
END:VEVENT
BEGIN:VEVENT
DTSTART;TZID=America/New_York:20220112T110000
DTEND;TZID=America/New_York:20220112T140000
DTSTAMP:20260423T051511
CREATED:20210902T201532Z
LAST-MODIFIED:20210903T130449Z
UID:10063193-1641985200-1641996000@machias.edu
SUMMARY:11:00 a.m.-2:00 p.m.
DESCRIPTION:
URL:https://machias.edu/event/pool-open-134/2022-01-12/
LOCATION:Reynolds Center
CATEGORIES:Pool
END:VEVENT
BEGIN:VEVENT
DTSTART;TZID=America/New_York:20220112T160000
DTEND;TZID=America/New_York:20220112T180000
DTSTAMP:20260423T051511
CREATED:20210902T202821Z
LAST-MODIFIED:20210903T125314Z
UID:10063697-1642003200-1642010400@machias.edu
SUMMARY:4:00 p.m.-6:00 p.m.
DESCRIPTION:
URL:https://machias.edu/event/pool-open-135/2022-01-12/
LOCATION:Reynolds Center
CATEGORIES:Pool
END:VEVENT
BEGIN:VEVENT
DTSTART;TZID=America/New_York:20220114T070000
DTEND;TZID=America/New_York:20220114T090000
DTSTAMP:20260423T051511
CREATED:20210902T200333Z
LAST-MODIFIED:20220719T152231Z
UID:10075664-1642143600-1642150800@machias.edu
SUMMARY:Pool Open 7:00 a.m.-9:00 a.m.
DESCRIPTION:
URL:https://machias.edu/event/pool-open-133/2022-01-14/
LOCATION:Reynolds Center
CATEGORIES:Pool
END:VEVENT
BEGIN:VEVENT
DTSTART;TZID=America/New_York:20220114T110000
DTEND;TZID=America/New_York:20220114T140000
DTSTAMP:20260423T051511
CREATED:20210902T201532Z
LAST-MODIFIED:20210903T130449Z
UID:10063196-1642158000-1642168800@machias.edu
SUMMARY:11:00 a.m.-2:00 p.m.
DESCRIPTION:
URL:https://machias.edu/event/pool-open-134/2022-01-14/
LOCATION:Reynolds Center
CATEGORIES:Pool
END:VEVENT
BEGIN:VEVENT
DTSTART;TZID=America/New_York:20220114T160000
DTEND;TZID=America/New_York:20220114T180000
DTSTAMP:20260423T051511
CREATED:20210902T202821Z
LAST-MODIFIED:20210903T125314Z
UID:10063700-1642176000-1642183200@machias.edu
SUMMARY:4:00 p.m.-6:00 p.m.
DESCRIPTION:
URL:https://machias.edu/event/pool-open-135/2022-01-14/
LOCATION:Reynolds Center
CATEGORIES:Pool
END:VEVENT
BEGIN:VEVENT
DTSTART;TZID=America/New_York:20220115T110000
DTEND;TZID=America/New_York:20220115T140000
DTSTAMP:20260423T051511
CREATED:20210902T201532Z
LAST-MODIFIED:20210903T130449Z
UID:10063199-1642244400-1642255200@machias.edu
SUMMARY:11:00 a.m.-2:00 p.m.
DESCRIPTION:
URL:https://machias.edu/event/pool-open-134/2022-01-15/
LOCATION:Reynolds Center
CATEGORIES:Pool
END:VEVENT
END:VCALENDAR