BEGIN:VCALENDAR
VERSION:2.0
PRODID:-//University of Maine at Machias - ECPv6.15.17.1//NONSGML v1.0//EN
CALSCALE:GREGORIAN
METHOD:PUBLISH
X-ORIGINAL-URL:https://machias.edu
X-WR-CALDESC:Events for University of Maine at Machias
REFRESH-INTERVAL;VALUE=DURATION:PT1H
X-Robots-Tag:noindex
X-PUBLISHED-TTL:PT1H
BEGIN:VTIMEZONE
TZID:America/New_York
BEGIN:DAYLIGHT
TZOFFSETFROM:-0500
TZOFFSETTO:-0400
TZNAME:EDT
DTSTART:20200308T070000
END:DAYLIGHT
BEGIN:STANDARD
TZOFFSETFROM:-0400
TZOFFSETTO:-0500
TZNAME:EST
DTSTART:20201101T060000
END:STANDARD
BEGIN:DAYLIGHT
TZOFFSETFROM:-0500
TZOFFSETTO:-0400
TZNAME:EDT
DTSTART:20210314T070000
END:DAYLIGHT
BEGIN:STANDARD
TZOFFSETFROM:-0400
TZOFFSETTO:-0500
TZNAME:EST
DTSTART:20211107T060000
END:STANDARD
BEGIN:DAYLIGHT
TZOFFSETFROM:-0500
TZOFFSETTO:-0400
TZNAME:EDT
DTSTART:20220313T070000
END:DAYLIGHT
BEGIN:STANDARD
TZOFFSETFROM:-0400
TZOFFSETTO:-0500
TZNAME:EST
DTSTART:20221106T060000
END:STANDARD
END:VTIMEZONE
BEGIN:VEVENT
DTSTART;TZID=America/New_York:20211220T070000
DTEND;TZID=America/New_York:20211220T090000
DTSTAMP:20260422T034518
CREATED:20210902T200333Z
LAST-MODIFIED:20220719T152231Z
UID:10075631-1639983600-1639990800@machias.edu
SUMMARY:Pool Open 7:00 a.m.-9:00 a.m.
DESCRIPTION:
URL:https://machias.edu/event/pool-open-133/2021-12-20/
LOCATION:Reynolds Center
CATEGORIES:Pool
END:VEVENT
BEGIN:VEVENT
DTSTART;TZID=America/New_York:20211220T110000
DTEND;TZID=America/New_York:20211220T140000
DTSTAMP:20260422T034518
CREATED:20210902T201532Z
LAST-MODIFIED:20210903T130449Z
UID:10063154-1639998000-1640008800@machias.edu
SUMMARY:11:00 a.m.-2:00 p.m.
DESCRIPTION:
URL:https://machias.edu/event/pool-open-134/2021-12-20/
LOCATION:Reynolds Center
CATEGORIES:Pool
END:VEVENT
BEGIN:VEVENT
DTSTART;TZID=America/New_York:20211220T160000
DTEND;TZID=America/New_York:20211220T180000
DTSTAMP:20260422T034518
CREATED:20210902T202821Z
LAST-MODIFIED:20210903T125314Z
UID:10063667-1640016000-1640023200@machias.edu
SUMMARY:4:00 p.m.-6:00 p.m.
DESCRIPTION:
URL:https://machias.edu/event/pool-open-135/2021-12-20/
LOCATION:Reynolds Center
CATEGORIES:Pool
END:VEVENT
BEGIN:VEVENT
DTSTART;TZID=America/New_York:20211222T070000
DTEND;TZID=America/New_York:20211222T090000
DTSTAMP:20260422T034518
CREATED:20210902T200333Z
LAST-MODIFIED:20220719T152231Z
UID:10075634-1640156400-1640163600@machias.edu
SUMMARY:Pool Open 7:00 a.m.-9:00 a.m.
DESCRIPTION:
URL:https://machias.edu/event/pool-open-133/2021-12-22/
LOCATION:Reynolds Center
CATEGORIES:Pool
END:VEVENT
BEGIN:VEVENT
DTSTART;TZID=America/New_York:20211222T110000
DTEND;TZID=America/New_York:20211222T140000
DTSTAMP:20260422T034518
CREATED:20210902T201532Z
LAST-MODIFIED:20210903T130449Z
UID:10063157-1640170800-1640181600@machias.edu
SUMMARY:11:00 a.m.-2:00 p.m.
DESCRIPTION:
URL:https://machias.edu/event/pool-open-134/2021-12-22/
LOCATION:Reynolds Center
CATEGORIES:Pool
END:VEVENT
BEGIN:VEVENT
DTSTART;TZID=America/New_York:20211222T160000
DTEND;TZID=America/New_York:20211222T180000
DTSTAMP:20260422T034518
CREATED:20210902T202821Z
LAST-MODIFIED:20210903T125314Z
UID:10063670-1640188800-1640196000@machias.edu
SUMMARY:4:00 p.m.-6:00 p.m.
DESCRIPTION:
URL:https://machias.edu/event/pool-open-135/2021-12-22/
LOCATION:Reynolds Center
CATEGORIES:Pool
END:VEVENT
BEGIN:VEVENT
DTSTART;TZID=America/New_York:20211224T070000
DTEND;TZID=America/New_York:20211224T090000
DTSTAMP:20260422T034518
CREATED:20210902T200333Z
LAST-MODIFIED:20220719T152231Z
UID:10075637-1640329200-1640336400@machias.edu
SUMMARY:Pool Open 7:00 a.m.-9:00 a.m.
DESCRIPTION:
URL:https://machias.edu/event/pool-open-133/2021-12-24/
LOCATION:Reynolds Center
CATEGORIES:Pool
END:VEVENT
BEGIN:VEVENT
DTSTART;TZID=America/New_York:20211224T110000
DTEND;TZID=America/New_York:20211224T140000
DTSTAMP:20260422T034518
CREATED:20210902T201532Z
LAST-MODIFIED:20210903T130449Z
UID:10063160-1640343600-1640354400@machias.edu
SUMMARY:11:00 a.m.-2:00 p.m.
DESCRIPTION:
URL:https://machias.edu/event/pool-open-134/2021-12-24/
LOCATION:Reynolds Center
CATEGORIES:Pool
END:VEVENT
BEGIN:VEVENT
DTSTART;TZID=America/New_York:20211224T160000
DTEND;TZID=America/New_York:20211224T180000
DTSTAMP:20260422T034518
CREATED:20210902T202821Z
LAST-MODIFIED:20210903T125314Z
UID:10063673-1640361600-1640368800@machias.edu
SUMMARY:4:00 p.m.-6:00 p.m.
DESCRIPTION:
URL:https://machias.edu/event/pool-open-135/2021-12-24/
LOCATION:Reynolds Center
CATEGORIES:Pool
END:VEVENT
BEGIN:VEVENT
DTSTART;TZID=America/New_York:20211225T110000
DTEND;TZID=America/New_York:20211225T140000
DTSTAMP:20260422T034518
CREATED:20210902T201532Z
LAST-MODIFIED:20210903T130449Z
UID:10063163-1640430000-1640440800@machias.edu
SUMMARY:11:00 a.m.-2:00 p.m.
DESCRIPTION:
URL:https://machias.edu/event/pool-open-134/2021-12-25/
LOCATION:Reynolds Center
CATEGORIES:Pool
END:VEVENT
END:VCALENDAR