BEGIN:VCALENDAR
VERSION:2.0
PRODID:-//University of Maine at Machias - ECPv6.15.17.1//NONSGML v1.0//EN
CALSCALE:GREGORIAN
METHOD:PUBLISH
X-WR-CALNAME:University of Maine at Machias
X-ORIGINAL-URL:https://machias.edu
X-WR-CALDESC:Events for University of Maine at Machias
REFRESH-INTERVAL;VALUE=DURATION:PT1H
X-Robots-Tag:noindex
X-PUBLISHED-TTL:PT1H
BEGIN:VTIMEZONE
TZID:America/New_York
BEGIN:DAYLIGHT
TZOFFSETFROM:-0500
TZOFFSETTO:-0400
TZNAME:EDT
DTSTART:20200308T070000
END:DAYLIGHT
BEGIN:STANDARD
TZOFFSETFROM:-0400
TZOFFSETTO:-0500
TZNAME:EST
DTSTART:20201101T060000
END:STANDARD
BEGIN:DAYLIGHT
TZOFFSETFROM:-0500
TZOFFSETTO:-0400
TZNAME:EDT
DTSTART:20210314T070000
END:DAYLIGHT
BEGIN:STANDARD
TZOFFSETFROM:-0400
TZOFFSETTO:-0500
TZNAME:EST
DTSTART:20211107T060000
END:STANDARD
BEGIN:DAYLIGHT
TZOFFSETFROM:-0500
TZOFFSETTO:-0400
TZNAME:EDT
DTSTART:20220313T070000
END:DAYLIGHT
BEGIN:STANDARD
TZOFFSETFROM:-0400
TZOFFSETTO:-0500
TZNAME:EST
DTSTART:20221106T060000
END:STANDARD
END:VTIMEZONE
BEGIN:VEVENT
DTSTART;TZID=America/New_York:20211213T070000
DTEND;TZID=America/New_York:20211213T090000
DTSTAMP:20260422T033715
CREATED:20210902T200333Z
LAST-MODIFIED:20220719T152231Z
UID:10075622-1639378800-1639386000@machias.edu
SUMMARY:Pool Open 7:00 a.m.-9:00 a.m.
DESCRIPTION:
URL:https://machias.edu/event/pool-open-133/2021-12-13/
LOCATION:Reynolds Center
CATEGORIES:Pool
END:VEVENT
BEGIN:VEVENT
DTSTART;TZID=America/New_York:20211213T110000
DTEND;TZID=America/New_York:20211213T140000
DTSTAMP:20260422T033715
CREATED:20210902T201532Z
LAST-MODIFIED:20210903T130449Z
UID:10063142-1639393200-1639404000@machias.edu
SUMMARY:11:00 a.m.-2:00 p.m.
DESCRIPTION:
URL:https://machias.edu/event/pool-open-134/2021-12-13/
LOCATION:Reynolds Center
CATEGORIES:Pool
END:VEVENT
BEGIN:VEVENT
DTSTART;TZID=America/New_York:20211213T160000
DTEND;TZID=America/New_York:20211213T180000
DTSTAMP:20260422T033715
CREATED:20210902T202821Z
LAST-MODIFIED:20210903T125314Z
UID:10063658-1639411200-1639418400@machias.edu
SUMMARY:4:00 p.m.-6:00 p.m.
DESCRIPTION:
URL:https://machias.edu/event/pool-open-135/2021-12-13/
LOCATION:Reynolds Center
CATEGORIES:Pool
END:VEVENT
BEGIN:VEVENT
DTSTART;TZID=America/New_York:20211215T070000
DTEND;TZID=America/New_York:20211215T090000
DTSTAMP:20260422T033715
CREATED:20210902T200333Z
LAST-MODIFIED:20220719T152231Z
UID:10075625-1639551600-1639558800@machias.edu
SUMMARY:Pool Open 7:00 a.m.-9:00 a.m.
DESCRIPTION:
URL:https://machias.edu/event/pool-open-133/2021-12-15/
LOCATION:Reynolds Center
CATEGORIES:Pool
END:VEVENT
BEGIN:VEVENT
DTSTART;TZID=America/New_York:20211215T110000
DTEND;TZID=America/New_York:20211215T140000
DTSTAMP:20260422T033715
CREATED:20210902T201532Z
LAST-MODIFIED:20210903T130449Z
UID:10063145-1639566000-1639576800@machias.edu
SUMMARY:11:00 a.m.-2:00 p.m.
DESCRIPTION:
URL:https://machias.edu/event/pool-open-134/2021-12-15/
LOCATION:Reynolds Center
CATEGORIES:Pool
END:VEVENT
BEGIN:VEVENT
DTSTART;TZID=America/New_York:20211215T160000
DTEND;TZID=America/New_York:20211215T180000
DTSTAMP:20260422T033715
CREATED:20210902T202821Z
LAST-MODIFIED:20210903T125314Z
UID:10063661-1639584000-1639591200@machias.edu
SUMMARY:4:00 p.m.-6:00 p.m.
DESCRIPTION:
URL:https://machias.edu/event/pool-open-135/2021-12-15/
LOCATION:Reynolds Center
CATEGORIES:Pool
END:VEVENT
BEGIN:VEVENT
DTSTART;TZID=America/New_York:20211217T070000
DTEND;TZID=America/New_York:20211217T090000
DTSTAMP:20260422T033715
CREATED:20210902T200333Z
LAST-MODIFIED:20220719T152231Z
UID:10075628-1639724400-1639731600@machias.edu
SUMMARY:Pool Open 7:00 a.m.-9:00 a.m.
DESCRIPTION:
URL:https://machias.edu/event/pool-open-133/2021-12-17/
LOCATION:Reynolds Center
CATEGORIES:Pool
END:VEVENT
BEGIN:VEVENT
DTSTART;TZID=America/New_York:20211217T110000
DTEND;TZID=America/New_York:20211217T140000
DTSTAMP:20260422T033715
CREATED:20210902T201532Z
LAST-MODIFIED:20210903T130449Z
UID:10063148-1639738800-1639749600@machias.edu
SUMMARY:11:00 a.m.-2:00 p.m.
DESCRIPTION:
URL:https://machias.edu/event/pool-open-134/2021-12-17/
LOCATION:Reynolds Center
CATEGORIES:Pool
END:VEVENT
BEGIN:VEVENT
DTSTART;TZID=America/New_York:20211217T160000
DTEND;TZID=America/New_York:20211217T180000
DTSTAMP:20260422T033715
CREATED:20210902T202821Z
LAST-MODIFIED:20210903T125314Z
UID:10063664-1639756800-1639764000@machias.edu
SUMMARY:4:00 p.m.-6:00 p.m.
DESCRIPTION:
URL:https://machias.edu/event/pool-open-135/2021-12-17/
LOCATION:Reynolds Center
CATEGORIES:Pool
END:VEVENT
BEGIN:VEVENT
DTSTART;TZID=America/New_York:20211218T110000
DTEND;TZID=America/New_York:20211218T140000
DTSTAMP:20260422T033715
CREATED:20210902T201532Z
LAST-MODIFIED:20210903T130449Z
UID:10063151-1639825200-1639836000@machias.edu
SUMMARY:11:00 a.m.-2:00 p.m.
DESCRIPTION:
URL:https://machias.edu/event/pool-open-134/2021-12-18/
LOCATION:Reynolds Center
CATEGORIES:Pool
END:VEVENT
END:VCALENDAR