BEGIN:VCALENDAR
VERSION:2.0
PRODID:-//University of Maine at Machias - ECPv6.15.17.1//NONSGML v1.0//EN
CALSCALE:GREGORIAN
METHOD:PUBLISH
X-WR-CALNAME:University of Maine at Machias
X-ORIGINAL-URL:https://machias.edu
X-WR-CALDESC:Events for University of Maine at Machias
REFRESH-INTERVAL;VALUE=DURATION:PT1H
X-Robots-Tag:noindex
X-PUBLISHED-TTL:PT1H
BEGIN:VTIMEZONE
TZID:America/New_York
BEGIN:DAYLIGHT
TZOFFSETFROM:-0500
TZOFFSETTO:-0400
TZNAME:EDT
DTSTART:20200308T070000
END:DAYLIGHT
BEGIN:STANDARD
TZOFFSETFROM:-0400
TZOFFSETTO:-0500
TZNAME:EST
DTSTART:20201101T060000
END:STANDARD
BEGIN:DAYLIGHT
TZOFFSETFROM:-0500
TZOFFSETTO:-0400
TZNAME:EDT
DTSTART:20210314T070000
END:DAYLIGHT
BEGIN:STANDARD
TZOFFSETFROM:-0400
TZOFFSETTO:-0500
TZNAME:EST
DTSTART:20211107T060000
END:STANDARD
BEGIN:DAYLIGHT
TZOFFSETFROM:-0500
TZOFFSETTO:-0400
TZNAME:EDT
DTSTART:20220313T070000
END:DAYLIGHT
BEGIN:STANDARD
TZOFFSETFROM:-0400
TZOFFSETTO:-0500
TZNAME:EST
DTSTART:20221106T060000
END:STANDARD
END:VTIMEZONE
BEGIN:VEVENT
DTSTART;TZID=America/New_York:20211011T070000
DTEND;TZID=America/New_York:20211011T090000
DTSTAMP:20260424T072438
CREATED:20210902T200333Z
LAST-MODIFIED:20220719T152231Z
UID:10075541-1633935600-1633942800@machias.edu
SUMMARY:Pool Open 7:00 a.m.-9:00 a.m.
DESCRIPTION:
URL:https://machias.edu/event/pool-open-133/2021-10-11/
LOCATION:Reynolds Center
CATEGORIES:Pool
END:VEVENT
BEGIN:VEVENT
DTSTART;TZID=America/New_York:20211011T110000
DTEND;TZID=America/New_York:20211011T140000
DTSTAMP:20260424T072438
CREATED:20210902T201532Z
LAST-MODIFIED:20210903T130449Z
UID:10063034-1633950000-1633960800@machias.edu
SUMMARY:11:00 a.m.-2:00 p.m.
DESCRIPTION:
URL:https://machias.edu/event/pool-open-134/2021-10-11/
LOCATION:Reynolds Center
CATEGORIES:Pool
END:VEVENT
BEGIN:VEVENT
DTSTART;TZID=America/New_York:20211011T160000
DTEND;TZID=America/New_York:20211011T180000
DTSTAMP:20260424T072438
CREATED:20210902T202821Z
LAST-MODIFIED:20210903T125314Z
UID:10063577-1633968000-1633975200@machias.edu
SUMMARY:4:00 p.m.-6:00 p.m.
DESCRIPTION:
URL:https://machias.edu/event/pool-open-135/2021-10-11/
LOCATION:Reynolds Center
CATEGORIES:Pool
END:VEVENT
BEGIN:VEVENT
DTSTART;TZID=America/New_York:20211013T070000
DTEND;TZID=America/New_York:20211013T090000
DTSTAMP:20260424T072438
CREATED:20210902T200333Z
LAST-MODIFIED:20220719T152231Z
UID:10075544-1634108400-1634115600@machias.edu
SUMMARY:Pool Open 7:00 a.m.-9:00 a.m.
DESCRIPTION:
URL:https://machias.edu/event/pool-open-133/2021-10-13/
LOCATION:Reynolds Center
CATEGORIES:Pool
END:VEVENT
BEGIN:VEVENT
DTSTART;TZID=America/New_York:20211013T110000
DTEND;TZID=America/New_York:20211013T140000
DTSTAMP:20260424T072438
CREATED:20210902T201532Z
LAST-MODIFIED:20210903T130449Z
UID:10063037-1634122800-1634133600@machias.edu
SUMMARY:11:00 a.m.-2:00 p.m.
DESCRIPTION:
URL:https://machias.edu/event/pool-open-134/2021-10-13/
LOCATION:Reynolds Center
CATEGORIES:Pool
END:VEVENT
BEGIN:VEVENT
DTSTART;TZID=America/New_York:20211013T160000
DTEND;TZID=America/New_York:20211013T180000
DTSTAMP:20260424T072438
CREATED:20210902T202821Z
LAST-MODIFIED:20210903T125314Z
UID:10063580-1634140800-1634148000@machias.edu
SUMMARY:4:00 p.m.-6:00 p.m.
DESCRIPTION:
URL:https://machias.edu/event/pool-open-135/2021-10-13/
LOCATION:Reynolds Center
CATEGORIES:Pool
END:VEVENT
BEGIN:VEVENT
DTSTART;TZID=America/New_York:20211015T070000
DTEND;TZID=America/New_York:20211015T090000
DTSTAMP:20260424T072438
CREATED:20210902T200333Z
LAST-MODIFIED:20220719T152231Z
UID:10075547-1634281200-1634288400@machias.edu
SUMMARY:Pool Open 7:00 a.m.-9:00 a.m.
DESCRIPTION:
URL:https://machias.edu/event/pool-open-133/2021-10-15/
LOCATION:Reynolds Center
CATEGORIES:Pool
END:VEVENT
BEGIN:VEVENT
DTSTART;TZID=America/New_York:20211015T110000
DTEND;TZID=America/New_York:20211015T140000
DTSTAMP:20260424T072438
CREATED:20210902T201532Z
LAST-MODIFIED:20210903T130449Z
UID:10063040-1634295600-1634306400@machias.edu
SUMMARY:11:00 a.m.-2:00 p.m.
DESCRIPTION:
URL:https://machias.edu/event/pool-open-134/2021-10-15/
LOCATION:Reynolds Center
CATEGORIES:Pool
END:VEVENT
BEGIN:VEVENT
DTSTART;TZID=America/New_York:20211015T160000
DTEND;TZID=America/New_York:20211015T180000
DTSTAMP:20260424T072438
CREATED:20210902T202821Z
LAST-MODIFIED:20210903T125314Z
UID:10063583-1634313600-1634320800@machias.edu
SUMMARY:4:00 p.m.-6:00 p.m.
DESCRIPTION:
URL:https://machias.edu/event/pool-open-135/2021-10-15/
LOCATION:Reynolds Center
CATEGORIES:Pool
END:VEVENT
BEGIN:VEVENT
DTSTART;TZID=America/New_York:20211016T110000
DTEND;TZID=America/New_York:20211016T140000
DTSTAMP:20260424T072438
CREATED:20210902T201532Z
LAST-MODIFIED:20210903T130449Z
UID:10063043-1634382000-1634392800@machias.edu
SUMMARY:11:00 a.m.-2:00 p.m.
DESCRIPTION:
URL:https://machias.edu/event/pool-open-134/2021-10-16/
LOCATION:Reynolds Center
CATEGORIES:Pool
END:VEVENT
END:VCALENDAR