BEGIN:VCALENDAR
VERSION:2.0
PRODID:-//University of Maine at Machias - ECPv6.15.17.1//NONSGML v1.0//EN
CALSCALE:GREGORIAN
METHOD:PUBLISH
X-ORIGINAL-URL:https://machias.edu
X-WR-CALDESC:Events for University of Maine at Machias
REFRESH-INTERVAL;VALUE=DURATION:PT1H
X-Robots-Tag:noindex
X-PUBLISHED-TTL:PT1H
BEGIN:VTIMEZONE
TZID:America/New_York
BEGIN:DAYLIGHT
TZOFFSETFROM:-0500
TZOFFSETTO:-0400
TZNAME:EDT
DTSTART:20200308T070000
END:DAYLIGHT
BEGIN:STANDARD
TZOFFSETFROM:-0400
TZOFFSETTO:-0500
TZNAME:EST
DTSTART:20201101T060000
END:STANDARD
BEGIN:DAYLIGHT
TZOFFSETFROM:-0500
TZOFFSETTO:-0400
TZNAME:EDT
DTSTART:20210314T070000
END:DAYLIGHT
BEGIN:STANDARD
TZOFFSETFROM:-0400
TZOFFSETTO:-0500
TZNAME:EST
DTSTART:20211107T060000
END:STANDARD
BEGIN:DAYLIGHT
TZOFFSETFROM:-0500
TZOFFSETTO:-0400
TZNAME:EDT
DTSTART:20220313T070000
END:DAYLIGHT
BEGIN:STANDARD
TZOFFSETFROM:-0400
TZOFFSETTO:-0500
TZNAME:EST
DTSTART:20221106T060000
END:STANDARD
END:VTIMEZONE
BEGIN:VEVENT
DTSTART;TZID=America/New_York:20210920T070000
DTEND;TZID=America/New_York:20210920T090000
DTSTAMP:20260424T074931
CREATED:20210902T200333Z
LAST-MODIFIED:20220719T152231Z
UID:10075514-1632121200-1632128400@machias.edu
SUMMARY:Pool Open 7:00 a.m.-9:00 a.m.
DESCRIPTION:
URL:https://machias.edu/event/pool-open-133/2021-09-20/
LOCATION:Reynolds Center
CATEGORIES:Pool
END:VEVENT
BEGIN:VEVENT
DTSTART;TZID=America/New_York:20210920T110000
DTEND;TZID=America/New_York:20210920T140000
DTSTAMP:20260424T074931
CREATED:20210902T201532Z
LAST-MODIFIED:20210903T130449Z
UID:10062998-1632135600-1632146400@machias.edu
SUMMARY:11:00 a.m.-2:00 p.m.
DESCRIPTION:
URL:https://machias.edu/event/pool-open-134/2021-09-20/
LOCATION:Reynolds Center
CATEGORIES:Pool
END:VEVENT
BEGIN:VEVENT
DTSTART;TZID=America/New_York:20210920T160000
DTEND;TZID=America/New_York:20210920T180000
DTSTAMP:20260424T074931
CREATED:20210902T202821Z
LAST-MODIFIED:20210903T125314Z
UID:10063550-1632153600-1632160800@machias.edu
SUMMARY:4:00 p.m.-6:00 p.m.
DESCRIPTION:
URL:https://machias.edu/event/pool-open-135/2021-09-20/
LOCATION:Reynolds Center
CATEGORIES:Pool
END:VEVENT
BEGIN:VEVENT
DTSTART;TZID=America/New_York:20210922T070000
DTEND;TZID=America/New_York:20210922T090000
DTSTAMP:20260424T074931
CREATED:20210902T200333Z
LAST-MODIFIED:20220719T152231Z
UID:10075517-1632294000-1632301200@machias.edu
SUMMARY:Pool Open 7:00 a.m.-9:00 a.m.
DESCRIPTION:
URL:https://machias.edu/event/pool-open-133/2021-09-22/
LOCATION:Reynolds Center
CATEGORIES:Pool
END:VEVENT
BEGIN:VEVENT
DTSTART;TZID=America/New_York:20210922T110000
DTEND;TZID=America/New_York:20210922T140000
DTSTAMP:20260424T074931
CREATED:20210902T201532Z
LAST-MODIFIED:20210903T130449Z
UID:10063001-1632308400-1632319200@machias.edu
SUMMARY:11:00 a.m.-2:00 p.m.
DESCRIPTION:
URL:https://machias.edu/event/pool-open-134/2021-09-22/
LOCATION:Reynolds Center
CATEGORIES:Pool
END:VEVENT
BEGIN:VEVENT
DTSTART;TZID=America/New_York:20210922T160000
DTEND;TZID=America/New_York:20210922T180000
DTSTAMP:20260424T074931
CREATED:20210902T202821Z
LAST-MODIFIED:20210903T125314Z
UID:10063553-1632326400-1632333600@machias.edu
SUMMARY:4:00 p.m.-6:00 p.m.
DESCRIPTION:
URL:https://machias.edu/event/pool-open-135/2021-09-22/
LOCATION:Reynolds Center
CATEGORIES:Pool
END:VEVENT
BEGIN:VEVENT
DTSTART;TZID=America/New_York:20210924T070000
DTEND;TZID=America/New_York:20210924T090000
DTSTAMP:20260424T074931
CREATED:20210902T200333Z
LAST-MODIFIED:20220719T152231Z
UID:10075520-1632466800-1632474000@machias.edu
SUMMARY:Pool Open 7:00 a.m.-9:00 a.m.
DESCRIPTION:
URL:https://machias.edu/event/pool-open-133/2021-09-24/
LOCATION:Reynolds Center
CATEGORIES:Pool
END:VEVENT
BEGIN:VEVENT
DTSTART;TZID=America/New_York:20210924T110000
DTEND;TZID=America/New_York:20210924T140000
DTSTAMP:20260424T074931
CREATED:20210902T201532Z
LAST-MODIFIED:20210903T130449Z
UID:10063004-1632481200-1632492000@machias.edu
SUMMARY:11:00 a.m.-2:00 p.m.
DESCRIPTION:
URL:https://machias.edu/event/pool-open-134/2021-09-24/
LOCATION:Reynolds Center
CATEGORIES:Pool
END:VEVENT
BEGIN:VEVENT
DTSTART;TZID=America/New_York:20210924T160000
DTEND;TZID=America/New_York:20210924T180000
DTSTAMP:20260424T074931
CREATED:20210902T202821Z
LAST-MODIFIED:20210903T125314Z
UID:10063556-1632499200-1632506400@machias.edu
SUMMARY:4:00 p.m.-6:00 p.m.
DESCRIPTION:
URL:https://machias.edu/event/pool-open-135/2021-09-24/
LOCATION:Reynolds Center
CATEGORIES:Pool
END:VEVENT
BEGIN:VEVENT
DTSTART;TZID=America/New_York:20210925T110000
DTEND;TZID=America/New_York:20210925T140000
DTSTAMP:20260424T074931
CREATED:20210902T201532Z
LAST-MODIFIED:20210903T130449Z
UID:10063007-1632567600-1632578400@machias.edu
SUMMARY:11:00 a.m.-2:00 p.m.
DESCRIPTION:
URL:https://machias.edu/event/pool-open-134/2021-09-25/
LOCATION:Reynolds Center
CATEGORIES:Pool
END:VEVENT
END:VCALENDAR