BEGIN:VCALENDAR
VERSION:2.0
PRODID:-//University of Maine at Machias - ECPv6.15.17.1//NONSGML v1.0//EN
CALSCALE:GREGORIAN
METHOD:PUBLISH
X-ORIGINAL-URL:https://machias.edu
X-WR-CALDESC:Events for University of Maine at Machias
REFRESH-INTERVAL;VALUE=DURATION:PT1H
X-Robots-Tag:noindex
X-PUBLISHED-TTL:PT1H
BEGIN:VTIMEZONE
TZID:America/New_York
BEGIN:DAYLIGHT
TZOFFSETFROM:-0500
TZOFFSETTO:-0400
TZNAME:EDT
DTSTART:20210314T070000
END:DAYLIGHT
BEGIN:STANDARD
TZOFFSETFROM:-0400
TZOFFSETTO:-0500
TZNAME:EST
DTSTART:20211107T060000
END:STANDARD
BEGIN:DAYLIGHT
TZOFFSETFROM:-0500
TZOFFSETTO:-0400
TZNAME:EDT
DTSTART:20220313T070000
END:DAYLIGHT
BEGIN:STANDARD
TZOFFSETFROM:-0400
TZOFFSETTO:-0500
TZNAME:EST
DTSTART:20221106T060000
END:STANDARD
BEGIN:DAYLIGHT
TZOFFSETFROM:-0500
TZOFFSETTO:-0400
TZNAME:EDT
DTSTART:20230312T070000
END:DAYLIGHT
BEGIN:STANDARD
TZOFFSETFROM:-0400
TZOFFSETTO:-0500
TZNAME:EST
DTSTART:20231105T060000
END:STANDARD
END:VTIMEZONE
BEGIN:VEVENT
DTSTART;TZID=America/New_York:20220119T070000
DTEND;TZID=America/New_York:20220119T090000
DTSTAMP:20260422T195302
CREATED:20210902T200333Z
LAST-MODIFIED:20220719T152231Z
UID:10075670-1642575600-1642582800@machias.edu
SUMMARY:Pool Open 7:00 a.m.-9:00 a.m.
DESCRIPTION:
URL:https://machias.edu/event/pool-open-133/2022-01-19/
LOCATION:Reynolds Center
CATEGORIES:Pool
END:VEVENT
BEGIN:VEVENT
DTSTART;TZID=America/New_York:20220119T110000
DTEND;TZID=America/New_York:20220119T140000
DTSTAMP:20260422T195302
CREATED:20210902T201532Z
LAST-MODIFIED:20210903T130449Z
UID:10063205-1642590000-1642600800@machias.edu
SUMMARY:11:00 a.m.-2:00 p.m.
DESCRIPTION:
URL:https://machias.edu/event/pool-open-134/2022-01-19/
LOCATION:Reynolds Center
CATEGORIES:Pool
END:VEVENT
BEGIN:VEVENT
DTSTART;TZID=America/New_York:20220119T160000
DTEND;TZID=America/New_York:20220119T180000
DTSTAMP:20260422T195302
CREATED:20210902T202821Z
LAST-MODIFIED:20210903T125314Z
UID:10063706-1642608000-1642615200@machias.edu
SUMMARY:4:00 p.m.-6:00 p.m.
DESCRIPTION:
URL:https://machias.edu/event/pool-open-135/2022-01-19/
LOCATION:Reynolds Center
CATEGORIES:Pool
END:VEVENT
BEGIN:VEVENT
DTSTART;TZID=America/New_York:20220121T070000
DTEND;TZID=America/New_York:20220121T090000
DTSTAMP:20260422T195302
CREATED:20210902T200333Z
LAST-MODIFIED:20220719T152231Z
UID:10075673-1642748400-1642755600@machias.edu
SUMMARY:Pool Open 7:00 a.m.-9:00 a.m.
DESCRIPTION:
URL:https://machias.edu/event/pool-open-133/2022-01-21/
LOCATION:Reynolds Center
CATEGORIES:Pool
END:VEVENT
BEGIN:VEVENT
DTSTART;TZID=America/New_York:20220121T110000
DTEND;TZID=America/New_York:20220121T140000
DTSTAMP:20260422T195302
CREATED:20210902T201532Z
LAST-MODIFIED:20210903T130449Z
UID:10063208-1642762800-1642773600@machias.edu
SUMMARY:11:00 a.m.-2:00 p.m.
DESCRIPTION:
URL:https://machias.edu/event/pool-open-134/2022-01-21/
LOCATION:Reynolds Center
CATEGORIES:Pool
END:VEVENT
BEGIN:VEVENT
DTSTART;TZID=America/New_York:20220121T160000
DTEND;TZID=America/New_York:20220121T180000
DTSTAMP:20260422T195302
CREATED:20210902T202821Z
LAST-MODIFIED:20210903T125314Z
UID:10063709-1642780800-1642788000@machias.edu
SUMMARY:4:00 p.m.-6:00 p.m.
DESCRIPTION:
URL:https://machias.edu/event/pool-open-135/2022-01-21/
LOCATION:Reynolds Center
CATEGORIES:Pool
END:VEVENT
BEGIN:VEVENT
DTSTART;TZID=America/New_York:20220122T110000
DTEND;TZID=America/New_York:20220122T140000
DTSTAMP:20260422T195302
CREATED:20210902T201532Z
LAST-MODIFIED:20210903T130449Z
UID:10063211-1642849200-1642860000@machias.edu
SUMMARY:11:00 a.m.-2:00 p.m.
DESCRIPTION:
URL:https://machias.edu/event/pool-open-134/2022-01-22/
LOCATION:Reynolds Center
CATEGORIES:Pool
END:VEVENT
BEGIN:VEVENT
DTSTART;TZID=America/New_York:20220124T070000
DTEND;TZID=America/New_York:20220124T090000
DTSTAMP:20260422T195302
CREATED:20210902T200333Z
LAST-MODIFIED:20220719T152231Z
UID:10075676-1643007600-1643014800@machias.edu
SUMMARY:Pool Open 7:00 a.m.-9:00 a.m.
DESCRIPTION:
URL:https://machias.edu/event/pool-open-133/2022-01-24/
LOCATION:Reynolds Center
CATEGORIES:Pool
END:VEVENT
BEGIN:VEVENT
DTSTART;TZID=America/New_York:20220124T110000
DTEND;TZID=America/New_York:20220124T140000
DTSTAMP:20260422T195302
CREATED:20210902T201532Z
LAST-MODIFIED:20210903T130449Z
UID:10063214-1643022000-1643032800@machias.edu
SUMMARY:11:00 a.m.-2:00 p.m.
DESCRIPTION:
URL:https://machias.edu/event/pool-open-134/2022-01-24/
LOCATION:Reynolds Center
CATEGORIES:Pool
END:VEVENT
BEGIN:VEVENT
DTSTART;TZID=America/New_York:20220124T160000
DTEND;TZID=America/New_York:20220124T180000
DTSTAMP:20260422T195302
CREATED:20210902T202821Z
LAST-MODIFIED:20210903T125314Z
UID:10063712-1643040000-1643047200@machias.edu
SUMMARY:4:00 p.m.-6:00 p.m.
DESCRIPTION:
URL:https://machias.edu/event/pool-open-135/2022-01-24/
LOCATION:Reynolds Center
CATEGORIES:Pool
END:VEVENT
BEGIN:VEVENT
DTSTART;TZID=America/New_York:20220126T070000
DTEND;TZID=America/New_York:20220126T090000
DTSTAMP:20260422T195302
CREATED:20210902T200333Z
LAST-MODIFIED:20220719T152231Z
UID:10075679-1643180400-1643187600@machias.edu
SUMMARY:Pool Open 7:00 a.m.-9:00 a.m.
DESCRIPTION:
URL:https://machias.edu/event/pool-open-133/2022-01-26/
LOCATION:Reynolds Center
CATEGORIES:Pool
END:VEVENT
BEGIN:VEVENT
DTSTART;TZID=America/New_York:20220126T110000
DTEND;TZID=America/New_York:20220126T140000
DTSTAMP:20260422T195302
CREATED:20210902T201532Z
LAST-MODIFIED:20210903T130449Z
UID:10063217-1643194800-1643205600@machias.edu
SUMMARY:11:00 a.m.-2:00 p.m.
DESCRIPTION:
URL:https://machias.edu/event/pool-open-134/2022-01-26/
LOCATION:Reynolds Center
CATEGORIES:Pool
END:VEVENT
BEGIN:VEVENT
DTSTART;TZID=America/New_York:20220126T160000
DTEND;TZID=America/New_York:20220126T180000
DTSTAMP:20260422T195302
CREATED:20210902T202821Z
LAST-MODIFIED:20210903T125314Z
UID:10063715-1643212800-1643220000@machias.edu
SUMMARY:4:00 p.m.-6:00 p.m.
DESCRIPTION:
URL:https://machias.edu/event/pool-open-135/2022-01-26/
LOCATION:Reynolds Center
CATEGORIES:Pool
END:VEVENT
BEGIN:VEVENT
DTSTART;TZID=America/New_York:20220128T070000
DTEND;TZID=America/New_York:20220128T090000
DTSTAMP:20260422T195302
CREATED:20210902T200333Z
LAST-MODIFIED:20220719T152231Z
UID:10075682-1643353200-1643360400@machias.edu
SUMMARY:Pool Open 7:00 a.m.-9:00 a.m.
DESCRIPTION:
URL:https://machias.edu/event/pool-open-133/2022-01-28/
LOCATION:Reynolds Center
CATEGORIES:Pool
END:VEVENT
BEGIN:VEVENT
DTSTART;TZID=America/New_York:20220128T110000
DTEND;TZID=America/New_York:20220128T140000
DTSTAMP:20260422T195302
CREATED:20210902T201532Z
LAST-MODIFIED:20210903T130449Z
UID:10063220-1643367600-1643378400@machias.edu
SUMMARY:11:00 a.m.-2:00 p.m.
DESCRIPTION:
URL:https://machias.edu/event/pool-open-134/2022-01-28/
LOCATION:Reynolds Center
CATEGORIES:Pool
END:VEVENT
BEGIN:VEVENT
DTSTART;TZID=America/New_York:20220128T160000
DTEND;TZID=America/New_York:20220128T180000
DTSTAMP:20260422T195302
CREATED:20210902T202821Z
LAST-MODIFIED:20210903T125314Z
UID:10063718-1643385600-1643392800@machias.edu
SUMMARY:4:00 p.m.-6:00 p.m.
DESCRIPTION:
URL:https://machias.edu/event/pool-open-135/2022-01-28/
LOCATION:Reynolds Center
CATEGORIES:Pool
END:VEVENT
BEGIN:VEVENT
DTSTART;TZID=America/New_York:20220129T110000
DTEND;TZID=America/New_York:20220129T140000
DTSTAMP:20260422T195302
CREATED:20210902T201532Z
LAST-MODIFIED:20210903T130449Z
UID:10063223-1643454000-1643464800@machias.edu
SUMMARY:11:00 a.m.-2:00 p.m.
DESCRIPTION:
URL:https://machias.edu/event/pool-open-134/2022-01-29/
LOCATION:Reynolds Center
CATEGORIES:Pool
END:VEVENT
BEGIN:VEVENT
DTSTART;TZID=America/New_York:20220131T070000
DTEND;TZID=America/New_York:20220131T090000
DTSTAMP:20260422T195302
CREATED:20210902T200333Z
LAST-MODIFIED:20220719T152231Z
UID:10075685-1643612400-1643619600@machias.edu
SUMMARY:Pool Open 7:00 a.m.-9:00 a.m.
DESCRIPTION:
URL:https://machias.edu/event/pool-open-133/2022-01-31/
LOCATION:Reynolds Center
CATEGORIES:Pool
END:VEVENT
BEGIN:VEVENT
DTSTART;TZID=America/New_York:20220131T110000
DTEND;TZID=America/New_York:20220131T140000
DTSTAMP:20260422T195302
CREATED:20210902T201532Z
LAST-MODIFIED:20210903T130449Z
UID:10063226-1643626800-1643637600@machias.edu
SUMMARY:11:00 a.m.-2:00 p.m.
DESCRIPTION:
URL:https://machias.edu/event/pool-open-134/2022-01-31/
LOCATION:Reynolds Center
CATEGORIES:Pool
END:VEVENT
BEGIN:VEVENT
DTSTART;TZID=America/New_York:20220131T160000
DTEND;TZID=America/New_York:20220131T180000
DTSTAMP:20260422T195302
CREATED:20210902T202821Z
LAST-MODIFIED:20210903T125314Z
UID:10063721-1643644800-1643652000@machias.edu
SUMMARY:4:00 p.m.-6:00 p.m.
DESCRIPTION:
URL:https://machias.edu/event/pool-open-135/2022-01-31/
LOCATION:Reynolds Center
CATEGORIES:Pool
END:VEVENT
BEGIN:VEVENT
DTSTART;TZID=America/New_York:20220202T070000
DTEND;TZID=America/New_York:20220202T090000
DTSTAMP:20260422T195302
CREATED:20210902T200333Z
LAST-MODIFIED:20220719T152231Z
UID:10075688-1643785200-1643792400@machias.edu
SUMMARY:Pool Open 7:00 a.m.-9:00 a.m.
DESCRIPTION:
URL:https://machias.edu/event/pool-open-133/2022-02-02/
LOCATION:Reynolds Center
CATEGORIES:Pool
END:VEVENT
BEGIN:VEVENT
DTSTART;TZID=America/New_York:20220202T110000
DTEND;TZID=America/New_York:20220202T140000
DTSTAMP:20260422T195302
CREATED:20210902T201532Z
LAST-MODIFIED:20210903T130449Z
UID:10063229-1643799600-1643810400@machias.edu
SUMMARY:11:00 a.m.-2:00 p.m.
DESCRIPTION:
URL:https://machias.edu/event/pool-open-134/2022-02-02/
LOCATION:Reynolds Center
CATEGORIES:Pool
END:VEVENT
BEGIN:VEVENT
DTSTART;TZID=America/New_York:20220202T160000
DTEND;TZID=America/New_York:20220202T180000
DTSTAMP:20260422T195302
CREATED:20210902T202821Z
LAST-MODIFIED:20210903T125314Z
UID:10063724-1643817600-1643824800@machias.edu
SUMMARY:4:00 p.m.-6:00 p.m.
DESCRIPTION:
URL:https://machias.edu/event/pool-open-135/2022-02-02/
LOCATION:Reynolds Center
CATEGORIES:Pool
END:VEVENT
BEGIN:VEVENT
DTSTART;TZID=America/New_York:20220204T070000
DTEND;TZID=America/New_York:20220204T090000
DTSTAMP:20260422T195302
CREATED:20210902T200333Z
LAST-MODIFIED:20220719T152231Z
UID:10075691-1643958000-1643965200@machias.edu
SUMMARY:Pool Open 7:00 a.m.-9:00 a.m.
DESCRIPTION:
URL:https://machias.edu/event/pool-open-133/2022-02-04/
LOCATION:Reynolds Center
CATEGORIES:Pool
END:VEVENT
BEGIN:VEVENT
DTSTART;TZID=America/New_York:20220204T110000
DTEND;TZID=America/New_York:20220204T140000
DTSTAMP:20260422T195302
CREATED:20210902T201532Z
LAST-MODIFIED:20210903T130449Z
UID:10063232-1643972400-1643983200@machias.edu
SUMMARY:11:00 a.m.-2:00 p.m.
DESCRIPTION:
URL:https://machias.edu/event/pool-open-134/2022-02-04/
LOCATION:Reynolds Center
CATEGORIES:Pool
END:VEVENT
BEGIN:VEVENT
DTSTART;TZID=America/New_York:20220204T160000
DTEND;TZID=America/New_York:20220204T180000
DTSTAMP:20260422T195302
CREATED:20210902T202821Z
LAST-MODIFIED:20210903T125314Z
UID:10063727-1643990400-1643997600@machias.edu
SUMMARY:4:00 p.m.-6:00 p.m.
DESCRIPTION:
URL:https://machias.edu/event/pool-open-135/2022-02-04/
LOCATION:Reynolds Center
CATEGORIES:Pool
END:VEVENT
BEGIN:VEVENT
DTSTART;TZID=America/New_York:20220205T110000
DTEND;TZID=America/New_York:20220205T140000
DTSTAMP:20260422T195302
CREATED:20210902T201532Z
LAST-MODIFIED:20210903T130449Z
UID:10063235-1644058800-1644069600@machias.edu
SUMMARY:11:00 a.m.-2:00 p.m.
DESCRIPTION:
URL:https://machias.edu/event/pool-open-134/2022-02-05/
LOCATION:Reynolds Center
CATEGORIES:Pool
END:VEVENT
BEGIN:VEVENT
DTSTART;TZID=America/New_York:20220207T070000
DTEND;TZID=America/New_York:20220207T090000
DTSTAMP:20260422T195302
CREATED:20210902T200333Z
LAST-MODIFIED:20220719T152231Z
UID:10075694-1644217200-1644224400@machias.edu
SUMMARY:Pool Open 7:00 a.m.-9:00 a.m.
DESCRIPTION:
URL:https://machias.edu/event/pool-open-133/2022-02-07/
LOCATION:Reynolds Center
CATEGORIES:Pool
END:VEVENT
BEGIN:VEVENT
DTSTART;TZID=America/New_York:20220207T110000
DTEND;TZID=America/New_York:20220207T140000
DTSTAMP:20260422T195302
CREATED:20210902T201532Z
LAST-MODIFIED:20210903T130449Z
UID:10063238-1644231600-1644242400@machias.edu
SUMMARY:11:00 a.m.-2:00 p.m.
DESCRIPTION:
URL:https://machias.edu/event/pool-open-134/2022-02-07/
LOCATION:Reynolds Center
CATEGORIES:Pool
END:VEVENT
BEGIN:VEVENT
DTSTART;TZID=America/New_York:20220207T160000
DTEND;TZID=America/New_York:20220207T180000
DTSTAMP:20260422T195302
CREATED:20210902T202821Z
LAST-MODIFIED:20210903T125314Z
UID:10063730-1644249600-1644256800@machias.edu
SUMMARY:4:00 p.m.-6:00 p.m.
DESCRIPTION:
URL:https://machias.edu/event/pool-open-135/2022-02-07/
LOCATION:Reynolds Center
CATEGORIES:Pool
END:VEVENT
END:VCALENDAR