BEGIN:VCALENDAR
VERSION:2.0
PRODID:-//University of Maine at Machias - ECPv6.15.17.1//NONSGML v1.0//EN
CALSCALE:GREGORIAN
METHOD:PUBLISH
X-ORIGINAL-URL:https://machias.edu
X-WR-CALDESC:Events for University of Maine at Machias
REFRESH-INTERVAL;VALUE=DURATION:PT1H
X-Robots-Tag:noindex
X-PUBLISHED-TTL:PT1H
BEGIN:VTIMEZONE
TZID:America/New_York
BEGIN:DAYLIGHT
TZOFFSETFROM:-0500
TZOFFSETTO:-0400
TZNAME:EDT
DTSTART:20210314T070000
END:DAYLIGHT
BEGIN:STANDARD
TZOFFSETFROM:-0400
TZOFFSETTO:-0500
TZNAME:EST
DTSTART:20211107T060000
END:STANDARD
BEGIN:DAYLIGHT
TZOFFSETFROM:-0500
TZOFFSETTO:-0400
TZNAME:EDT
DTSTART:20220313T070000
END:DAYLIGHT
BEGIN:STANDARD
TZOFFSETFROM:-0400
TZOFFSETTO:-0500
TZNAME:EST
DTSTART:20221106T060000
END:STANDARD
BEGIN:DAYLIGHT
TZOFFSETFROM:-0500
TZOFFSETTO:-0400
TZNAME:EDT
DTSTART:20230312T070000
END:DAYLIGHT
BEGIN:STANDARD
TZOFFSETFROM:-0400
TZOFFSETTO:-0500
TZNAME:EST
DTSTART:20231105T060000
END:STANDARD
END:VTIMEZONE
BEGIN:VEVENT
DTSTART;TZID=America/New_York:20220202T070000
DTEND;TZID=America/New_York:20220202T090000
DTSTAMP:20260421T045848
CREATED:20210902T200333Z
LAST-MODIFIED:20220719T152231Z
UID:10075688-1643785200-1643792400@machias.edu
SUMMARY:Pool Open 7:00 a.m.-9:00 a.m.
DESCRIPTION:
URL:https://machias.edu/event/pool-open-133/2022-02-02/
LOCATION:Reynolds Center
CATEGORIES:Pool
END:VEVENT
BEGIN:VEVENT
DTSTART;TZID=America/New_York:20220202T110000
DTEND;TZID=America/New_York:20220202T140000
DTSTAMP:20260421T045848
CREATED:20210902T201532Z
LAST-MODIFIED:20210903T130449Z
UID:10063229-1643799600-1643810400@machias.edu
SUMMARY:11:00 a.m.-2:00 p.m.
DESCRIPTION:
URL:https://machias.edu/event/pool-open-134/2022-02-02/
LOCATION:Reynolds Center
CATEGORIES:Pool
END:VEVENT
BEGIN:VEVENT
DTSTART;TZID=America/New_York:20220202T160000
DTEND;TZID=America/New_York:20220202T180000
DTSTAMP:20260421T045848
CREATED:20210902T202821Z
LAST-MODIFIED:20210903T125314Z
UID:10063724-1643817600-1643824800@machias.edu
SUMMARY:4:00 p.m.-6:00 p.m.
DESCRIPTION:
URL:https://machias.edu/event/pool-open-135/2022-02-02/
LOCATION:Reynolds Center
CATEGORIES:Pool
END:VEVENT
BEGIN:VEVENT
DTSTART;TZID=America/New_York:20220204T070000
DTEND;TZID=America/New_York:20220204T090000
DTSTAMP:20260421T045848
CREATED:20210902T200333Z
LAST-MODIFIED:20220719T152231Z
UID:10075691-1643958000-1643965200@machias.edu
SUMMARY:Pool Open 7:00 a.m.-9:00 a.m.
DESCRIPTION:
URL:https://machias.edu/event/pool-open-133/2022-02-04/
LOCATION:Reynolds Center
CATEGORIES:Pool
END:VEVENT
BEGIN:VEVENT
DTSTART;TZID=America/New_York:20220204T110000
DTEND;TZID=America/New_York:20220204T140000
DTSTAMP:20260421T045848
CREATED:20210902T201532Z
LAST-MODIFIED:20210903T130449Z
UID:10063232-1643972400-1643983200@machias.edu
SUMMARY:11:00 a.m.-2:00 p.m.
DESCRIPTION:
URL:https://machias.edu/event/pool-open-134/2022-02-04/
LOCATION:Reynolds Center
CATEGORIES:Pool
END:VEVENT
BEGIN:VEVENT
DTSTART;TZID=America/New_York:20220204T160000
DTEND;TZID=America/New_York:20220204T180000
DTSTAMP:20260421T045848
CREATED:20210902T202821Z
LAST-MODIFIED:20210903T125314Z
UID:10063727-1643990400-1643997600@machias.edu
SUMMARY:4:00 p.m.-6:00 p.m.
DESCRIPTION:
URL:https://machias.edu/event/pool-open-135/2022-02-04/
LOCATION:Reynolds Center
CATEGORIES:Pool
END:VEVENT
BEGIN:VEVENT
DTSTART;TZID=America/New_York:20220205T110000
DTEND;TZID=America/New_York:20220205T140000
DTSTAMP:20260421T045848
CREATED:20210902T201532Z
LAST-MODIFIED:20210903T130449Z
UID:10063235-1644058800-1644069600@machias.edu
SUMMARY:11:00 a.m.-2:00 p.m.
DESCRIPTION:
URL:https://machias.edu/event/pool-open-134/2022-02-05/
LOCATION:Reynolds Center
CATEGORIES:Pool
END:VEVENT
BEGIN:VEVENT
DTSTART;TZID=America/New_York:20220207T070000
DTEND;TZID=America/New_York:20220207T090000
DTSTAMP:20260421T045848
CREATED:20210902T200333Z
LAST-MODIFIED:20220719T152231Z
UID:10075694-1644217200-1644224400@machias.edu
SUMMARY:Pool Open 7:00 a.m.-9:00 a.m.
DESCRIPTION:
URL:https://machias.edu/event/pool-open-133/2022-02-07/
LOCATION:Reynolds Center
CATEGORIES:Pool
END:VEVENT
BEGIN:VEVENT
DTSTART;TZID=America/New_York:20220207T110000
DTEND;TZID=America/New_York:20220207T140000
DTSTAMP:20260421T045848
CREATED:20210902T201532Z
LAST-MODIFIED:20210903T130449Z
UID:10063238-1644231600-1644242400@machias.edu
SUMMARY:11:00 a.m.-2:00 p.m.
DESCRIPTION:
URL:https://machias.edu/event/pool-open-134/2022-02-07/
LOCATION:Reynolds Center
CATEGORIES:Pool
END:VEVENT
BEGIN:VEVENT
DTSTART;TZID=America/New_York:20220207T160000
DTEND;TZID=America/New_York:20220207T180000
DTSTAMP:20260421T045848
CREATED:20210902T202821Z
LAST-MODIFIED:20210903T125314Z
UID:10063730-1644249600-1644256800@machias.edu
SUMMARY:4:00 p.m.-6:00 p.m.
DESCRIPTION:
URL:https://machias.edu/event/pool-open-135/2022-02-07/
LOCATION:Reynolds Center
CATEGORIES:Pool
END:VEVENT
BEGIN:VEVENT
DTSTART;TZID=America/New_York:20220209T070000
DTEND;TZID=America/New_York:20220209T090000
DTSTAMP:20260421T045848
CREATED:20210902T200333Z
LAST-MODIFIED:20220719T152231Z
UID:10075697-1644390000-1644397200@machias.edu
SUMMARY:Pool Open 7:00 a.m.-9:00 a.m.
DESCRIPTION:
URL:https://machias.edu/event/pool-open-133/2022-02-09/
LOCATION:Reynolds Center
CATEGORIES:Pool
END:VEVENT
BEGIN:VEVENT
DTSTART;TZID=America/New_York:20220209T110000
DTEND;TZID=America/New_York:20220209T140000
DTSTAMP:20260421T045848
CREATED:20210902T201532Z
LAST-MODIFIED:20210903T130449Z
UID:10063241-1644404400-1644415200@machias.edu
SUMMARY:11:00 a.m.-2:00 p.m.
DESCRIPTION:
URL:https://machias.edu/event/pool-open-134/2022-02-09/
LOCATION:Reynolds Center
CATEGORIES:Pool
END:VEVENT
BEGIN:VEVENT
DTSTART;TZID=America/New_York:20220209T160000
DTEND;TZID=America/New_York:20220209T180000
DTSTAMP:20260421T045848
CREATED:20210902T202821Z
LAST-MODIFIED:20210903T125314Z
UID:10063733-1644422400-1644429600@machias.edu
SUMMARY:4:00 p.m.-6:00 p.m.
DESCRIPTION:
URL:https://machias.edu/event/pool-open-135/2022-02-09/
LOCATION:Reynolds Center
CATEGORIES:Pool
END:VEVENT
BEGIN:VEVENT
DTSTART;TZID=America/New_York:20220211T070000
DTEND;TZID=America/New_York:20220211T090000
DTSTAMP:20260421T045848
CREATED:20210902T200333Z
LAST-MODIFIED:20220719T152231Z
UID:10075700-1644562800-1644570000@machias.edu
SUMMARY:Pool Open 7:00 a.m.-9:00 a.m.
DESCRIPTION:
URL:https://machias.edu/event/pool-open-133/2022-02-11/
LOCATION:Reynolds Center
CATEGORIES:Pool
END:VEVENT
BEGIN:VEVENT
DTSTART;TZID=America/New_York:20220211T110000
DTEND;TZID=America/New_York:20220211T140000
DTSTAMP:20260421T045848
CREATED:20210902T201532Z
LAST-MODIFIED:20210903T130449Z
UID:10063244-1644577200-1644588000@machias.edu
SUMMARY:11:00 a.m.-2:00 p.m.
DESCRIPTION:
URL:https://machias.edu/event/pool-open-134/2022-02-11/
LOCATION:Reynolds Center
CATEGORIES:Pool
END:VEVENT
BEGIN:VEVENT
DTSTART;TZID=America/New_York:20220211T160000
DTEND;TZID=America/New_York:20220211T180000
DTSTAMP:20260421T045848
CREATED:20210902T202821Z
LAST-MODIFIED:20210903T125314Z
UID:10063736-1644595200-1644602400@machias.edu
SUMMARY:4:00 p.m.-6:00 p.m.
DESCRIPTION:
URL:https://machias.edu/event/pool-open-135/2022-02-11/
LOCATION:Reynolds Center
CATEGORIES:Pool
END:VEVENT
BEGIN:VEVENT
DTSTART;TZID=America/New_York:20220212T110000
DTEND;TZID=America/New_York:20220212T140000
DTSTAMP:20260421T045848
CREATED:20210902T201532Z
LAST-MODIFIED:20210903T130449Z
UID:10063247-1644663600-1644674400@machias.edu
SUMMARY:11:00 a.m.-2:00 p.m.
DESCRIPTION:
URL:https://machias.edu/event/pool-open-134/2022-02-12/
LOCATION:Reynolds Center
CATEGORIES:Pool
END:VEVENT
BEGIN:VEVENT
DTSTART;TZID=America/New_York:20220214T070000
DTEND;TZID=America/New_York:20220214T090000
DTSTAMP:20260421T045848
CREATED:20210902T200333Z
LAST-MODIFIED:20220719T152231Z
UID:10075703-1644822000-1644829200@machias.edu
SUMMARY:Pool Open 7:00 a.m.-9:00 a.m.
DESCRIPTION:
URL:https://machias.edu/event/pool-open-133/2022-02-14/
LOCATION:Reynolds Center
CATEGORIES:Pool
END:VEVENT
BEGIN:VEVENT
DTSTART;TZID=America/New_York:20220214T110000
DTEND;TZID=America/New_York:20220214T140000
DTSTAMP:20260421T045848
CREATED:20210902T201532Z
LAST-MODIFIED:20210903T130449Z
UID:10063250-1644836400-1644847200@machias.edu
SUMMARY:11:00 a.m.-2:00 p.m.
DESCRIPTION:
URL:https://machias.edu/event/pool-open-134/2022-02-14/
LOCATION:Reynolds Center
CATEGORIES:Pool
END:VEVENT
BEGIN:VEVENT
DTSTART;TZID=America/New_York:20220214T160000
DTEND;TZID=America/New_York:20220214T180000
DTSTAMP:20260421T045848
CREATED:20210902T202821Z
LAST-MODIFIED:20210903T125314Z
UID:10063739-1644854400-1644861600@machias.edu
SUMMARY:4:00 p.m.-6:00 p.m.
DESCRIPTION:
URL:https://machias.edu/event/pool-open-135/2022-02-14/
LOCATION:Reynolds Center
CATEGORIES:Pool
END:VEVENT
BEGIN:VEVENT
DTSTART;TZID=America/New_York:20220216T070000
DTEND;TZID=America/New_York:20220216T090000
DTSTAMP:20260421T045848
CREATED:20210902T200333Z
LAST-MODIFIED:20220719T152231Z
UID:10075706-1644994800-1645002000@machias.edu
SUMMARY:Pool Open 7:00 a.m.-9:00 a.m.
DESCRIPTION:
URL:https://machias.edu/event/pool-open-133/2022-02-16/
LOCATION:Reynolds Center
CATEGORIES:Pool
END:VEVENT
BEGIN:VEVENT
DTSTART;TZID=America/New_York:20220216T110000
DTEND;TZID=America/New_York:20220216T140000
DTSTAMP:20260421T045848
CREATED:20210902T201532Z
LAST-MODIFIED:20210903T130449Z
UID:10063253-1645009200-1645020000@machias.edu
SUMMARY:11:00 a.m.-2:00 p.m.
DESCRIPTION:
URL:https://machias.edu/event/pool-open-134/2022-02-16/
LOCATION:Reynolds Center
CATEGORIES:Pool
END:VEVENT
BEGIN:VEVENT
DTSTART;TZID=America/New_York:20220216T160000
DTEND;TZID=America/New_York:20220216T180000
DTSTAMP:20260421T045848
CREATED:20210902T202821Z
LAST-MODIFIED:20210903T125314Z
UID:10063742-1645027200-1645034400@machias.edu
SUMMARY:4:00 p.m.-6:00 p.m.
DESCRIPTION:
URL:https://machias.edu/event/pool-open-135/2022-02-16/
LOCATION:Reynolds Center
CATEGORIES:Pool
END:VEVENT
BEGIN:VEVENT
DTSTART;TZID=America/New_York:20220218T070000
DTEND;TZID=America/New_York:20220218T090000
DTSTAMP:20260421T045848
CREATED:20210902T200333Z
LAST-MODIFIED:20220719T152231Z
UID:10075709-1645167600-1645174800@machias.edu
SUMMARY:Pool Open 7:00 a.m.-9:00 a.m.
DESCRIPTION:
URL:https://machias.edu/event/pool-open-133/2022-02-18/
LOCATION:Reynolds Center
CATEGORIES:Pool
END:VEVENT
BEGIN:VEVENT
DTSTART;TZID=America/New_York:20220218T110000
DTEND;TZID=America/New_York:20220218T140000
DTSTAMP:20260421T045848
CREATED:20210902T201532Z
LAST-MODIFIED:20210903T130449Z
UID:10063256-1645182000-1645192800@machias.edu
SUMMARY:11:00 a.m.-2:00 p.m.
DESCRIPTION:
URL:https://machias.edu/event/pool-open-134/2022-02-18/
LOCATION:Reynolds Center
CATEGORIES:Pool
END:VEVENT
BEGIN:VEVENT
DTSTART;TZID=America/New_York:20220218T160000
DTEND;TZID=America/New_York:20220218T180000
DTSTAMP:20260421T045848
CREATED:20210902T202821Z
LAST-MODIFIED:20210903T125314Z
UID:10063745-1645200000-1645207200@machias.edu
SUMMARY:4:00 p.m.-6:00 p.m.
DESCRIPTION:
URL:https://machias.edu/event/pool-open-135/2022-02-18/
LOCATION:Reynolds Center
CATEGORIES:Pool
END:VEVENT
BEGIN:VEVENT
DTSTART;TZID=America/New_York:20220219T110000
DTEND;TZID=America/New_York:20220219T140000
DTSTAMP:20260421T045848
CREATED:20210902T201532Z
LAST-MODIFIED:20210903T130449Z
UID:10063259-1645268400-1645279200@machias.edu
SUMMARY:11:00 a.m.-2:00 p.m.
DESCRIPTION:
URL:https://machias.edu/event/pool-open-134/2022-02-19/
LOCATION:Reynolds Center
CATEGORIES:Pool
END:VEVENT
BEGIN:VEVENT
DTSTART;TZID=America/New_York:20220221T070000
DTEND;TZID=America/New_York:20220221T090000
DTSTAMP:20260421T045848
CREATED:20210902T200333Z
LAST-MODIFIED:20220719T152231Z
UID:10075712-1645426800-1645434000@machias.edu
SUMMARY:Pool Open 7:00 a.m.-9:00 a.m.
DESCRIPTION:
URL:https://machias.edu/event/pool-open-133/2022-02-21/
LOCATION:Reynolds Center
CATEGORIES:Pool
END:VEVENT
BEGIN:VEVENT
DTSTART;TZID=America/New_York:20220221T110000
DTEND;TZID=America/New_York:20220221T140000
DTSTAMP:20260421T045848
CREATED:20210902T201532Z
LAST-MODIFIED:20210903T130449Z
UID:10063262-1645441200-1645452000@machias.edu
SUMMARY:11:00 a.m.-2:00 p.m.
DESCRIPTION:
URL:https://machias.edu/event/pool-open-134/2022-02-21/
LOCATION:Reynolds Center
CATEGORIES:Pool
END:VEVENT
BEGIN:VEVENT
DTSTART;TZID=America/New_York:20220221T160000
DTEND;TZID=America/New_York:20220221T180000
DTSTAMP:20260421T045848
CREATED:20210902T202821Z
LAST-MODIFIED:20210903T125314Z
UID:10063748-1645459200-1645466400@machias.edu
SUMMARY:4:00 p.m.-6:00 p.m.
DESCRIPTION:
URL:https://machias.edu/event/pool-open-135/2022-02-21/
LOCATION:Reynolds Center
CATEGORIES:Pool
END:VEVENT
END:VCALENDAR