BEGIN:VCALENDAR
VERSION:2.0
PRODID:-//University of Maine at Machias - ECPv6.15.17.1//NONSGML v1.0//EN
CALSCALE:GREGORIAN
METHOD:PUBLISH
X-WR-CALNAME:University of Maine at Machias
X-ORIGINAL-URL:https://machias.edu
X-WR-CALDESC:Events for University of Maine at Machias
REFRESH-INTERVAL;VALUE=DURATION:PT1H
X-Robots-Tag:noindex
X-PUBLISHED-TTL:PT1H
BEGIN:VTIMEZONE
TZID:America/New_York
BEGIN:DAYLIGHT
TZOFFSETFROM:-0500
TZOFFSETTO:-0400
TZNAME:EDT
DTSTART:20200308T070000
END:DAYLIGHT
BEGIN:STANDARD
TZOFFSETFROM:-0400
TZOFFSETTO:-0500
TZNAME:EST
DTSTART:20201101T060000
END:STANDARD
BEGIN:DAYLIGHT
TZOFFSETFROM:-0500
TZOFFSETTO:-0400
TZNAME:EDT
DTSTART:20210314T070000
END:DAYLIGHT
BEGIN:STANDARD
TZOFFSETFROM:-0400
TZOFFSETTO:-0500
TZNAME:EST
DTSTART:20211107T060000
END:STANDARD
BEGIN:DAYLIGHT
TZOFFSETFROM:-0500
TZOFFSETTO:-0400
TZNAME:EDT
DTSTART:20220313T070000
END:DAYLIGHT
BEGIN:STANDARD
TZOFFSETFROM:-0400
TZOFFSETTO:-0500
TZNAME:EST
DTSTART:20221106T060000
END:STANDARD
END:VTIMEZONE
BEGIN:VEVENT
DTSTART;TZID=America/New_York:20211015T070000
DTEND;TZID=America/New_York:20211015T090000
DTSTAMP:20260423T171400
CREATED:20210902T200333Z
LAST-MODIFIED:20220719T152231Z
UID:10075547-1634281200-1634288400@machias.edu
SUMMARY:Pool Open 7:00 a.m.-9:00 a.m.
DESCRIPTION:
URL:https://machias.edu/event/pool-open-133/2021-10-15/
LOCATION:Reynolds Center
CATEGORIES:Pool
END:VEVENT
BEGIN:VEVENT
DTSTART;TZID=America/New_York:20211015T110000
DTEND;TZID=America/New_York:20211015T140000
DTSTAMP:20260423T171400
CREATED:20210902T201532Z
LAST-MODIFIED:20210903T130449Z
UID:10063040-1634295600-1634306400@machias.edu
SUMMARY:11:00 a.m.-2:00 p.m.
DESCRIPTION:
URL:https://machias.edu/event/pool-open-134/2021-10-15/
LOCATION:Reynolds Center
CATEGORIES:Pool
END:VEVENT
BEGIN:VEVENT
DTSTART;TZID=America/New_York:20211015T160000
DTEND;TZID=America/New_York:20211015T180000
DTSTAMP:20260423T171400
CREATED:20210902T202821Z
LAST-MODIFIED:20210903T125314Z
UID:10063583-1634313600-1634320800@machias.edu
SUMMARY:4:00 p.m.-6:00 p.m.
DESCRIPTION:
URL:https://machias.edu/event/pool-open-135/2021-10-15/
LOCATION:Reynolds Center
CATEGORIES:Pool
END:VEVENT
BEGIN:VEVENT
DTSTART;TZID=America/New_York:20211016T110000
DTEND;TZID=America/New_York:20211016T140000
DTSTAMP:20260423T171400
CREATED:20210902T201532Z
LAST-MODIFIED:20210903T130449Z
UID:10063043-1634382000-1634392800@machias.edu
SUMMARY:11:00 a.m.-2:00 p.m.
DESCRIPTION:
URL:https://machias.edu/event/pool-open-134/2021-10-16/
LOCATION:Reynolds Center
CATEGORIES:Pool
END:VEVENT
BEGIN:VEVENT
DTSTART;TZID=America/New_York:20211018T070000
DTEND;TZID=America/New_York:20211018T090000
DTSTAMP:20260423T171400
CREATED:20210902T200333Z
LAST-MODIFIED:20220719T152231Z
UID:10075550-1634540400-1634547600@machias.edu
SUMMARY:Pool Open 7:00 a.m.-9:00 a.m.
DESCRIPTION:
URL:https://machias.edu/event/pool-open-133/2021-10-18/
LOCATION:Reynolds Center
CATEGORIES:Pool
END:VEVENT
BEGIN:VEVENT
DTSTART;TZID=America/New_York:20211018T110000
DTEND;TZID=America/New_York:20211018T140000
DTSTAMP:20260423T171400
CREATED:20210902T201532Z
LAST-MODIFIED:20210903T130449Z
UID:10063046-1634554800-1634565600@machias.edu
SUMMARY:11:00 a.m.-2:00 p.m.
DESCRIPTION:
URL:https://machias.edu/event/pool-open-134/2021-10-18/
LOCATION:Reynolds Center
CATEGORIES:Pool
END:VEVENT
BEGIN:VEVENT
DTSTART;TZID=America/New_York:20211018T160000
DTEND;TZID=America/New_York:20211018T180000
DTSTAMP:20260423T171400
CREATED:20210902T202821Z
LAST-MODIFIED:20210903T125314Z
UID:10063586-1634572800-1634580000@machias.edu
SUMMARY:4:00 p.m.-6:00 p.m.
DESCRIPTION:
URL:https://machias.edu/event/pool-open-135/2021-10-18/
LOCATION:Reynolds Center
CATEGORIES:Pool
END:VEVENT
BEGIN:VEVENT
DTSTART;TZID=America/New_York:20211020T070000
DTEND;TZID=America/New_York:20211020T090000
DTSTAMP:20260423T171400
CREATED:20210902T200333Z
LAST-MODIFIED:20220719T152231Z
UID:10075553-1634713200-1634720400@machias.edu
SUMMARY:Pool Open 7:00 a.m.-9:00 a.m.
DESCRIPTION:
URL:https://machias.edu/event/pool-open-133/2021-10-20/
LOCATION:Reynolds Center
CATEGORIES:Pool
END:VEVENT
BEGIN:VEVENT
DTSTART;TZID=America/New_York:20211020T110000
DTEND;TZID=America/New_York:20211020T140000
DTSTAMP:20260423T171400
CREATED:20210902T201532Z
LAST-MODIFIED:20210903T130449Z
UID:10063049-1634727600-1634738400@machias.edu
SUMMARY:11:00 a.m.-2:00 p.m.
DESCRIPTION:
URL:https://machias.edu/event/pool-open-134/2021-10-20/
LOCATION:Reynolds Center
CATEGORIES:Pool
END:VEVENT
BEGIN:VEVENT
DTSTART;TZID=America/New_York:20211020T160000
DTEND;TZID=America/New_York:20211020T180000
DTSTAMP:20260423T171400
CREATED:20210902T202821Z
LAST-MODIFIED:20210903T125314Z
UID:10063589-1634745600-1634752800@machias.edu
SUMMARY:4:00 p.m.-6:00 p.m.
DESCRIPTION:
URL:https://machias.edu/event/pool-open-135/2021-10-20/
LOCATION:Reynolds Center
CATEGORIES:Pool
END:VEVENT
BEGIN:VEVENT
DTSTART;TZID=America/New_York:20211022T070000
DTEND;TZID=America/New_York:20211022T090000
DTSTAMP:20260423T171400
CREATED:20210902T200333Z
LAST-MODIFIED:20220719T152231Z
UID:10075556-1634886000-1634893200@machias.edu
SUMMARY:Pool Open 7:00 a.m.-9:00 a.m.
DESCRIPTION:
URL:https://machias.edu/event/pool-open-133/2021-10-22/
LOCATION:Reynolds Center
CATEGORIES:Pool
END:VEVENT
BEGIN:VEVENT
DTSTART;TZID=America/New_York:20211022T110000
DTEND;TZID=America/New_York:20211022T140000
DTSTAMP:20260423T171400
CREATED:20210902T201532Z
LAST-MODIFIED:20210903T130449Z
UID:10063052-1634900400-1634911200@machias.edu
SUMMARY:11:00 a.m.-2:00 p.m.
DESCRIPTION:
URL:https://machias.edu/event/pool-open-134/2021-10-22/
LOCATION:Reynolds Center
CATEGORIES:Pool
END:VEVENT
BEGIN:VEVENT
DTSTART;TZID=America/New_York:20211022T160000
DTEND;TZID=America/New_York:20211022T180000
DTSTAMP:20260423T171400
CREATED:20210902T202821Z
LAST-MODIFIED:20210903T125314Z
UID:10063592-1634918400-1634925600@machias.edu
SUMMARY:4:00 p.m.-6:00 p.m.
DESCRIPTION:
URL:https://machias.edu/event/pool-open-135/2021-10-22/
LOCATION:Reynolds Center
CATEGORIES:Pool
END:VEVENT
BEGIN:VEVENT
DTSTART;TZID=America/New_York:20211023T110000
DTEND;TZID=America/New_York:20211023T140000
DTSTAMP:20260423T171400
CREATED:20210902T201532Z
LAST-MODIFIED:20210903T130449Z
UID:10063055-1634986800-1634997600@machias.edu
SUMMARY:11:00 a.m.-2:00 p.m.
DESCRIPTION:
URL:https://machias.edu/event/pool-open-134/2021-10-23/
LOCATION:Reynolds Center
CATEGORIES:Pool
END:VEVENT
BEGIN:VEVENT
DTSTART;TZID=America/New_York:20211025T070000
DTEND;TZID=America/New_York:20211025T090000
DTSTAMP:20260423T171400
CREATED:20210902T200333Z
LAST-MODIFIED:20220719T152231Z
UID:10075559-1635145200-1635152400@machias.edu
SUMMARY:Pool Open 7:00 a.m.-9:00 a.m.
DESCRIPTION:
URL:https://machias.edu/event/pool-open-133/2021-10-25/
LOCATION:Reynolds Center
CATEGORIES:Pool
END:VEVENT
BEGIN:VEVENT
DTSTART;TZID=America/New_York:20211025T110000
DTEND;TZID=America/New_York:20211025T140000
DTSTAMP:20260423T171400
CREATED:20210902T201532Z
LAST-MODIFIED:20210903T130449Z
UID:10063058-1635159600-1635170400@machias.edu
SUMMARY:11:00 a.m.-2:00 p.m.
DESCRIPTION:
URL:https://machias.edu/event/pool-open-134/2021-10-25/
LOCATION:Reynolds Center
CATEGORIES:Pool
END:VEVENT
BEGIN:VEVENT
DTSTART;TZID=America/New_York:20211025T160000
DTEND;TZID=America/New_York:20211025T180000
DTSTAMP:20260423T171400
CREATED:20210902T202821Z
LAST-MODIFIED:20210903T125314Z
UID:10063595-1635177600-1635184800@machias.edu
SUMMARY:4:00 p.m.-6:00 p.m.
DESCRIPTION:
URL:https://machias.edu/event/pool-open-135/2021-10-25/
LOCATION:Reynolds Center
CATEGORIES:Pool
END:VEVENT
BEGIN:VEVENT
DTSTART;TZID=America/New_York:20211027T070000
DTEND;TZID=America/New_York:20211027T090000
DTSTAMP:20260423T171400
CREATED:20210902T200333Z
LAST-MODIFIED:20220719T152231Z
UID:10075562-1635318000-1635325200@machias.edu
SUMMARY:Pool Open 7:00 a.m.-9:00 a.m.
DESCRIPTION:
URL:https://machias.edu/event/pool-open-133/2021-10-27/
LOCATION:Reynolds Center
CATEGORIES:Pool
END:VEVENT
BEGIN:VEVENT
DTSTART;TZID=America/New_York:20211027T110000
DTEND;TZID=America/New_York:20211027T140000
DTSTAMP:20260423T171400
CREATED:20210902T201532Z
LAST-MODIFIED:20210903T130449Z
UID:10063061-1635332400-1635343200@machias.edu
SUMMARY:11:00 a.m.-2:00 p.m.
DESCRIPTION:
URL:https://machias.edu/event/pool-open-134/2021-10-27/
LOCATION:Reynolds Center
CATEGORIES:Pool
END:VEVENT
BEGIN:VEVENT
DTSTART;TZID=America/New_York:20211027T160000
DTEND;TZID=America/New_York:20211027T180000
DTSTAMP:20260423T171400
CREATED:20210902T202821Z
LAST-MODIFIED:20210903T125314Z
UID:10063598-1635350400-1635357600@machias.edu
SUMMARY:4:00 p.m.-6:00 p.m.
DESCRIPTION:
URL:https://machias.edu/event/pool-open-135/2021-10-27/
LOCATION:Reynolds Center
CATEGORIES:Pool
END:VEVENT
BEGIN:VEVENT
DTSTART;TZID=America/New_York:20211029T070000
DTEND;TZID=America/New_York:20211029T090000
DTSTAMP:20260423T171400
CREATED:20210902T200333Z
LAST-MODIFIED:20220719T152231Z
UID:10075565-1635490800-1635498000@machias.edu
SUMMARY:Pool Open 7:00 a.m.-9:00 a.m.
DESCRIPTION:
URL:https://machias.edu/event/pool-open-133/2021-10-29/
LOCATION:Reynolds Center
CATEGORIES:Pool
END:VEVENT
BEGIN:VEVENT
DTSTART;TZID=America/New_York:20211029T110000
DTEND;TZID=America/New_York:20211029T140000
DTSTAMP:20260423T171400
CREATED:20210902T201532Z
LAST-MODIFIED:20210903T130449Z
UID:10063064-1635505200-1635516000@machias.edu
SUMMARY:11:00 a.m.-2:00 p.m.
DESCRIPTION:
URL:https://machias.edu/event/pool-open-134/2021-10-29/
LOCATION:Reynolds Center
CATEGORIES:Pool
END:VEVENT
BEGIN:VEVENT
DTSTART;TZID=America/New_York:20211029T160000
DTEND;TZID=America/New_York:20211029T180000
DTSTAMP:20260423T171400
CREATED:20210902T202821Z
LAST-MODIFIED:20210903T125314Z
UID:10063601-1635523200-1635530400@machias.edu
SUMMARY:4:00 p.m.-6:00 p.m.
DESCRIPTION:
URL:https://machias.edu/event/pool-open-135/2021-10-29/
LOCATION:Reynolds Center
CATEGORIES:Pool
END:VEVENT
BEGIN:VEVENT
DTSTART;TZID=America/New_York:20211030T110000
DTEND;TZID=America/New_York:20211030T140000
DTSTAMP:20260423T171400
CREATED:20210902T201532Z
LAST-MODIFIED:20210903T130449Z
UID:10063067-1635591600-1635602400@machias.edu
SUMMARY:11:00 a.m.-2:00 p.m.
DESCRIPTION:
URL:https://machias.edu/event/pool-open-134/2021-10-30/
LOCATION:Reynolds Center
CATEGORIES:Pool
END:VEVENT
BEGIN:VEVENT
DTSTART;TZID=America/New_York:20211101T070000
DTEND;TZID=America/New_York:20211101T090000
DTSTAMP:20260423T171400
CREATED:20210902T200333Z
LAST-MODIFIED:20220719T152231Z
UID:10075568-1635750000-1635757200@machias.edu
SUMMARY:Pool Open 7:00 a.m.-9:00 a.m.
DESCRIPTION:
URL:https://machias.edu/event/pool-open-133/2021-11-01/
LOCATION:Reynolds Center
CATEGORIES:Pool
END:VEVENT
BEGIN:VEVENT
DTSTART;TZID=America/New_York:20211101T110000
DTEND;TZID=America/New_York:20211101T140000
DTSTAMP:20260423T171400
CREATED:20210902T201532Z
LAST-MODIFIED:20210903T130449Z
UID:10063070-1635764400-1635775200@machias.edu
SUMMARY:11:00 a.m.-2:00 p.m.
DESCRIPTION:
URL:https://machias.edu/event/pool-open-134/2021-11-01/
LOCATION:Reynolds Center
CATEGORIES:Pool
END:VEVENT
BEGIN:VEVENT
DTSTART;TZID=America/New_York:20211101T160000
DTEND;TZID=America/New_York:20211101T180000
DTSTAMP:20260423T171400
CREATED:20210902T202821Z
LAST-MODIFIED:20210903T125314Z
UID:10063604-1635782400-1635789600@machias.edu
SUMMARY:4:00 p.m.-6:00 p.m.
DESCRIPTION:
URL:https://machias.edu/event/pool-open-135/2021-11-01/
LOCATION:Reynolds Center
CATEGORIES:Pool
END:VEVENT
BEGIN:VEVENT
DTSTART;TZID=America/New_York:20211103T070000
DTEND;TZID=America/New_York:20211103T090000
DTSTAMP:20260423T171400
CREATED:20210902T200333Z
LAST-MODIFIED:20220719T152231Z
UID:10075571-1635922800-1635930000@machias.edu
SUMMARY:Pool Open 7:00 a.m.-9:00 a.m.
DESCRIPTION:
URL:https://machias.edu/event/pool-open-133/2021-11-03/
LOCATION:Reynolds Center
CATEGORIES:Pool
END:VEVENT
BEGIN:VEVENT
DTSTART;TZID=America/New_York:20211103T110000
DTEND;TZID=America/New_York:20211103T140000
DTSTAMP:20260423T171400
CREATED:20210902T201532Z
LAST-MODIFIED:20210903T130449Z
UID:10063073-1635937200-1635948000@machias.edu
SUMMARY:11:00 a.m.-2:00 p.m.
DESCRIPTION:
URL:https://machias.edu/event/pool-open-134/2021-11-03/
LOCATION:Reynolds Center
CATEGORIES:Pool
END:VEVENT
BEGIN:VEVENT
DTSTART;TZID=America/New_York:20211103T160000
DTEND;TZID=America/New_York:20211103T180000
DTSTAMP:20260423T171400
CREATED:20210902T202821Z
LAST-MODIFIED:20210903T125314Z
UID:10063607-1635955200-1635962400@machias.edu
SUMMARY:4:00 p.m.-6:00 p.m.
DESCRIPTION:
URL:https://machias.edu/event/pool-open-135/2021-11-03/
LOCATION:Reynolds Center
CATEGORIES:Pool
END:VEVENT
END:VCALENDAR