BEGIN:VCALENDAR
VERSION:2.0
PRODID:-//University of Maine at Machias - ECPv6.15.17.1//NONSGML v1.0//EN
CALSCALE:GREGORIAN
METHOD:PUBLISH
X-ORIGINAL-URL:https://machias.edu
X-WR-CALDESC:Events for University of Maine at Machias
REFRESH-INTERVAL;VALUE=DURATION:PT1H
X-Robots-Tag:noindex
X-PUBLISHED-TTL:PT1H
BEGIN:VTIMEZONE
TZID:America/New_York
BEGIN:DAYLIGHT
TZOFFSETFROM:-0500
TZOFFSETTO:-0400
TZNAME:EDT
DTSTART:20200308T070000
END:DAYLIGHT
BEGIN:STANDARD
TZOFFSETFROM:-0400
TZOFFSETTO:-0500
TZNAME:EST
DTSTART:20201101T060000
END:STANDARD
BEGIN:DAYLIGHT
TZOFFSETFROM:-0500
TZOFFSETTO:-0400
TZNAME:EDT
DTSTART:20210314T070000
END:DAYLIGHT
BEGIN:STANDARD
TZOFFSETFROM:-0400
TZOFFSETTO:-0500
TZNAME:EST
DTSTART:20211107T060000
END:STANDARD
BEGIN:DAYLIGHT
TZOFFSETFROM:-0500
TZOFFSETTO:-0400
TZNAME:EDT
DTSTART:20220313T070000
END:DAYLIGHT
BEGIN:STANDARD
TZOFFSETFROM:-0400
TZOFFSETTO:-0500
TZNAME:EST
DTSTART:20221106T060000
END:STANDARD
END:VTIMEZONE
BEGIN:VEVENT
DTSTART;TZID=America/New_York:20211101T070000
DTEND;TZID=America/New_York:20211101T090000
DTSTAMP:20260423T010210
CREATED:20210902T200333Z
LAST-MODIFIED:20220719T152231Z
UID:10075568-1635750000-1635757200@machias.edu
SUMMARY:Pool Open 7:00 a.m.-9:00 a.m.
DESCRIPTION:
URL:https://machias.edu/event/pool-open-133/2021-11-01/
LOCATION:Reynolds Center
CATEGORIES:Pool
END:VEVENT
BEGIN:VEVENT
DTSTART;TZID=America/New_York:20211101T110000
DTEND;TZID=America/New_York:20211101T140000
DTSTAMP:20260423T010210
CREATED:20210902T201532Z
LAST-MODIFIED:20210903T130449Z
UID:10063070-1635764400-1635775200@machias.edu
SUMMARY:11:00 a.m.-2:00 p.m.
DESCRIPTION:
URL:https://machias.edu/event/pool-open-134/2021-11-01/
LOCATION:Reynolds Center
CATEGORIES:Pool
END:VEVENT
BEGIN:VEVENT
DTSTART;TZID=America/New_York:20211101T160000
DTEND;TZID=America/New_York:20211101T180000
DTSTAMP:20260423T010210
CREATED:20210902T202821Z
LAST-MODIFIED:20210903T125314Z
UID:10063604-1635782400-1635789600@machias.edu
SUMMARY:4:00 p.m.-6:00 p.m.
DESCRIPTION:
URL:https://machias.edu/event/pool-open-135/2021-11-01/
LOCATION:Reynolds Center
CATEGORIES:Pool
END:VEVENT
BEGIN:VEVENT
DTSTART;TZID=America/New_York:20211103T070000
DTEND;TZID=America/New_York:20211103T090000
DTSTAMP:20260423T010210
CREATED:20210902T200333Z
LAST-MODIFIED:20220719T152231Z
UID:10075571-1635922800-1635930000@machias.edu
SUMMARY:Pool Open 7:00 a.m.-9:00 a.m.
DESCRIPTION:
URL:https://machias.edu/event/pool-open-133/2021-11-03/
LOCATION:Reynolds Center
CATEGORIES:Pool
END:VEVENT
BEGIN:VEVENT
DTSTART;TZID=America/New_York:20211103T110000
DTEND;TZID=America/New_York:20211103T140000
DTSTAMP:20260423T010210
CREATED:20210902T201532Z
LAST-MODIFIED:20210903T130449Z
UID:10063073-1635937200-1635948000@machias.edu
SUMMARY:11:00 a.m.-2:00 p.m.
DESCRIPTION:
URL:https://machias.edu/event/pool-open-134/2021-11-03/
LOCATION:Reynolds Center
CATEGORIES:Pool
END:VEVENT
BEGIN:VEVENT
DTSTART;TZID=America/New_York:20211103T160000
DTEND;TZID=America/New_York:20211103T180000
DTSTAMP:20260423T010210
CREATED:20210902T202821Z
LAST-MODIFIED:20210903T125314Z
UID:10063607-1635955200-1635962400@machias.edu
SUMMARY:4:00 p.m.-6:00 p.m.
DESCRIPTION:
URL:https://machias.edu/event/pool-open-135/2021-11-03/
LOCATION:Reynolds Center
CATEGORIES:Pool
END:VEVENT
BEGIN:VEVENT
DTSTART;TZID=America/New_York:20211105T070000
DTEND;TZID=America/New_York:20211105T090000
DTSTAMP:20260423T010210
CREATED:20210902T200333Z
LAST-MODIFIED:20220719T152231Z
UID:10075574-1636095600-1636102800@machias.edu
SUMMARY:Pool Open 7:00 a.m.-9:00 a.m.
DESCRIPTION:
URL:https://machias.edu/event/pool-open-133/2021-11-05/
LOCATION:Reynolds Center
CATEGORIES:Pool
END:VEVENT
BEGIN:VEVENT
DTSTART;TZID=America/New_York:20211105T110000
DTEND;TZID=America/New_York:20211105T140000
DTSTAMP:20260423T010210
CREATED:20210902T201532Z
LAST-MODIFIED:20210903T130449Z
UID:10063076-1636110000-1636120800@machias.edu
SUMMARY:11:00 a.m.-2:00 p.m.
DESCRIPTION:
URL:https://machias.edu/event/pool-open-134/2021-11-05/
LOCATION:Reynolds Center
CATEGORIES:Pool
END:VEVENT
BEGIN:VEVENT
DTSTART;TZID=America/New_York:20211105T160000
DTEND;TZID=America/New_York:20211105T180000
DTSTAMP:20260423T010210
CREATED:20210902T202821Z
LAST-MODIFIED:20210903T125314Z
UID:10063610-1636128000-1636135200@machias.edu
SUMMARY:4:00 p.m.-6:00 p.m.
DESCRIPTION:
URL:https://machias.edu/event/pool-open-135/2021-11-05/
LOCATION:Reynolds Center
CATEGORIES:Pool
END:VEVENT
BEGIN:VEVENT
DTSTART;TZID=America/New_York:20211106T110000
DTEND;TZID=America/New_York:20211106T140000
DTSTAMP:20260423T010210
CREATED:20210902T201532Z
LAST-MODIFIED:20210903T130449Z
UID:10063079-1636196400-1636207200@machias.edu
SUMMARY:11:00 a.m.-2:00 p.m.
DESCRIPTION:
URL:https://machias.edu/event/pool-open-134/2021-11-06/
LOCATION:Reynolds Center
CATEGORIES:Pool
END:VEVENT
BEGIN:VEVENT
DTSTART;TZID=America/New_York:20211108T070000
DTEND;TZID=America/New_York:20211108T090000
DTSTAMP:20260423T010210
CREATED:20210902T200333Z
LAST-MODIFIED:20220719T152231Z
UID:10075577-1636354800-1636362000@machias.edu
SUMMARY:Pool Open 7:00 a.m.-9:00 a.m.
DESCRIPTION:
URL:https://machias.edu/event/pool-open-133/2021-11-08/
LOCATION:Reynolds Center
CATEGORIES:Pool
END:VEVENT
BEGIN:VEVENT
DTSTART;TZID=America/New_York:20211108T110000
DTEND;TZID=America/New_York:20211108T140000
DTSTAMP:20260423T010210
CREATED:20210902T201532Z
LAST-MODIFIED:20210903T130449Z
UID:10063082-1636369200-1636380000@machias.edu
SUMMARY:11:00 a.m.-2:00 p.m.
DESCRIPTION:
URL:https://machias.edu/event/pool-open-134/2021-11-08/
LOCATION:Reynolds Center
CATEGORIES:Pool
END:VEVENT
BEGIN:VEVENT
DTSTART;TZID=America/New_York:20211108T160000
DTEND;TZID=America/New_York:20211108T180000
DTSTAMP:20260423T010210
CREATED:20210902T202821Z
LAST-MODIFIED:20210903T125314Z
UID:10063613-1636387200-1636394400@machias.edu
SUMMARY:4:00 p.m.-6:00 p.m.
DESCRIPTION:
URL:https://machias.edu/event/pool-open-135/2021-11-08/
LOCATION:Reynolds Center
CATEGORIES:Pool
END:VEVENT
BEGIN:VEVENT
DTSTART;TZID=America/New_York:20211110T070000
DTEND;TZID=America/New_York:20211110T090000
DTSTAMP:20260423T010210
CREATED:20210902T200333Z
LAST-MODIFIED:20220719T152231Z
UID:10075580-1636527600-1636534800@machias.edu
SUMMARY:Pool Open 7:00 a.m.-9:00 a.m.
DESCRIPTION:
URL:https://machias.edu/event/pool-open-133/2021-11-10/
LOCATION:Reynolds Center
CATEGORIES:Pool
END:VEVENT
BEGIN:VEVENT
DTSTART;TZID=America/New_York:20211110T110000
DTEND;TZID=America/New_York:20211110T140000
DTSTAMP:20260423T010210
CREATED:20210902T201532Z
LAST-MODIFIED:20210903T130449Z
UID:10063085-1636542000-1636552800@machias.edu
SUMMARY:11:00 a.m.-2:00 p.m.
DESCRIPTION:
URL:https://machias.edu/event/pool-open-134/2021-11-10/
LOCATION:Reynolds Center
CATEGORIES:Pool
END:VEVENT
BEGIN:VEVENT
DTSTART;TZID=America/New_York:20211110T160000
DTEND;TZID=America/New_York:20211110T180000
DTSTAMP:20260423T010210
CREATED:20210902T202821Z
LAST-MODIFIED:20210903T125314Z
UID:10063616-1636560000-1636567200@machias.edu
SUMMARY:4:00 p.m.-6:00 p.m.
DESCRIPTION:
URL:https://machias.edu/event/pool-open-135/2021-11-10/
LOCATION:Reynolds Center
CATEGORIES:Pool
END:VEVENT
BEGIN:VEVENT
DTSTART;TZID=America/New_York:20211112T070000
DTEND;TZID=America/New_York:20211112T090000
DTSTAMP:20260423T010210
CREATED:20210902T200333Z
LAST-MODIFIED:20220719T152231Z
UID:10075583-1636700400-1636707600@machias.edu
SUMMARY:Pool Open 7:00 a.m.-9:00 a.m.
DESCRIPTION:
URL:https://machias.edu/event/pool-open-133/2021-11-12/
LOCATION:Reynolds Center
CATEGORIES:Pool
END:VEVENT
BEGIN:VEVENT
DTSTART;TZID=America/New_York:20211112T110000
DTEND;TZID=America/New_York:20211112T140000
DTSTAMP:20260423T010210
CREATED:20210902T201532Z
LAST-MODIFIED:20210903T130449Z
UID:10063088-1636714800-1636725600@machias.edu
SUMMARY:11:00 a.m.-2:00 p.m.
DESCRIPTION:
URL:https://machias.edu/event/pool-open-134/2021-11-12/
LOCATION:Reynolds Center
CATEGORIES:Pool
END:VEVENT
BEGIN:VEVENT
DTSTART;TZID=America/New_York:20211112T160000
DTEND;TZID=America/New_York:20211112T180000
DTSTAMP:20260423T010210
CREATED:20210902T202821Z
LAST-MODIFIED:20210903T125314Z
UID:10063619-1636732800-1636740000@machias.edu
SUMMARY:4:00 p.m.-6:00 p.m.
DESCRIPTION:
URL:https://machias.edu/event/pool-open-135/2021-11-12/
LOCATION:Reynolds Center
CATEGORIES:Pool
END:VEVENT
BEGIN:VEVENT
DTSTART;TZID=America/New_York:20211113T110000
DTEND;TZID=America/New_York:20211113T140000
DTSTAMP:20260423T010210
CREATED:20210902T201532Z
LAST-MODIFIED:20210903T130449Z
UID:10063091-1636801200-1636812000@machias.edu
SUMMARY:11:00 a.m.-2:00 p.m.
DESCRIPTION:
URL:https://machias.edu/event/pool-open-134/2021-11-13/
LOCATION:Reynolds Center
CATEGORIES:Pool
END:VEVENT
BEGIN:VEVENT
DTSTART;TZID=America/New_York:20211115T070000
DTEND;TZID=America/New_York:20211115T090000
DTSTAMP:20260423T010210
CREATED:20210902T200333Z
LAST-MODIFIED:20220719T152231Z
UID:10075586-1636959600-1636966800@machias.edu
SUMMARY:Pool Open 7:00 a.m.-9:00 a.m.
DESCRIPTION:
URL:https://machias.edu/event/pool-open-133/2021-11-15/
LOCATION:Reynolds Center
CATEGORIES:Pool
END:VEVENT
BEGIN:VEVENT
DTSTART;TZID=America/New_York:20211115T110000
DTEND;TZID=America/New_York:20211115T140000
DTSTAMP:20260423T010210
CREATED:20210902T201532Z
LAST-MODIFIED:20210903T130449Z
UID:10063094-1636974000-1636984800@machias.edu
SUMMARY:11:00 a.m.-2:00 p.m.
DESCRIPTION:
URL:https://machias.edu/event/pool-open-134/2021-11-15/
LOCATION:Reynolds Center
CATEGORIES:Pool
END:VEVENT
BEGIN:VEVENT
DTSTART;TZID=America/New_York:20211115T160000
DTEND;TZID=America/New_York:20211115T180000
DTSTAMP:20260423T010210
CREATED:20210902T202821Z
LAST-MODIFIED:20210903T125314Z
UID:10063622-1636992000-1636999200@machias.edu
SUMMARY:4:00 p.m.-6:00 p.m.
DESCRIPTION:
URL:https://machias.edu/event/pool-open-135/2021-11-15/
LOCATION:Reynolds Center
CATEGORIES:Pool
END:VEVENT
BEGIN:VEVENT
DTSTART;TZID=America/New_York:20211117T070000
DTEND;TZID=America/New_York:20211117T090000
DTSTAMP:20260423T010210
CREATED:20210902T200333Z
LAST-MODIFIED:20220719T152231Z
UID:10075589-1637132400-1637139600@machias.edu
SUMMARY:Pool Open 7:00 a.m.-9:00 a.m.
DESCRIPTION:
URL:https://machias.edu/event/pool-open-133/2021-11-17/
LOCATION:Reynolds Center
CATEGORIES:Pool
END:VEVENT
BEGIN:VEVENT
DTSTART;TZID=America/New_York:20211117T110000
DTEND;TZID=America/New_York:20211117T140000
DTSTAMP:20260423T010210
CREATED:20210902T201532Z
LAST-MODIFIED:20210903T130449Z
UID:10063097-1637146800-1637157600@machias.edu
SUMMARY:11:00 a.m.-2:00 p.m.
DESCRIPTION:
URL:https://machias.edu/event/pool-open-134/2021-11-17/
LOCATION:Reynolds Center
CATEGORIES:Pool
END:VEVENT
BEGIN:VEVENT
DTSTART;TZID=America/New_York:20211117T160000
DTEND;TZID=America/New_York:20211117T180000
DTSTAMP:20260423T010210
CREATED:20210902T202821Z
LAST-MODIFIED:20210903T125314Z
UID:10063625-1637164800-1637172000@machias.edu
SUMMARY:4:00 p.m.-6:00 p.m.
DESCRIPTION:
URL:https://machias.edu/event/pool-open-135/2021-11-17/
LOCATION:Reynolds Center
CATEGORIES:Pool
END:VEVENT
BEGIN:VEVENT
DTSTART;TZID=America/New_York:20211119T070000
DTEND;TZID=America/New_York:20211119T090000
DTSTAMP:20260423T010210
CREATED:20210902T200333Z
LAST-MODIFIED:20220719T152231Z
UID:10075592-1637305200-1637312400@machias.edu
SUMMARY:Pool Open 7:00 a.m.-9:00 a.m.
DESCRIPTION:
URL:https://machias.edu/event/pool-open-133/2021-11-19/
LOCATION:Reynolds Center
CATEGORIES:Pool
END:VEVENT
BEGIN:VEVENT
DTSTART;TZID=America/New_York:20211119T110000
DTEND;TZID=America/New_York:20211119T140000
DTSTAMP:20260423T010210
CREATED:20210902T201532Z
LAST-MODIFIED:20210903T130449Z
UID:10063100-1637319600-1637330400@machias.edu
SUMMARY:11:00 a.m.-2:00 p.m.
DESCRIPTION:
URL:https://machias.edu/event/pool-open-134/2021-11-19/
LOCATION:Reynolds Center
CATEGORIES:Pool
END:VEVENT
BEGIN:VEVENT
DTSTART;TZID=America/New_York:20211119T160000
DTEND;TZID=America/New_York:20211119T180000
DTSTAMP:20260423T010210
CREATED:20210902T202821Z
LAST-MODIFIED:20210903T125314Z
UID:10063628-1637337600-1637344800@machias.edu
SUMMARY:4:00 p.m.-6:00 p.m.
DESCRIPTION:
URL:https://machias.edu/event/pool-open-135/2021-11-19/
LOCATION:Reynolds Center
CATEGORIES:Pool
END:VEVENT
BEGIN:VEVENT
DTSTART;TZID=America/New_York:20211120T110000
DTEND;TZID=America/New_York:20211120T140000
DTSTAMP:20260423T010210
CREATED:20210902T201532Z
LAST-MODIFIED:20210903T130449Z
UID:10063103-1637406000-1637416800@machias.edu
SUMMARY:11:00 a.m.-2:00 p.m.
DESCRIPTION:
URL:https://machias.edu/event/pool-open-134/2021-11-20/
LOCATION:Reynolds Center
CATEGORIES:Pool
END:VEVENT
END:VCALENDAR