BEGIN:VCALENDAR
VERSION:2.0
PRODID:-//University of Maine at Machias - ECPv6.15.17.1//NONSGML v1.0//EN
CALSCALE:GREGORIAN
METHOD:PUBLISH
X-WR-CALNAME:University of Maine at Machias
X-ORIGINAL-URL:https://machias.edu
X-WR-CALDESC:Events for University of Maine at Machias
REFRESH-INTERVAL;VALUE=DURATION:PT1H
X-Robots-Tag:noindex
X-PUBLISHED-TTL:PT1H
BEGIN:VTIMEZONE
TZID:America/New_York
BEGIN:DAYLIGHT
TZOFFSETFROM:-0500
TZOFFSETTO:-0400
TZNAME:EDT
DTSTART:20250309T070000
END:DAYLIGHT
BEGIN:STANDARD
TZOFFSETFROM:-0400
TZOFFSETTO:-0500
TZNAME:EST
DTSTART:20251102T060000
END:STANDARD
BEGIN:DAYLIGHT
TZOFFSETFROM:-0500
TZOFFSETTO:-0400
TZNAME:EDT
DTSTART:20260308T070000
END:DAYLIGHT
BEGIN:STANDARD
TZOFFSETFROM:-0400
TZOFFSETTO:-0500
TZNAME:EST
DTSTART:20261101T060000
END:STANDARD
BEGIN:DAYLIGHT
TZOFFSETFROM:-0500
TZOFFSETTO:-0400
TZNAME:EDT
DTSTART:20270314T070000
END:DAYLIGHT
BEGIN:STANDARD
TZOFFSETFROM:-0400
TZOFFSETTO:-0500
TZNAME:EST
DTSTART:20271107T060000
END:STANDARD
END:VTIMEZONE
BEGIN:VEVENT
DTSTART;VALUE=DATE:20260719
DTEND;VALUE=DATE:20260720
DTSTAMP:20260420T140114
CREATED:20251206T025625Z
LAST-MODIFIED:20260420T054533Z
UID:10086100-1784419200-1784505599@machias.edu
SUMMARY:Library closed
DESCRIPTION:
URL:https://machias.edu/event/library-closed-434/
CATEGORIES:Merrill Library
END:VEVENT
BEGIN:VEVENT
DTSTART;TZID=America/New_York:20260720T080000
DTEND;TZID=America/New_York:20260720T160000
DTSTAMP:20260420T140114
CREATED:20251206T025625Z
LAST-MODIFIED:20260420T054533Z
UID:10086103-1784534400-1784563200@machias.edu
SUMMARY:Library open 8am - 4pm
DESCRIPTION:
URL:https://machias.edu/event/library-open-8am-430pm-450/
CATEGORIES:Merrill Library
END:VEVENT
BEGIN:VEVENT
DTSTART;TZID=America/New_York:20260721T080000
DTEND;TZID=America/New_York:20260721T160000
DTSTAMP:20260420T140114
CREATED:20251206T025625Z
LAST-MODIFIED:20260420T054533Z
UID:10086106-1784620800-1784649600@machias.edu
SUMMARY:Library open 8am - 4pm
DESCRIPTION:
URL:https://machias.edu/event/library-open-8am-430pm-451/
CATEGORIES:Merrill Library
END:VEVENT
BEGIN:VEVENT
DTSTART;TZID=America/New_York:20260722T080000
DTEND;TZID=America/New_York:20260722T160000
DTSTAMP:20260420T140114
CREATED:20251206T025626Z
LAST-MODIFIED:20260420T054533Z
UID:10086109-1784707200-1784736000@machias.edu
SUMMARY:Library open 8am - 4pm
DESCRIPTION:
URL:https://machias.edu/event/library-open-8am-430pm-452/
CATEGORIES:Merrill Library
END:VEVENT
BEGIN:VEVENT
DTSTART;VALUE=DATE:20260723
DTEND;VALUE=DATE:20260724
DTSTAMP:20260420T140114
CREATED:20251206T025626Z
LAST-MODIFIED:20260420T054533Z
UID:10086112-1784764800-1784851199@machias.edu
SUMMARY:Library closed
DESCRIPTION:
URL:https://machias.edu/event/library-open-8am-430pm-453/
CATEGORIES:Merrill Library
END:VEVENT
BEGIN:VEVENT
DTSTART;VALUE=DATE:20260724
DTEND;VALUE=DATE:20260725
DTSTAMP:20260420T140114
CREATED:20251206T025626Z
LAST-MODIFIED:20260420T054533Z
UID:10086115-1784851200-1784937599@machias.edu
SUMMARY:Library closed
DESCRIPTION:
URL:https://machias.edu/event/library-open-8am-430pm-454/
CATEGORIES:Merrill Library
END:VEVENT
BEGIN:VEVENT
DTSTART;VALUE=DATE:20260725
DTEND;VALUE=DATE:20260726
DTSTAMP:20260420T140114
CREATED:20251206T025626Z
LAST-MODIFIED:20260420T054533Z
UID:10086121-1784937600-1785023999@machias.edu
SUMMARY:Library closed
DESCRIPTION:
URL:https://machias.edu/event/library-closed-436/
CATEGORIES:Merrill Library
END:VEVENT
END:VCALENDAR