BEGIN:VCALENDAR
VERSION:2.0
PRODID:-//University of Maine at Machias - ECPv6.15.17.1//NONSGML v1.0//EN
CALSCALE:GREGORIAN
METHOD:PUBLISH
X-WR-CALNAME:University of Maine at Machias
X-ORIGINAL-URL:https://machias.edu
X-WR-CALDESC:Events for University of Maine at Machias
REFRESH-INTERVAL;VALUE=DURATION:PT1H
X-Robots-Tag:noindex
X-PUBLISHED-TTL:PT1H
BEGIN:VTIMEZONE
TZID:America/New_York
BEGIN:DAYLIGHT
TZOFFSETFROM:-0500
TZOFFSETTO:-0400
TZNAME:EDT
DTSTART:20250309T070000
END:DAYLIGHT
BEGIN:STANDARD
TZOFFSETFROM:-0400
TZOFFSETTO:-0500
TZNAME:EST
DTSTART:20251102T060000
END:STANDARD
BEGIN:DAYLIGHT
TZOFFSETFROM:-0500
TZOFFSETTO:-0400
TZNAME:EDT
DTSTART:20260308T070000
END:DAYLIGHT
BEGIN:STANDARD
TZOFFSETFROM:-0400
TZOFFSETTO:-0500
TZNAME:EST
DTSTART:20261101T060000
END:STANDARD
BEGIN:DAYLIGHT
TZOFFSETFROM:-0500
TZOFFSETTO:-0400
TZNAME:EDT
DTSTART:20270314T070000
END:DAYLIGHT
BEGIN:STANDARD
TZOFFSETFROM:-0400
TZOFFSETTO:-0500
TZNAME:EST
DTSTART:20271107T060000
END:STANDARD
END:VTIMEZONE
BEGIN:VEVENT
DTSTART;VALUE=DATE:20260621
DTEND;VALUE=DATE:20260622
DTSTAMP:20260419T212313
CREATED:20251206T025622Z
LAST-MODIFIED:20260419T054309Z
UID:10086013-1782000000-1782086399@machias.edu
SUMMARY:Library closed
DESCRIPTION:
URL:https://machias.edu/event/library-closed-424/
CATEGORIES:Merrill Library
END:VEVENT
BEGIN:VEVENT
DTSTART;TZID=America/New_York:20260622T080000
DTEND;TZID=America/New_York:20260622T160000
DTSTAMP:20260419T212313
CREATED:20251206T025622Z
LAST-MODIFIED:20260419T054309Z
UID:10086019-1782115200-1782144000@machias.edu
SUMMARY:Library open 8am - 4pm
DESCRIPTION:
URL:https://machias.edu/event/library-open-8am-430pm-431/
CATEGORIES:Merrill Library
END:VEVENT
BEGIN:VEVENT
DTSTART;TZID=America/New_York:20260623T080000
DTEND;TZID=America/New_York:20260623T160000
DTSTAMP:20260419T212313
CREATED:20251206T025622Z
LAST-MODIFIED:20260419T054309Z
UID:10086022-1782201600-1782230400@machias.edu
SUMMARY:Library open 8am - 4pm
DESCRIPTION:
URL:https://machias.edu/event/library-open-8am-430pm-432/
CATEGORIES:Merrill Library
END:VEVENT
BEGIN:VEVENT
DTSTART;TZID=America/New_York:20260624T080000
DTEND;TZID=America/New_York:20260624T160000
DTSTAMP:20260419T212313
CREATED:20251206T025622Z
LAST-MODIFIED:20260419T054309Z
UID:10086025-1782288000-1782316800@machias.edu
SUMMARY:Library open 8am - 4pm
DESCRIPTION:
URL:https://machias.edu/event/library-open-8am-430pm-433/
CATEGORIES:Merrill Library
END:VEVENT
BEGIN:VEVENT
DTSTART;VALUE=DATE:20260625
DTEND;VALUE=DATE:20260626
DTSTAMP:20260419T212313
CREATED:20251206T025622Z
LAST-MODIFIED:20260419T054309Z
UID:10086028-1782345600-1782431999@machias.edu
SUMMARY:Library closed
DESCRIPTION:
URL:https://machias.edu/event/library-open-8am-430pm-434/
CATEGORIES:Merrill Library
END:VEVENT
BEGIN:VEVENT
DTSTART;VALUE=DATE:20260626
DTEND;VALUE=DATE:20260627
DTSTAMP:20260419T212313
CREATED:20251206T025623Z
LAST-MODIFIED:20260419T054309Z
UID:10086031-1782432000-1782518399@machias.edu
SUMMARY:Library closed
DESCRIPTION:
URL:https://machias.edu/event/library-open-8am-430pm-435/
CATEGORIES:Merrill Library
END:VEVENT
BEGIN:VEVENT
DTSTART;VALUE=DATE:20260627
DTEND;VALUE=DATE:20260628
DTSTAMP:20260419T212313
CREATED:20251206T025623Z
LAST-MODIFIED:20260419T054309Z
UID:10086034-1782518400-1782604799@machias.edu
SUMMARY:Library closed
DESCRIPTION:
URL:https://machias.edu/event/library-closed-426/
CATEGORIES:Merrill Library
END:VEVENT
END:VCALENDAR