BEGIN:VCALENDAR
VERSION:2.0
PRODID:-//University of Maine at Machias - ECPv6.15.17.1//NONSGML v1.0//EN
CALSCALE:GREGORIAN
METHOD:PUBLISH
X-ORIGINAL-URL:https://machias.edu
X-WR-CALDESC:Events for University of Maine at Machias
REFRESH-INTERVAL;VALUE=DURATION:PT1H
X-Robots-Tag:noindex
X-PUBLISHED-TTL:PT1H
BEGIN:VTIMEZONE
TZID:America/New_York
BEGIN:DAYLIGHT
TZOFFSETFROM:-0500
TZOFFSETTO:-0400
TZNAME:EDT
DTSTART:20250309T070000
END:DAYLIGHT
BEGIN:STANDARD
TZOFFSETFROM:-0400
TZOFFSETTO:-0500
TZNAME:EST
DTSTART:20251102T060000
END:STANDARD
BEGIN:DAYLIGHT
TZOFFSETFROM:-0500
TZOFFSETTO:-0400
TZNAME:EDT
DTSTART:20260308T070000
END:DAYLIGHT
BEGIN:STANDARD
TZOFFSETFROM:-0400
TZOFFSETTO:-0500
TZNAME:EST
DTSTART:20261101T060000
END:STANDARD
BEGIN:DAYLIGHT
TZOFFSETFROM:-0500
TZOFFSETTO:-0400
TZNAME:EDT
DTSTART:20270314T070000
END:DAYLIGHT
BEGIN:STANDARD
TZOFFSETFROM:-0400
TZOFFSETTO:-0500
TZNAME:EST
DTSTART:20271107T060000
END:STANDARD
END:VTIMEZONE
BEGIN:VEVENT
DTSTART;VALUE=DATE:20260614
DTEND;VALUE=DATE:20260615
DTSTAMP:20260419T111237
CREATED:20251206T025621Z
LAST-MODIFIED:20260419T054308Z
UID:10085995-1781395200-1781481599@machias.edu
SUMMARY:Library closed
DESCRIPTION:
URL:https://machias.edu/event/library-closed-422/
CATEGORIES:Merrill Library
END:VEVENT
BEGIN:VEVENT
DTSTART;TZID=America/New_York:20260615T080000
DTEND;TZID=America/New_York:20260615T160000
DTSTAMP:20260419T111237
CREATED:20251206T025621Z
LAST-MODIFIED:20260419T054308Z
UID:10085998-1781510400-1781539200@machias.edu
SUMMARY:Library open 8am - 4pm
DESCRIPTION:
URL:https://machias.edu/event/library-open-8am-430pm-427/
CATEGORIES:Merrill Library
END:VEVENT
BEGIN:VEVENT
DTSTART;TZID=America/New_York:20260616T080000
DTEND;TZID=America/New_York:20260616T160000
DTSTAMP:20260419T111237
CREATED:20251206T025621Z
LAST-MODIFIED:20260419T054308Z
UID:10086001-1781596800-1781625600@machias.edu
SUMMARY:Library open 8am - 4pm
DESCRIPTION:
URL:https://machias.edu/event/library-open-8am-430pm-428/
CATEGORIES:Merrill Library
END:VEVENT
BEGIN:VEVENT
DTSTART;TZID=America/New_York:20260617T080000
DTEND;TZID=America/New_York:20260617T160000
DTSTAMP:20260419T111237
CREATED:20251206T025621Z
LAST-MODIFIED:20260419T054308Z
UID:10086004-1781683200-1781712000@machias.edu
SUMMARY:Library open 8am - 4pm
DESCRIPTION:
URL:https://machias.edu/event/library-open-8am-430pm-429/
CATEGORIES:Merrill Library
END:VEVENT
BEGIN:VEVENT
DTSTART;VALUE=DATE:20260618
DTEND;VALUE=DATE:20260619
DTSTAMP:20260419T111237
CREATED:20251206T025621Z
LAST-MODIFIED:20260419T054309Z
UID:10086007-1781740800-1781827199@machias.edu
SUMMARY:Library closed
DESCRIPTION:
URL:https://machias.edu/event/library-open-8am-430pm-430/
CATEGORIES:Merrill Library
END:VEVENT
BEGIN:VEVENT
DTSTART;VALUE=DATE:20260619
DTEND;VALUE=DATE:20260620
DTSTAMP:20260419T111237
CREATED:20251206T025622Z
LAST-MODIFIED:20260419T054309Z
UID:10086010-1781827200-1781913599@machias.edu
SUMMARY:Library closed
DESCRIPTION:
URL:https://machias.edu/event/library-closed-423/
CATEGORIES:Merrill Library
END:VEVENT
BEGIN:VEVENT
DTSTART;VALUE=DATE:20260620
DTEND;VALUE=DATE:20260621
DTSTAMP:20260419T111237
CREATED:20251206T025622Z
LAST-MODIFIED:20260419T054309Z
UID:10086016-1781913600-1781999999@machias.edu
SUMMARY:Library closed
DESCRIPTION:
URL:https://machias.edu/event/library-closed-425/
CATEGORIES:Merrill Library
END:VEVENT
END:VCALENDAR