BEGIN:VCALENDAR
VERSION:2.0
PRODID:-//University of Maine at Machias - ECPv6.15.17.1//NONSGML v1.0//EN
CALSCALE:GREGORIAN
METHOD:PUBLISH
X-WR-CALNAME:University of Maine at Machias
X-ORIGINAL-URL:https://machias.edu
X-WR-CALDESC:Events for University of Maine at Machias
REFRESH-INTERVAL;VALUE=DURATION:PT1H
X-Robots-Tag:noindex
X-PUBLISHED-TTL:PT1H
BEGIN:VTIMEZONE
TZID:America/New_York
BEGIN:DAYLIGHT
TZOFFSETFROM:-0500
TZOFFSETTO:-0400
TZNAME:EDT
DTSTART:20250309T070000
END:DAYLIGHT
BEGIN:STANDARD
TZOFFSETFROM:-0400
TZOFFSETTO:-0500
TZNAME:EST
DTSTART:20251102T060000
END:STANDARD
BEGIN:DAYLIGHT
TZOFFSETFROM:-0500
TZOFFSETTO:-0400
TZNAME:EDT
DTSTART:20260308T070000
END:DAYLIGHT
BEGIN:STANDARD
TZOFFSETFROM:-0400
TZOFFSETTO:-0500
TZNAME:EST
DTSTART:20261101T060000
END:STANDARD
BEGIN:DAYLIGHT
TZOFFSETFROM:-0500
TZOFFSETTO:-0400
TZNAME:EDT
DTSTART:20270314T070000
END:DAYLIGHT
BEGIN:STANDARD
TZOFFSETFROM:-0400
TZOFFSETTO:-0500
TZNAME:EST
DTSTART:20271107T060000
END:STANDARD
END:VTIMEZONE
BEGIN:VEVENT
DTSTART;VALUE=DATE:20260215
DTEND;VALUE=DATE:20260216
DTSTAMP:20260420T065803
CREATED:20251206T025609Z
LAST-MODIFIED:20260215T020654Z
UID:10085635-1771113600-1771199999@machias.edu
SUMMARY:Library closed
DESCRIPTION:
URL:https://machias.edu/event/library-closed-403/
CATEGORIES:Merrill Library
END:VEVENT
BEGIN:VEVENT
DTSTART;VALUE=DATE:20260216
DTEND;VALUE=DATE:20260217
DTSTAMP:20260420T065803
CREATED:20251206T025609Z
LAST-MODIFIED:20260216T020603Z
UID:10085641-1771200000-1771286399@machias.edu
SUMMARY:Library closed
DESCRIPTION:
URL:https://machias.edu/event/library-closed-405/
CATEGORIES:Merrill Library
END:VEVENT
BEGIN:VEVENT
DTSTART;TZID=America/New_York:20260217T080000
DTEND;TZID=America/New_York:20260217T200000
DTSTAMP:20260420T065803
CREATED:20251206T025609Z
LAST-MODIFIED:20260217T020603Z
UID:10085644-1771315200-1771358400@machias.edu
SUMMARY:Library open 8am - 8pm
DESCRIPTION:
URL:https://machias.edu/event/library-open-8am-10pm-570/
CATEGORIES:Merrill Library
END:VEVENT
BEGIN:VEVENT
DTSTART;TZID=America/New_York:20260218T080000
DTEND;TZID=America/New_York:20260218T200000
DTSTAMP:20260420T065803
CREATED:20251206T025609Z
LAST-MODIFIED:20260218T020648Z
UID:10085647-1771401600-1771444800@machias.edu
SUMMARY:Library open 8am - 8pm
DESCRIPTION:
URL:https://machias.edu/event/library-open-8am-10pm-571/
CATEGORIES:Merrill Library
END:VEVENT
BEGIN:VEVENT
DTSTART;TZID=America/New_York:20260219T080000
DTEND;TZID=America/New_York:20260219T200000
DTSTAMP:20260420T065803
CREATED:20251206T025609Z
LAST-MODIFIED:20260219T020628Z
UID:10085650-1771488000-1771531200@machias.edu
SUMMARY:Library open 8am - 8pm
DESCRIPTION:
URL:https://machias.edu/event/library-open-8am-10pm-572/
CATEGORIES:Merrill Library
END:VEVENT
BEGIN:VEVENT
DTSTART;TZID=America/New_York:20260220T080000
DTEND;TZID=America/New_York:20260220T170000
DTSTAMP:20260420T065803
CREATED:20251206T025609Z
LAST-MODIFIED:20260220T020633Z
UID:10085653-1771574400-1771606800@machias.edu
SUMMARY:Library open 8am - 5pm
DESCRIPTION:
URL:https://machias.edu/event/library-open-8am-5pm-160/
CATEGORIES:Merrill Library
END:VEVENT
BEGIN:VEVENT
DTSTART;VALUE=DATE:20260221
DTEND;VALUE=DATE:20260222
DTSTAMP:20260420T065803
CREATED:20251206T025609Z
LAST-MODIFIED:20260221T022033Z
UID:10085656-1771632000-1771718399@machias.edu
SUMMARY:Library closed
DESCRIPTION:
URL:https://machias.edu/event/library-open-1pm-5pm-78/
CATEGORIES:Merrill Library
END:VEVENT
END:VCALENDAR