BEGIN:VCALENDAR
VERSION:2.0
PRODID:-//University of Maine at Machias - ECPv6.15.17.1//NONSGML v1.0//EN
CALSCALE:GREGORIAN
METHOD:PUBLISH
X-ORIGINAL-URL:https://machias.edu
X-WR-CALDESC:Events for University of Maine at Machias
REFRESH-INTERVAL;VALUE=DURATION:PT1H
X-Robots-Tag:noindex
X-PUBLISHED-TTL:PT1H
BEGIN:VTIMEZONE
TZID:America/New_York
BEGIN:DAYLIGHT
TZOFFSETFROM:-0500
TZOFFSETTO:-0400
TZNAME:EDT
DTSTART:20250309T070000
END:DAYLIGHT
BEGIN:STANDARD
TZOFFSETFROM:-0400
TZOFFSETTO:-0500
TZNAME:EST
DTSTART:20251102T060000
END:STANDARD
BEGIN:DAYLIGHT
TZOFFSETFROM:-0500
TZOFFSETTO:-0400
TZNAME:EDT
DTSTART:20260308T070000
END:DAYLIGHT
BEGIN:STANDARD
TZOFFSETFROM:-0400
TZOFFSETTO:-0500
TZNAME:EST
DTSTART:20261101T060000
END:STANDARD
BEGIN:DAYLIGHT
TZOFFSETFROM:-0500
TZOFFSETTO:-0400
TZNAME:EDT
DTSTART:20270314T070000
END:DAYLIGHT
BEGIN:STANDARD
TZOFFSETFROM:-0400
TZOFFSETTO:-0500
TZNAME:EST
DTSTART:20271107T060000
END:STANDARD
END:VTIMEZONE
BEGIN:VEVENT
DTSTART;TZID=America/New_York:20260208T140000
DTEND;TZID=America/New_York:20260208T200000
DTSTAMP:20260419T111305
CREATED:20251206T025608Z
LAST-MODIFIED:20260208T010609Z
UID:10085617-1770559200-1770580800@machias.edu
SUMMARY:Library open 2pm - 8pm
DESCRIPTION:
URL:https://machias.edu/event/library-open-2pm-8pm-110/
CATEGORIES:Merrill Library
END:VEVENT
BEGIN:VEVENT
DTSTART;TZID=America/New_York:20260209T080000
DTEND;TZID=America/New_York:20260209T200000
DTSTAMP:20260419T111305
CREATED:20251206T025608Z
LAST-MODIFIED:20260209T010706Z
UID:10085620-1770624000-1770667200@machias.edu
SUMMARY:Library open 8am - 8pm
DESCRIPTION:
URL:https://machias.edu/event/library-open-8am-10pm-566/
CATEGORIES:Merrill Library
END:VEVENT
BEGIN:VEVENT
DTSTART;TZID=America/New_York:20260210T080000
DTEND;TZID=America/New_York:20260210T200000
DTSTAMP:20260419T111305
CREATED:20251206T025608Z
LAST-MODIFIED:20260210T012201Z
UID:10085623-1770710400-1770753600@machias.edu
SUMMARY:Library open 8am - 8pm
DESCRIPTION:
URL:https://machias.edu/event/library-open-8am-10pm-567/
CATEGORIES:Merrill Library
END:VEVENT
BEGIN:VEVENT
DTSTART;TZID=America/New_York:20260211T080000
DTEND;TZID=America/New_York:20260211T200000
DTSTAMP:20260419T111305
CREATED:20251206T025608Z
LAST-MODIFIED:20260211T013817Z
UID:10085626-1770796800-1770840000@machias.edu
SUMMARY:Library open 8am - 8pm
DESCRIPTION:
URL:https://machias.edu/event/library-open-8am-10pm-568/
CATEGORIES:Merrill Library
END:VEVENT
BEGIN:VEVENT
DTSTART;TZID=America/New_York:20260212T080000
DTEND;TZID=America/New_York:20260212T200000
DTSTAMP:20260419T111305
CREATED:20251206T025608Z
LAST-MODIFIED:20260212T015047Z
UID:10085629-1770883200-1770926400@machias.edu
SUMMARY:Library open 8am - 8pm
DESCRIPTION:
URL:https://machias.edu/event/library-open-8am-10pm-569/
CATEGORIES:Merrill Library
END:VEVENT
BEGIN:VEVENT
DTSTART;TZID=America/New_York:20260213T080000
DTEND;TZID=America/New_York:20260213T170000
DTSTAMP:20260419T111305
CREATED:20251206T025608Z
LAST-MODIFIED:20260213T015058Z
UID:10085632-1770969600-1771002000@machias.edu
SUMMARY:Library open 8am - 5pm
DESCRIPTION:
URL:https://machias.edu/event/library-open-8am-5pm-159/
CATEGORIES:Merrill Library
END:VEVENT
BEGIN:VEVENT
DTSTART;VALUE=DATE:20260214
DTEND;VALUE=DATE:20260215
DTSTAMP:20260419T111305
CREATED:20251206T025609Z
LAST-MODIFIED:20260214T020634Z
UID:10085638-1771027200-1771113599@machias.edu
SUMMARY:Library closed
DESCRIPTION:
URL:https://machias.edu/event/library-closed-404/
CATEGORIES:Merrill Library
END:VEVENT
END:VCALENDAR