BEGIN:VCALENDAR
VERSION:2.0
PRODID:-//University of Maine at Machias - ECPv6.15.17.1//NONSGML v1.0//EN
CALSCALE:GREGORIAN
METHOD:PUBLISH
X-ORIGINAL-URL:https://machias.edu
X-WR-CALDESC:Events for University of Maine at Machias
REFRESH-INTERVAL;VALUE=DURATION:PT1H
X-Robots-Tag:noindex
X-PUBLISHED-TTL:PT1H
BEGIN:VTIMEZONE
TZID:America/New_York
BEGIN:DAYLIGHT
TZOFFSETFROM:-0500
TZOFFSETTO:-0400
TZNAME:EDT
DTSTART:20240310T070000
END:DAYLIGHT
BEGIN:STANDARD
TZOFFSETFROM:-0400
TZOFFSETTO:-0500
TZNAME:EST
DTSTART:20241103T060000
END:STANDARD
BEGIN:DAYLIGHT
TZOFFSETFROM:-0500
TZOFFSETTO:-0400
TZNAME:EDT
DTSTART:20250309T070000
END:DAYLIGHT
BEGIN:STANDARD
TZOFFSETFROM:-0400
TZOFFSETTO:-0500
TZNAME:EST
DTSTART:20251102T060000
END:STANDARD
BEGIN:DAYLIGHT
TZOFFSETFROM:-0500
TZOFFSETTO:-0400
TZNAME:EDT
DTSTART:20260308T070000
END:DAYLIGHT
BEGIN:STANDARD
TZOFFSETFROM:-0400
TZOFFSETTO:-0500
TZNAME:EST
DTSTART:20261101T060000
END:STANDARD
END:VTIMEZONE
BEGIN:VEVENT
DTSTART;TZID=America/New_York:20251109T140000
DTEND;TZID=America/New_York:20251109T200000
DTSTAMP:20260421T082535
CREATED:20250825T170228Z
LAST-MODIFIED:20251109T015343Z
UID:10085327-1762696800-1762718400@machias.edu
SUMMARY:Library open 2pm - 8pm
DESCRIPTION:
URL:https://machias.edu/event/library-open-2pm-8pm-103/
CATEGORIES:Merrill Library
END:VEVENT
BEGIN:VEVENT
DTSTART;TZID=America/New_York:20251110T080000
DTEND;TZID=America/New_York:20251110T220000
DTSTAMP:20260421T082535
CREATED:20250825T170228Z
LAST-MODIFIED:20251111T015145Z
UID:10085330-1762761600-1762812000@machias.edu
SUMMARY:Library open 8am - 10pm
DESCRIPTION:
URL:https://machias.edu/event/library-open-8am-10pm-534/
CATEGORIES:Merrill Library
END:VEVENT
BEGIN:VEVENT
DTSTART;VALUE=DATE:20251111
DTEND;VALUE=DATE:20251112
DTSTAMP:20260421T082535
CREATED:20250825T170228Z
LAST-MODIFIED:20251111T015145Z
UID:10085333-1762819200-1762905599@machias.edu
SUMMARY:Library closed
DESCRIPTION:
URL:https://machias.edu/event/library-closed-380/
CATEGORIES:Merrill Library
END:VEVENT
BEGIN:VEVENT
DTSTART;TZID=America/New_York:20251112T080000
DTEND;TZID=America/New_York:20251112T220000
DTSTAMP:20260421T082535
CREATED:20250825T170228Z
LAST-MODIFIED:20251113T015230Z
UID:10085336-1762934400-1762984800@machias.edu
SUMMARY:Library open 8am - 10pm
DESCRIPTION:
URL:https://machias.edu/event/library-open-8am-10pm-535/
CATEGORIES:Merrill Library
END:VEVENT
BEGIN:VEVENT
DTSTART;TZID=America/New_York:20251113T080000
DTEND;TZID=America/New_York:20251113T220000
DTSTAMP:20260421T082535
CREATED:20250825T170228Z
LAST-MODIFIED:20251114T015727Z
UID:10085339-1763020800-1763071200@machias.edu
SUMMARY:Library open 8am - 10pm
DESCRIPTION:
URL:https://machias.edu/event/library-open-8am-10pm-536/
CATEGORIES:Merrill Library
END:VEVENT
BEGIN:VEVENT
DTSTART;TZID=America/New_York:20251114T080000
DTEND;TZID=America/New_York:20251114T170000
DTSTAMP:20260421T082535
CREATED:20250825T170228Z
LAST-MODIFIED:20251114T015728Z
UID:10085342-1763107200-1763139600@machias.edu
SUMMARY:Library open 8am - 5pm
DESCRIPTION:
URL:https://machias.edu/event/library-open-8am-5pm-151/
CATEGORIES:Merrill Library
END:VEVENT
BEGIN:VEVENT
DTSTART;TZID=America/New_York:20251115T130000
DTEND;TZID=America/New_York:20251115T170000
DTSTAMP:20260421T082535
CREATED:20250825T170229Z
LAST-MODIFIED:20251115T015540Z
UID:10085345-1763211600-1763226000@machias.edu
SUMMARY:Library open 1pm - 5pm
DESCRIPTION:
URL:https://machias.edu/event/library-open-1pm-5pm-71/
CATEGORIES:Merrill Library
END:VEVENT
END:VCALENDAR