BEGIN:VCALENDAR
VERSION:2.0
PRODID:-//University of Maine at Machias - ECPv6.15.17.1//NONSGML v1.0//EN
CALSCALE:GREGORIAN
METHOD:PUBLISH
X-WR-CALNAME:University of Maine at Machias
X-ORIGINAL-URL:https://machias.edu
X-WR-CALDESC:Events for University of Maine at Machias
REFRESH-INTERVAL;VALUE=DURATION:PT1H
X-Robots-Tag:noindex
X-PUBLISHED-TTL:PT1H
BEGIN:VTIMEZONE
TZID:America/New_York
BEGIN:DAYLIGHT
TZOFFSETFROM:-0500
TZOFFSETTO:-0400
TZNAME:EDT
DTSTART:20240310T070000
END:DAYLIGHT
BEGIN:STANDARD
TZOFFSETFROM:-0400
TZOFFSETTO:-0500
TZNAME:EST
DTSTART:20241103T060000
END:STANDARD
BEGIN:DAYLIGHT
TZOFFSETFROM:-0500
TZOFFSETTO:-0400
TZNAME:EDT
DTSTART:20250309T070000
END:DAYLIGHT
BEGIN:STANDARD
TZOFFSETFROM:-0400
TZOFFSETTO:-0500
TZNAME:EST
DTSTART:20251102T060000
END:STANDARD
BEGIN:DAYLIGHT
TZOFFSETFROM:-0500
TZOFFSETTO:-0400
TZNAME:EDT
DTSTART:20260308T070000
END:DAYLIGHT
BEGIN:STANDARD
TZOFFSETFROM:-0400
TZOFFSETTO:-0500
TZNAME:EST
DTSTART:20261101T060000
END:STANDARD
END:VTIMEZONE
BEGIN:VEVENT
DTSTART;TZID=America/New_York:20250921T140000
DTEND;TZID=America/New_York:20250921T200000
DTSTAMP:20260421T220701
CREATED:20250825T170223Z
LAST-MODIFIED:20250921T213902Z
UID:10085180-1758463200-1758484800@machias.edu
SUMMARY:Library open 2pm - 8pm
DESCRIPTION:
URL:https://machias.edu/event/library-open-2pm-8pm-97/
CATEGORIES:Merrill Library
END:VEVENT
BEGIN:VEVENT
DTSTART;TZID=America/New_York:20250922T080000
DTEND;TZID=America/New_York:20250922T220000
DTSTAMP:20260421T220701
CREATED:20250825T170224Z
LAST-MODIFIED:20250922T213853Z
UID:10085183-1758528000-1758578400@machias.edu
SUMMARY:Library open 8am - 10pm
DESCRIPTION:
URL:https://machias.edu/event/library-open-8am-10pm-507/
CATEGORIES:Merrill Library
END:VEVENT
BEGIN:VEVENT
DTSTART;TZID=America/New_York:20250923T080000
DTEND;TZID=America/New_York:20250923T220000
DTSTAMP:20260421T220701
CREATED:20250825T170224Z
LAST-MODIFIED:20250923T213852Z
UID:10085186-1758614400-1758664800@machias.edu
SUMMARY:Library open 8am - 10pm
DESCRIPTION:
URL:https://machias.edu/event/library-open-8am-10pm-508/
CATEGORIES:Merrill Library
END:VEVENT
BEGIN:VEVENT
DTSTART;TZID=America/New_York:20250924T080000
DTEND;TZID=America/New_York:20250924T220000
DTSTAMP:20260421T220701
CREATED:20250825T170224Z
LAST-MODIFIED:20250924T214035Z
UID:10085189-1758700800-1758751200@machias.edu
SUMMARY:Library open 8am - 10pm
DESCRIPTION:
URL:https://machias.edu/event/library-open-8am-10pm-509/
CATEGORIES:Merrill Library
END:VEVENT
BEGIN:VEVENT
DTSTART;TZID=America/New_York:20250925T080000
DTEND;TZID=America/New_York:20250925T220000
DTSTAMP:20260421T220701
CREATED:20250825T170224Z
LAST-MODIFIED:20250925T222322Z
UID:10085192-1758787200-1758837600@machias.edu
SUMMARY:Library open 8am - 10pm
DESCRIPTION:
URL:https://machias.edu/event/library-open-8am-10pm-510/
CATEGORIES:Merrill Library
END:VEVENT
BEGIN:VEVENT
DTSTART;TZID=America/New_York:20250926T080000
DTEND;TZID=America/New_York:20250926T170000
DTSTAMP:20260421T220701
CREATED:20250825T170224Z
LAST-MODIFIED:20250925T222323Z
UID:10085195-1758873600-1758906000@machias.edu
SUMMARY:Library open 8am - 5pm
DESCRIPTION:
URL:https://machias.edu/event/library-open-8am-5pm-144/
CATEGORIES:Merrill Library
END:VEVENT
BEGIN:VEVENT
DTSTART;TZID=America/New_York:20250927T130000
DTEND;TZID=America/New_York:20250927T170000
DTSTAMP:20260421T220701
CREATED:20250825T170224Z
LAST-MODIFIED:20250926T222343Z
UID:10085198-1758978000-1758992400@machias.edu
SUMMARY:Library open 1pm - 5pm
DESCRIPTION:
URL:https://machias.edu/event/library-open-1pm-5pm-65/
CATEGORIES:Merrill Library
END:VEVENT
END:VCALENDAR