BEGIN:VCALENDAR
VERSION:2.0
PRODID:-//University of Maine at Machias - ECPv6.15.17.1//NONSGML v1.0//EN
CALSCALE:GREGORIAN
METHOD:PUBLISH
X-WR-CALNAME:University of Maine at Machias
X-ORIGINAL-URL:https://machias.edu
X-WR-CALDESC:Events for University of Maine at Machias
REFRESH-INTERVAL;VALUE=DURATION:PT1H
X-Robots-Tag:noindex
X-PUBLISHED-TTL:PT1H
BEGIN:VTIMEZONE
TZID:America/New_York
BEGIN:DAYLIGHT
TZOFFSETFROM:-0500
TZOFFSETTO:-0400
TZNAME:EDT
DTSTART:20240310T070000
END:DAYLIGHT
BEGIN:STANDARD
TZOFFSETFROM:-0400
TZOFFSETTO:-0500
TZNAME:EST
DTSTART:20241103T060000
END:STANDARD
BEGIN:DAYLIGHT
TZOFFSETFROM:-0500
TZOFFSETTO:-0400
TZNAME:EDT
DTSTART:20250309T070000
END:DAYLIGHT
BEGIN:STANDARD
TZOFFSETFROM:-0400
TZOFFSETTO:-0500
TZNAME:EST
DTSTART:20251102T060000
END:STANDARD
BEGIN:DAYLIGHT
TZOFFSETFROM:-0500
TZOFFSETTO:-0400
TZNAME:EDT
DTSTART:20260308T070000
END:DAYLIGHT
BEGIN:STANDARD
TZOFFSETFROM:-0400
TZOFFSETTO:-0500
TZNAME:EST
DTSTART:20261101T060000
END:STANDARD
END:VTIMEZONE
BEGIN:VEVENT
DTSTART;VALUE=DATE:20250608
DTEND;VALUE=DATE:20250609
DTSTAMP:20260424T163136
CREATED:20241123T055821Z
LAST-MODIFIED:20250608T232354Z
UID:10084623-1749340800-1749427199@machias.edu
SUMMARY:Library closed
DESCRIPTION:
URL:https://machias.edu/event/library-closed-348/
CATEGORIES:Merrill Library
END:VEVENT
BEGIN:VEVENT
DTSTART;TZID=America/New_York:20250609T080000
DTEND;TZID=America/New_York:20250609T163000
DTSTAMP:20260424T163136
CREATED:20241123T055821Z
LAST-MODIFIED:20250608T232354Z
UID:10084629-1749456000-1749486600@machias.edu
SUMMARY:Library open 8am - 4:30pm
DESCRIPTION:
URL:https://machias.edu/event/library-open-8am-430pm-326/
CATEGORIES:Merrill Library
END:VEVENT
BEGIN:VEVENT
DTSTART;TZID=America/New_York:20250610T080000
DTEND;TZID=America/New_York:20250610T163000
DTSTAMP:20260424T163136
CREATED:20241123T055821Z
LAST-MODIFIED:20250609T233958Z
UID:10084632-1749542400-1749573000@machias.edu
SUMMARY:Library open 8am - 4:30pm
DESCRIPTION:
URL:https://machias.edu/event/library-open-8am-430pm-327/
CATEGORIES:Merrill Library
END:VEVENT
BEGIN:VEVENT
DTSTART;TZID=America/New_York:20250611T080000
DTEND;TZID=America/New_York:20250611T163000
DTSTAMP:20260424T163136
CREATED:20241123T055821Z
LAST-MODIFIED:20250610T235400Z
UID:10084635-1749628800-1749659400@machias.edu
SUMMARY:Library open 8am - 4:30pm
DESCRIPTION:
URL:https://machias.edu/event/library-open-8am-430pm-328/
CATEGORIES:Merrill Library
END:VEVENT
BEGIN:VEVENT
DTSTART;TZID=America/New_York:20250612T080000
DTEND;TZID=America/New_York:20250612T163000
DTSTAMP:20260424T163136
CREATED:20241123T055821Z
LAST-MODIFIED:20250611T235307Z
UID:10084638-1749715200-1749745800@machias.edu
SUMMARY:Library open 8am - 4:30pm
DESCRIPTION:
URL:https://machias.edu/event/library-open-8am-430pm-329/
CATEGORIES:Merrill Library
END:VEVENT
BEGIN:VEVENT
DTSTART;TZID=America/New_York:20250613T080000
DTEND;TZID=America/New_York:20250613T163000
DTSTAMP:20260424T163136
CREATED:20241123T055822Z
LAST-MODIFIED:20250612T235353Z
UID:10084641-1749801600-1749832200@machias.edu
SUMMARY:Library open 8am - 4:30pm
DESCRIPTION:
URL:https://machias.edu/event/library-open-8am-430pm-330/
CATEGORIES:Merrill Library
END:VEVENT
BEGIN:VEVENT
DTSTART;VALUE=DATE:20250614
DTEND;VALUE=DATE:20250615
DTSTAMP:20260424T163136
CREATED:20241123T055822Z
LAST-MODIFIED:20250614T000855Z
UID:10084647-1749859200-1749945599@machias.edu
SUMMARY:Library closed
DESCRIPTION:
URL:https://machias.edu/event/library-closed-351/
CATEGORIES:Merrill Library
END:VEVENT
END:VCALENDAR