BEGIN:VCALENDAR
VERSION:2.0
PRODID:-//University of Maine at Machias - ECPv6.15.17.1//NONSGML v1.0//EN
CALSCALE:GREGORIAN
METHOD:PUBLISH
X-ORIGINAL-URL:https://machias.edu
X-WR-CALDESC:Events for University of Maine at Machias
REFRESH-INTERVAL;VALUE=DURATION:PT1H
X-Robots-Tag:noindex
X-PUBLISHED-TTL:PT1H
BEGIN:VTIMEZONE
TZID:America/New_York
BEGIN:DAYLIGHT
TZOFFSETFROM:-0500
TZOFFSETTO:-0400
TZNAME:EDT
DTSTART:20240310T070000
END:DAYLIGHT
BEGIN:STANDARD
TZOFFSETFROM:-0400
TZOFFSETTO:-0500
TZNAME:EST
DTSTART:20241103T060000
END:STANDARD
BEGIN:DAYLIGHT
TZOFFSETFROM:-0500
TZOFFSETTO:-0400
TZNAME:EDT
DTSTART:20250309T070000
END:DAYLIGHT
BEGIN:STANDARD
TZOFFSETFROM:-0400
TZOFFSETTO:-0500
TZNAME:EST
DTSTART:20251102T060000
END:STANDARD
BEGIN:DAYLIGHT
TZOFFSETFROM:-0500
TZOFFSETTO:-0400
TZNAME:EDT
DTSTART:20260308T070000
END:DAYLIGHT
BEGIN:STANDARD
TZOFFSETFROM:-0400
TZOFFSETTO:-0500
TZNAME:EST
DTSTART:20261101T060000
END:STANDARD
END:VTIMEZONE
BEGIN:VEVENT
DTSTART;VALUE=DATE:20250525
DTEND;VALUE=DATE:20250526
DTSTAMP:20260425T104621
CREATED:20241123T055820Z
LAST-MODIFIED:20250525T212432Z
UID:10084575-1748131200-1748217599@machias.edu
SUMMARY:Library closed
DESCRIPTION:
URL:https://machias.edu/event/library-closed-345/
CATEGORIES:Merrill Library
END:VEVENT
BEGIN:VEVENT
DTSTART;VALUE=DATE:20250526
DTEND;VALUE=DATE:20250527
DTSTAMP:20260425T104621
CREATED:20241123T055820Z
LAST-MODIFIED:20250526T213849Z
UID:10084569-1748217600-1748303999@machias.edu
SUMMARY:Library closed
DESCRIPTION:
URL:https://machias.edu/event/library-closed-344/
CATEGORIES:Merrill Library
END:VEVENT
BEGIN:VEVENT
DTSTART;TZID=America/New_York:20250527T080000
DTEND;TZID=America/New_York:20250527T163000
DTSTAMP:20260425T104621
CREATED:20241123T055820Z
LAST-MODIFIED:20250526T213849Z
UID:10084581-1748332800-1748363400@machias.edu
SUMMARY:Library open 8am - 4:30pm
DESCRIPTION:
URL:https://machias.edu/event/library-open-8am-430pm-317/
CATEGORIES:Merrill Library
END:VEVENT
BEGIN:VEVENT
DTSTART;TZID=America/New_York:20250528T080000
DTEND;TZID=America/New_York:20250528T163000
DTSTAMP:20260425T104621
CREATED:20241123T055820Z
LAST-MODIFIED:20250527T215436Z
UID:10084587-1748419200-1748449800@machias.edu
SUMMARY:Library open 8am - 4:30pm
DESCRIPTION:
URL:https://machias.edu/event/library-open-8am-430pm-318/
CATEGORIES:Merrill Library
END:VEVENT
BEGIN:VEVENT
DTSTART;TZID=America/New_York:20250529T080000
DTEND;TZID=America/New_York:20250529T163000
DTSTAMP:20260425T104621
CREATED:20241123T055820Z
LAST-MODIFIED:20250528T215325Z
UID:10084593-1748505600-1748536200@machias.edu
SUMMARY:Library open 8am - 4:30pm
DESCRIPTION:
URL:https://machias.edu/event/library-open-8am-430pm-319/
CATEGORIES:Merrill Library
END:VEVENT
BEGIN:VEVENT
DTSTART;TZID=America/New_York:20250530T080000
DTEND;TZID=America/New_York:20250530T163000
DTSTAMP:20260425T104621
CREATED:20241123T055820Z
LAST-MODIFIED:20250529T220915Z
UID:10084599-1748592000-1748622600@machias.edu
SUMMARY:Library open 8am - 4:30pm
DESCRIPTION:
URL:https://machias.edu/event/library-open-8am-430pm-320/
CATEGORIES:Merrill Library
END:VEVENT
BEGIN:VEVENT
DTSTART;VALUE=DATE:20250531
DTEND;VALUE=DATE:20250601
DTSTAMP:20260425T104621
CREATED:20241123T055821Z
LAST-MODIFIED:20250531T220812Z
UID:10084605-1748649600-1748735999@machias.edu
SUMMARY:Library closed
DESCRIPTION:
URL:https://machias.edu/event/library-closed-347/
CATEGORIES:Merrill Library
END:VEVENT
END:VCALENDAR