BEGIN:VCALENDAR
VERSION:2.0
PRODID:-//University of Maine at Machias - ECPv6.15.17.1//NONSGML v1.0//EN
CALSCALE:GREGORIAN
METHOD:PUBLISH
X-ORIGINAL-URL:https://machias.edu
X-WR-CALDESC:Events for University of Maine at Machias
REFRESH-INTERVAL;VALUE=DURATION:PT1H
X-Robots-Tag:noindex
X-PUBLISHED-TTL:PT1H
BEGIN:VTIMEZONE
TZID:America/New_York
BEGIN:DAYLIGHT
TZOFFSETFROM:-0500
TZOFFSETTO:-0400
TZNAME:EDT
DTSTART:20240310T070000
END:DAYLIGHT
BEGIN:STANDARD
TZOFFSETFROM:-0400
TZOFFSETTO:-0500
TZNAME:EST
DTSTART:20241103T060000
END:STANDARD
BEGIN:DAYLIGHT
TZOFFSETFROM:-0500
TZOFFSETTO:-0400
TZNAME:EDT
DTSTART:20250309T070000
END:DAYLIGHT
BEGIN:STANDARD
TZOFFSETFROM:-0400
TZOFFSETTO:-0500
TZNAME:EST
DTSTART:20251102T060000
END:STANDARD
BEGIN:DAYLIGHT
TZOFFSETFROM:-0500
TZOFFSETTO:-0400
TZNAME:EDT
DTSTART:20260308T070000
END:DAYLIGHT
BEGIN:STANDARD
TZOFFSETFROM:-0400
TZOFFSETTO:-0500
TZNAME:EST
DTSTART:20261101T060000
END:STANDARD
END:VTIMEZONE
BEGIN:VEVENT
DTSTART;TZID=America/New_York:20250427T140000
DTEND;TZID=America/New_York:20250427T200000
DTSTAMP:20260425T233027
CREATED:20241123T055817Z
LAST-MODIFIED:20250427T185216Z
UID:10084401-1745762400-1745784000@machias.edu
SUMMARY:Library open 2pm - 8pm
DESCRIPTION:
URL:https://machias.edu/event/library-open-2pm-8pm-93/
CATEGORIES:Merrill Library
END:VEVENT
BEGIN:VEVENT
DTSTART;TZID=America/New_York:20250428T080000
DTEND;TZID=America/New_York:20250428T220000
DTSTAMP:20260425T233027
CREATED:20241123T055817Z
LAST-MODIFIED:20250428T185154Z
UID:10084407-1745827200-1745877600@machias.edu
SUMMARY:Library open 8am - 10pm
DESCRIPTION:
URL:https://machias.edu/event/library-open-8am-10pm-488/
CATEGORIES:Merrill Library
END:VEVENT
BEGIN:VEVENT
DTSTART;TZID=America/New_York:20250429T080000
DTEND;TZID=America/New_York:20250429T220000
DTSTAMP:20260425T233027
CREATED:20241123T055818Z
LAST-MODIFIED:20250429T190639Z
UID:10084413-1745913600-1745964000@machias.edu
SUMMARY:Library open 8am - 10pm
DESCRIPTION:
URL:https://machias.edu/event/library-open-8am-10pm-489/
CATEGORIES:Merrill Library
END:VEVENT
BEGIN:VEVENT
DTSTART;TZID=America/New_York:20250430T080000
DTEND;TZID=America/New_York:20250430T220000
DTSTAMP:20260425T233027
CREATED:20241123T055818Z
LAST-MODIFIED:20250430T190626Z
UID:10084419-1746000000-1746050400@machias.edu
SUMMARY:Library open 8am - 10pm
DESCRIPTION:
URL:https://machias.edu/event/library-open-8am-10pm-490/
CATEGORIES:Merrill Library
END:VEVENT
BEGIN:VEVENT
DTSTART;TZID=America/New_York:20250501T080000
DTEND;TZID=America/New_York:20250501T220000
DTSTAMP:20260425T233027
CREATED:20241123T055818Z
LAST-MODIFIED:20250501T190648Z
UID:10084425-1746086400-1746136800@machias.edu
SUMMARY:Library open 8am - 10pm
DESCRIPTION:
URL:https://machias.edu/event/library-open-8am-10pm-491/
CATEGORIES:Merrill Library
END:VEVENT
BEGIN:VEVENT
DTSTART;TZID=America/New_York:20250502T080000
DTEND;TZID=America/New_York:20250502T170000
DTSTAMP:20260425T233027
CREATED:20241123T055818Z
LAST-MODIFIED:20250502T190557Z
UID:10084431-1746172800-1746205200@machias.edu
SUMMARY:Library open 8am - 5pm
DESCRIPTION:
URL:https://machias.edu/event/library-open-8am-5pm-139/
CATEGORIES:Merrill Library
END:VEVENT
BEGIN:VEVENT
DTSTART;TZID=America/New_York:20250503T130000
DTEND;TZID=America/New_York:20250503T170000
DTSTAMP:20260425T233027
CREATED:20241123T055818Z
LAST-MODIFIED:20250503T190939Z
UID:10084437-1746277200-1746291600@machias.edu
SUMMARY:Library open 1pm - 5pm
DESCRIPTION:
URL:https://machias.edu/event/library-open-1pm-5pm-61/
CATEGORIES:Merrill Library
END:VEVENT
END:VCALENDAR