BEGIN:VCALENDAR
VERSION:2.0
PRODID:-//University of Maine at Machias - ECPv6.15.17.1//NONSGML v1.0//EN
CALSCALE:GREGORIAN
METHOD:PUBLISH
X-ORIGINAL-URL:https://machias.edu
X-WR-CALDESC:Events for University of Maine at Machias
REFRESH-INTERVAL;VALUE=DURATION:PT1H
X-Robots-Tag:noindex
X-PUBLISHED-TTL:PT1H
BEGIN:VTIMEZONE
TZID:America/New_York
BEGIN:DAYLIGHT
TZOFFSETFROM:-0500
TZOFFSETTO:-0400
TZNAME:EDT
DTSTART:20250309T070000
END:DAYLIGHT
BEGIN:STANDARD
TZOFFSETFROM:-0400
TZOFFSETTO:-0500
TZNAME:EST
DTSTART:20251102T060000
END:STANDARD
BEGIN:DAYLIGHT
TZOFFSETFROM:-0500
TZOFFSETTO:-0400
TZNAME:EDT
DTSTART:20260308T070000
END:DAYLIGHT
BEGIN:STANDARD
TZOFFSETFROM:-0400
TZOFFSETTO:-0500
TZNAME:EST
DTSTART:20261101T060000
END:STANDARD
BEGIN:DAYLIGHT
TZOFFSETFROM:-0500
TZOFFSETTO:-0400
TZNAME:EDT
DTSTART:20270314T070000
END:DAYLIGHT
BEGIN:STANDARD
TZOFFSETFROM:-0400
TZOFFSETTO:-0500
TZNAME:EST
DTSTART:20271107T060000
END:STANDARD
END:VTIMEZONE
BEGIN:VEVENT
DTSTART;VALUE=DATE:20260724
DTEND;VALUE=DATE:20260725
DTSTAMP:20260419T233714
CREATED:20251206T025626Z
LAST-MODIFIED:20260419T054310Z
UID:10086115-1784851200-1784937599@machias.edu
SUMMARY:Library closed
DESCRIPTION:
URL:https://machias.edu/event/library-open-8am-430pm-454/
CATEGORIES:Merrill Library
END:VEVENT
BEGIN:VEVENT
DTSTART;VALUE=DATE:20260725
DTEND;VALUE=DATE:20260726
DTSTAMP:20260419T233714
CREATED:20251206T025626Z
LAST-MODIFIED:20260419T054311Z
UID:10086121-1784937600-1785023999@machias.edu
SUMMARY:Library closed
DESCRIPTION:
URL:https://machias.edu/event/library-closed-436/
CATEGORIES:Merrill Library
END:VEVENT
BEGIN:VEVENT
DTSTART;VALUE=DATE:20260726
DTEND;VALUE=DATE:20260727
DTSTAMP:20260419T233714
CREATED:20251206T025626Z
LAST-MODIFIED:20260419T054311Z
UID:10086118-1785024000-1785110399@machias.edu
SUMMARY:Library closed
DESCRIPTION:
URL:https://machias.edu/event/library-closed-435/
CATEGORIES:Merrill Library
END:VEVENT
BEGIN:VEVENT
DTSTART;TZID=America/New_York:20260727T080000
DTEND;TZID=America/New_York:20260727T160000
DTSTAMP:20260419T233714
CREATED:20251206T025626Z
LAST-MODIFIED:20260419T054311Z
UID:10086124-1785139200-1785168000@machias.edu
SUMMARY:Library open 8am - 4pm
DESCRIPTION:
URL:https://machias.edu/event/library-open-8am-430pm-455/
CATEGORIES:Merrill Library
END:VEVENT
BEGIN:VEVENT
DTSTART;TZID=America/New_York:20260728T080000
DTEND;TZID=America/New_York:20260728T160000
DTSTAMP:20260419T233714
CREATED:20251206T025626Z
LAST-MODIFIED:20260419T054311Z
UID:10086127-1785225600-1785254400@machias.edu
SUMMARY:Library open 8am - 4pm
DESCRIPTION:
URL:https://machias.edu/event/library-open-8am-430pm-456/
CATEGORIES:Merrill Library
END:VEVENT
BEGIN:VEVENT
DTSTART;TZID=America/New_York:20260729T080000
DTEND;TZID=America/New_York:20260729T160000
DTSTAMP:20260419T233714
CREATED:20251206T025626Z
LAST-MODIFIED:20260419T054311Z
UID:10086130-1785312000-1785340800@machias.edu
SUMMARY:Library open 8am - 4pm
DESCRIPTION:
URL:https://machias.edu/event/library-open-8am-430pm-457/
CATEGORIES:Merrill Library
END:VEVENT
BEGIN:VEVENT
DTSTART;VALUE=DATE:20260730
DTEND;VALUE=DATE:20260731
DTSTAMP:20260419T233714
CREATED:20251206T025627Z
LAST-MODIFIED:20260419T054311Z
UID:10086133-1785369600-1785455999@machias.edu
SUMMARY:Library closed
DESCRIPTION:
URL:https://machias.edu/event/library-open-8am-430pm-458/
CATEGORIES:Merrill Library
END:VEVENT
BEGIN:VEVENT
DTSTART;VALUE=DATE:20260731
DTEND;VALUE=DATE:20260801
DTSTAMP:20260419T233714
CREATED:20251206T025627Z
LAST-MODIFIED:20260419T054311Z
UID:10086136-1785456000-1785542399@machias.edu
SUMMARY:Library closed
DESCRIPTION:
URL:https://machias.edu/event/library-open-8am-430pm-459/
CATEGORIES:Merrill Library
END:VEVENT
BEGIN:VEVENT
DTSTART;VALUE=DATE:20260801
DTEND;VALUE=DATE:20260802
DTSTAMP:20260419T233714
CREATED:20251206T025627Z
LAST-MODIFIED:20260419T054311Z
UID:10086142-1785542400-1785628799@machias.edu
SUMMARY:Library closed
DESCRIPTION:
URL:https://machias.edu/event/library-closed-438/
CATEGORIES:Merrill Library
END:VEVENT
BEGIN:VEVENT
DTSTART;VALUE=DATE:20260802
DTEND;VALUE=DATE:20260803
DTSTAMP:20260419T233714
CREATED:20251206T025627Z
LAST-MODIFIED:20260419T054311Z
UID:10086139-1785628800-1785715199@machias.edu
SUMMARY:Library closed
DESCRIPTION:
URL:https://machias.edu/event/library-closed-437/
CATEGORIES:Merrill Library
END:VEVENT
BEGIN:VEVENT
DTSTART;VALUE=DATE:20260803
DTEND;VALUE=DATE:20260804
DTSTAMP:20260419T233714
CREATED:20250923T213859Z
LAST-MODIFIED:20251014T001459Z
UID:10085551-1785715200-1785801599@machias.edu
SUMMARY:Jeannie/Appt in Bangor
DESCRIPTION:
URL:https://machias.edu/event/jeannie-appt-in-bangor/
CATEGORIES:Merrill Library
END:VEVENT
BEGIN:VEVENT
DTSTART;TZID=America/New_York:20260803T080000
DTEND;TZID=America/New_York:20260803T160000
DTSTAMP:20260419T233714
CREATED:20251206T025627Z
LAST-MODIFIED:20260419T054311Z
UID:10086145-1785744000-1785772800@machias.edu
SUMMARY:Library open 8am - 4pm
DESCRIPTION:
URL:https://machias.edu/event/library-open-8am-430pm-460/
CATEGORIES:Merrill Library
END:VEVENT
BEGIN:VEVENT
DTSTART;TZID=America/New_York:20260804T080000
DTEND;TZID=America/New_York:20260804T160000
DTSTAMP:20260419T233714
CREATED:20251206T025627Z
LAST-MODIFIED:20260419T054311Z
UID:10086148-1785830400-1785859200@machias.edu
SUMMARY:Library open 8am - 4pm
DESCRIPTION:
URL:https://machias.edu/event/library-open-8am-430pm-461/
CATEGORIES:Merrill Library
END:VEVENT
BEGIN:VEVENT
DTSTART;TZID=America/New_York:20260805T080000
DTEND;TZID=America/New_York:20260805T160000
DTSTAMP:20260419T233714
CREATED:20251206T025627Z
LAST-MODIFIED:20260419T054311Z
UID:10086151-1785916800-1785945600@machias.edu
SUMMARY:Library open 8am - 4pm
DESCRIPTION:
URL:https://machias.edu/event/library-open-8am-430pm-462/
CATEGORIES:Merrill Library
END:VEVENT
BEGIN:VEVENT
DTSTART;VALUE=DATE:20260806
DTEND;VALUE=DATE:20260807
DTSTAMP:20260419T233714
CREATED:20251206T025627Z
LAST-MODIFIED:20260419T054311Z
UID:10086154-1785974400-1786060799@machias.edu
SUMMARY:Library closed
DESCRIPTION:
URL:https://machias.edu/event/library-open-8am-430pm-463/
CATEGORIES:Merrill Library
END:VEVENT
BEGIN:VEVENT
DTSTART;VALUE=DATE:20260807
DTEND;VALUE=DATE:20260808
DTSTAMP:20260419T233714
CREATED:20251206T025627Z
LAST-MODIFIED:20260419T054311Z
UID:10086157-1786060800-1786147199@machias.edu
SUMMARY:Library closed
DESCRIPTION:
URL:https://machias.edu/event/library-open-8am-430pm-464/
CATEGORIES:Merrill Library
END:VEVENT
BEGIN:VEVENT
DTSTART;VALUE=DATE:20260808
DTEND;VALUE=DATE:20260809
DTSTAMP:20260419T233714
CREATED:20251206T025628Z
LAST-MODIFIED:20260419T054311Z
UID:10086163-1786147200-1786233599@machias.edu
SUMMARY:Library closed
DESCRIPTION:
URL:https://machias.edu/event/library-closed-440/
CATEGORIES:Merrill Library
END:VEVENT
BEGIN:VEVENT
DTSTART;VALUE=DATE:20260809
DTEND;VALUE=DATE:20260810
DTSTAMP:20260419T233714
CREATED:20251206T025628Z
LAST-MODIFIED:20260419T054311Z
UID:10086160-1786233600-1786319999@machias.edu
SUMMARY:Library closed
DESCRIPTION:
URL:https://machias.edu/event/library-closed-439/
CATEGORIES:Merrill Library
END:VEVENT
BEGIN:VEVENT
DTSTART;TZID=America/New_York:20260810T080000
DTEND;TZID=America/New_York:20260810T160000
DTSTAMP:20260419T233714
CREATED:20251206T025628Z
LAST-MODIFIED:20260419T054311Z
UID:10086166-1786348800-1786377600@machias.edu
SUMMARY:Library open 8am - 4pm
DESCRIPTION:
URL:https://machias.edu/event/library-open-8am-430pm-465/
CATEGORIES:Merrill Library
END:VEVENT
BEGIN:VEVENT
DTSTART;TZID=America/New_York:20260811T080000
DTEND;TZID=America/New_York:20260811T160000
DTSTAMP:20260419T233714
CREATED:20251206T025628Z
LAST-MODIFIED:20260419T054311Z
UID:10086169-1786435200-1786464000@machias.edu
SUMMARY:Library open 8am - 4pm
DESCRIPTION:
URL:https://machias.edu/event/library-open-8am-430pm-466/
CATEGORIES:Merrill Library
END:VEVENT
BEGIN:VEVENT
DTSTART;TZID=America/New_York:20260812T080000
DTEND;TZID=America/New_York:20260812T160000
DTSTAMP:20260419T233714
CREATED:20251206T025628Z
LAST-MODIFIED:20260419T054311Z
UID:10086172-1786521600-1786550400@machias.edu
SUMMARY:Library open 8am - 4pm
DESCRIPTION:
URL:https://machias.edu/event/library-open-8am-430pm-467/
CATEGORIES:Merrill Library
END:VEVENT
BEGIN:VEVENT
DTSTART;VALUE=DATE:20260813
DTEND;VALUE=DATE:20260814
DTSTAMP:20260419T233714
CREATED:20251206T025628Z
LAST-MODIFIED:20260419T054311Z
UID:10086175-1786579200-1786665599@machias.edu
SUMMARY:Library closed
DESCRIPTION:
URL:https://machias.edu/event/library-open-8am-430pm-468/
CATEGORIES:Merrill Library
END:VEVENT
BEGIN:VEVENT
DTSTART;VALUE=DATE:20260814
DTEND;VALUE=DATE:20260815
DTSTAMP:20260419T233714
CREATED:20251206T025628Z
LAST-MODIFIED:20260419T054311Z
UID:10086178-1786665600-1786751999@machias.edu
SUMMARY:Library closed
DESCRIPTION:
URL:https://machias.edu/event/library-open-8am-430pm-469/
CATEGORIES:Merrill Library
END:VEVENT
BEGIN:VEVENT
DTSTART;VALUE=DATE:20260815
DTEND;VALUE=DATE:20260816
DTSTAMP:20260419T233714
CREATED:20251206T025628Z
LAST-MODIFIED:20260419T054312Z
UID:10086181-1786752000-1786838399@machias.edu
SUMMARY:Library closed
DESCRIPTION:
URL:https://machias.edu/event/library-closed-441/
CATEGORIES:Merrill Library
END:VEVENT
BEGIN:VEVENT
DTSTART;VALUE=DATE:20260816
DTEND;VALUE=DATE:20260817
DTSTAMP:20260419T233714
CREATED:20251206T025629Z
LAST-MODIFIED:20260419T054312Z
UID:10086184-1786838400-1786924799@machias.edu
SUMMARY:Library closed
DESCRIPTION:
URL:https://machias.edu/event/library-closed-442/
CATEGORIES:Merrill Library
END:VEVENT
BEGIN:VEVENT
DTSTART;TZID=America/New_York:20260817T080000
DTEND;TZID=America/New_York:20260817T160000
DTSTAMP:20260419T233714
CREATED:20251206T025629Z
LAST-MODIFIED:20260419T054312Z
UID:10086187-1786953600-1786982400@machias.edu
SUMMARY:Library open 8am - 4pm
DESCRIPTION:
URL:https://machias.edu/event/library-open-8am-430pm-470/
CATEGORIES:Merrill Library
END:VEVENT
BEGIN:VEVENT
DTSTART;TZID=America/New_York:20260818T080000
DTEND;TZID=America/New_York:20260818T160000
DTSTAMP:20260419T233714
CREATED:20251206T025629Z
LAST-MODIFIED:20260419T054312Z
UID:10086190-1787040000-1787068800@machias.edu
SUMMARY:Library open 8am - 4pm
DESCRIPTION:
URL:https://machias.edu/event/library-open-8am-430pm-471/
CATEGORIES:Merrill Library
END:VEVENT
BEGIN:VEVENT
DTSTART;TZID=America/New_York:20260819T080000
DTEND;TZID=America/New_York:20260819T160000
DTSTAMP:20260419T233714
CREATED:20251206T025629Z
LAST-MODIFIED:20260419T054312Z
UID:10086193-1787126400-1787155200@machias.edu
SUMMARY:Library open 8am - 4pm
DESCRIPTION:
URL:https://machias.edu/event/library-open-8am-430pm-472/
CATEGORIES:Merrill Library
END:VEVENT
BEGIN:VEVENT
DTSTART;VALUE=DATE:20260820
DTEND;VALUE=DATE:20260821
DTSTAMP:20260419T233714
CREATED:20251206T025629Z
LAST-MODIFIED:20260419T054312Z
UID:10086196-1787184000-1787270399@machias.edu
SUMMARY:Library closed
DESCRIPTION:
URL:https://machias.edu/event/library-open-8am-430pm-473/
CATEGORIES:Merrill Library
END:VEVENT
BEGIN:VEVENT
DTSTART;VALUE=DATE:20260821
DTEND;VALUE=DATE:20260822
DTSTAMP:20260419T233714
CREATED:20251206T025629Z
LAST-MODIFIED:20260419T054312Z
UID:10086199-1787270400-1787356799@machias.edu
SUMMARY:Library closed
DESCRIPTION:
URL:https://machias.edu/event/library-open-8am-430pm-474/
CATEGORIES:Merrill Library
END:VEVENT
END:VCALENDAR