BEGIN:VCALENDAR
VERSION:2.0
PRODID:-//University of Maine at Machias - ECPv6.15.17.1//NONSGML v1.0//EN
CALSCALE:GREGORIAN
METHOD:PUBLISH
X-ORIGINAL-URL:https://machias.edu
X-WR-CALDESC:Events for University of Maine at Machias
REFRESH-INTERVAL;VALUE=DURATION:PT1H
X-Robots-Tag:noindex
X-PUBLISHED-TTL:PT1H
BEGIN:VTIMEZONE
TZID:America/New_York
BEGIN:DAYLIGHT
TZOFFSETFROM:-0500
TZOFFSETTO:-0400
TZNAME:EDT
DTSTART:20250309T070000
END:DAYLIGHT
BEGIN:STANDARD
TZOFFSETFROM:-0400
TZOFFSETTO:-0500
TZNAME:EST
DTSTART:20251102T060000
END:STANDARD
BEGIN:DAYLIGHT
TZOFFSETFROM:-0500
TZOFFSETTO:-0400
TZNAME:EDT
DTSTART:20260308T070000
END:DAYLIGHT
BEGIN:STANDARD
TZOFFSETFROM:-0400
TZOFFSETTO:-0500
TZNAME:EST
DTSTART:20261101T060000
END:STANDARD
BEGIN:DAYLIGHT
TZOFFSETFROM:-0500
TZOFFSETTO:-0400
TZNAME:EDT
DTSTART:20270314T070000
END:DAYLIGHT
BEGIN:STANDARD
TZOFFSETFROM:-0400
TZOFFSETTO:-0500
TZNAME:EST
DTSTART:20271107T060000
END:STANDARD
END:VTIMEZONE
BEGIN:VEVENT
DTSTART;TZID=America/New_York:20260826T080000
DTEND;TZID=America/New_York:20260826T160000
DTSTAMP:20260422T185554
CREATED:20251206T025630Z
LAST-MODIFIED:20260422T054500Z
UID:10086214-1787731200-1787760000@machias.edu
SUMMARY:Library open 8am - 4pm
DESCRIPTION:
URL:https://machias.edu/event/library-open-8am-430pm-477/
CATEGORIES:Merrill Library
END:VEVENT
BEGIN:VEVENT
DTSTART;VALUE=DATE:20260827
DTEND;VALUE=DATE:20260828
DTSTAMP:20260422T185554
CREATED:20251206T025630Z
LAST-MODIFIED:20260422T054501Z
UID:10086217-1787788800-1787875199@machias.edu
SUMMARY:Library closed
DESCRIPTION:
URL:https://machias.edu/event/library-open-8am-430pm-478/
CATEGORIES:Merrill Library
END:VEVENT
BEGIN:VEVENT
DTSTART;VALUE=DATE:20260828
DTEND;VALUE=DATE:20260829
DTSTAMP:20260422T185554
CREATED:20251206T025630Z
LAST-MODIFIED:20260422T054500Z
UID:10086220-1787875200-1787961599@machias.edu
SUMMARY:Library closed
DESCRIPTION:
URL:https://machias.edu/event/library-open-8am-430pm-479/
CATEGORIES:Merrill Library
END:VEVENT
BEGIN:VEVENT
DTSTART;VALUE=DATE:20260829
DTEND;VALUE=DATE:20260830
DTSTAMP:20260422T185554
CREATED:20251206T025630Z
LAST-MODIFIED:20260422T054501Z
UID:10086226-1787961600-1788047999@machias.edu
SUMMARY:Library closed
DESCRIPTION:
URL:https://machias.edu/event/library-closed-446/
CATEGORIES:Merrill Library
END:VEVENT
BEGIN:VEVENT
DTSTART;VALUE=DATE:20260830
DTEND;VALUE=DATE:20260831
DTSTAMP:20260422T185554
CREATED:20251206T025630Z
LAST-MODIFIED:20260422T054501Z
UID:10086223-1788048000-1788134399@machias.edu
SUMMARY:Library closed
DESCRIPTION:
URL:https://machias.edu/event/library-closed-445/
CATEGORIES:Merrill Library
END:VEVENT
BEGIN:VEVENT
DTSTART;VALUE=DATE:20260907
DTEND;VALUE=DATE:20260908
DTSTAMP:20260422T185554
CREATED:20251206T025631Z
LAST-MODIFIED:20260422T054501Z
UID:10086229-1788739200-1788825599@machias.edu
SUMMARY:Library closed
DESCRIPTION:
URL:https://machias.edu/event/library-closed-447/
CATEGORIES:Merrill Library
END:VEVENT
END:VCALENDAR