BEGIN:VCALENDAR
VERSION:2.0
PRODID:-//University of Maine at Machias - ECPv6.15.17.1//NONSGML v1.0//EN
CALSCALE:GREGORIAN
METHOD:PUBLISH
X-ORIGINAL-URL:https://machias.edu
X-WR-CALDESC:Events for University of Maine at Machias
REFRESH-INTERVAL;VALUE=DURATION:PT1H
X-Robots-Tag:noindex
X-PUBLISHED-TTL:PT1H
BEGIN:VTIMEZONE
TZID:America/New_York
BEGIN:DAYLIGHT
TZOFFSETFROM:-0500
TZOFFSETTO:-0400
TZNAME:EDT
DTSTART:20250309T070000
END:DAYLIGHT
BEGIN:STANDARD
TZOFFSETFROM:-0400
TZOFFSETTO:-0500
TZNAME:EST
DTSTART:20251102T060000
END:STANDARD
BEGIN:DAYLIGHT
TZOFFSETFROM:-0500
TZOFFSETTO:-0400
TZNAME:EDT
DTSTART:20260308T070000
END:DAYLIGHT
BEGIN:STANDARD
TZOFFSETFROM:-0400
TZOFFSETTO:-0500
TZNAME:EST
DTSTART:20261101T060000
END:STANDARD
BEGIN:DAYLIGHT
TZOFFSETFROM:-0500
TZOFFSETTO:-0400
TZNAME:EDT
DTSTART:20270314T070000
END:DAYLIGHT
BEGIN:STANDARD
TZOFFSETFROM:-0400
TZOFFSETTO:-0500
TZNAME:EST
DTSTART:20271107T060000
END:STANDARD
END:VTIMEZONE
BEGIN:VEVENT
DTSTART;TZID=America/New_York:20260108T100000
DTEND;TZID=America/New_York:20260108T163000
DTSTAMP:20260420T201109
CREATED:20250825T170234Z
LAST-MODIFIED:20260108T205625Z
UID:10085507-1767866400-1767889800@machias.edu
SUMMARY:Library open 10am - 4:30pm DELAYED OPENING DUE TO WEATHER
DESCRIPTION:
URL:https://machias.edu/event/library-open-8am-430pm-391/
CATEGORIES:Merrill Library
END:VEVENT
BEGIN:VEVENT
DTSTART;TZID=America/New_York:20260109T080000
DTEND;TZID=America/New_York:20260109T163000
DTSTAMP:20260420T201109
CREATED:20250825T170234Z
LAST-MODIFIED:20260109T211147Z
UID:10085510-1767945600-1767976200@machias.edu
SUMMARY:Library open 8am - 4:30pm
DESCRIPTION:
URL:https://machias.edu/event/library-open-8am-430pm-392/
CATEGORIES:Merrill Library
END:VEVENT
BEGIN:VEVENT
DTSTART;VALUE=DATE:20260110
DTEND;VALUE=DATE:20260111
DTSTAMP:20260420T201109
CREATED:20250825T170234Z
LAST-MODIFIED:20260110T212651Z
UID:10085516-1768003200-1768089599@machias.edu
SUMMARY:Library closed
DESCRIPTION:
URL:https://machias.edu/event/library-closed-399/
CATEGORIES:Merrill Library
END:VEVENT
BEGIN:VEVENT
DTSTART;VALUE=DATE:20260111
DTEND;VALUE=DATE:20260112
DTSTAMP:20260420T201109
CREATED:20250825T170234Z
LAST-MODIFIED:20260111T212640Z
UID:10085513-1768089600-1768175999@machias.edu
SUMMARY:Library closed
DESCRIPTION:
URL:https://machias.edu/event/library-closed-398/
CATEGORIES:Merrill Library
END:VEVENT
BEGIN:VEVENT
DTSTART;TZID=America/New_York:20260112T080000
DTEND;TZID=America/New_York:20260112T163000
DTSTAMP:20260420T201109
CREATED:20250825T170234Z
LAST-MODIFIED:20260112T213023Z
UID:10085519-1768204800-1768235400@machias.edu
SUMMARY:Library open 8am - 4:30pm
DESCRIPTION:
URL:https://machias.edu/event/library-open-8am-430pm-393/
CATEGORIES:Merrill Library
END:VEVENT
BEGIN:VEVENT
DTSTART;TZID=America/New_York:20260113T080000
DTEND;TZID=America/New_York:20260113T163000
DTSTAMP:20260420T201109
CREATED:20250825T170234Z
LAST-MODIFIED:20260112T213024Z
UID:10085522-1768291200-1768321800@machias.edu
SUMMARY:Library open 8am - 4:30pm
DESCRIPTION:
URL:https://machias.edu/event/library-open-8am-430pm-394/
CATEGORIES:Merrill Library
END:VEVENT
BEGIN:VEVENT
DTSTART;TZID=America/New_York:20260114T080000
DTEND;TZID=America/New_York:20260114T163000
DTSTAMP:20260420T201109
CREATED:20250825T170234Z
LAST-MODIFIED:20260113T214345Z
UID:10085525-1768377600-1768408200@machias.edu
SUMMARY:Library open 8am - 4:30pm
DESCRIPTION:
URL:https://machias.edu/event/library-open-8am-430pm-395/
CATEGORIES:Merrill Library
END:VEVENT
BEGIN:VEVENT
DTSTART;TZID=America/New_York:20260115T080000
DTEND;TZID=America/New_York:20260115T163000
DTSTAMP:20260420T201109
CREATED:20250825T170234Z
LAST-MODIFIED:20260114T214350Z
UID:10085528-1768464000-1768494600@machias.edu
SUMMARY:Library open 8am - 4:30pm
DESCRIPTION:
URL:https://machias.edu/event/library-open-8am-430pm-396/
CATEGORIES:Merrill Library
END:VEVENT
BEGIN:VEVENT
DTSTART;TZID=America/New_York:20260116T080000
DTEND;TZID=America/New_York:20260116T163000
DTSTAMP:20260420T201109
CREATED:20250825T170234Z
LAST-MODIFIED:20260115T214518Z
UID:10085531-1768550400-1768581000@machias.edu
SUMMARY:Library open 8am - 4:30pm
DESCRIPTION:
URL:https://machias.edu/event/library-open-8am-430pm-397/
CATEGORIES:Merrill Library
END:VEVENT
BEGIN:VEVENT
DTSTART;VALUE=DATE:20260117
DTEND;VALUE=DATE:20260118
DTSTAMP:20260420T201109
CREATED:20250825T170235Z
LAST-MODIFIED:20260117T215848Z
UID:10085540-1768608000-1768694399@machias.edu
SUMMARY:Library closed
DESCRIPTION:
URL:https://machias.edu/event/library-closed-402/
CATEGORIES:Merrill Library
END:VEVENT
BEGIN:VEVENT
DTSTART;VALUE=DATE:20260118
DTEND;VALUE=DATE:20260119
DTSTAMP:20260420T201109
CREATED:20250825T170235Z
LAST-MODIFIED:20260118T215858Z
UID:10085537-1768694400-1768780799@machias.edu
SUMMARY:Library closed
DESCRIPTION:
URL:https://machias.edu/event/library-closed-401/
CATEGORIES:Merrill Library
END:VEVENT
BEGIN:VEVENT
DTSTART;VALUE=DATE:20260119
DTEND;VALUE=DATE:20260120
DTSTAMP:20260420T201109
CREATED:20250825T170235Z
LAST-MODIFIED:20260119T215940Z
UID:10085534-1768780800-1768867199@machias.edu
SUMMARY:Library closed
DESCRIPTION:
URL:https://machias.edu/event/library-closed-400/
CATEGORIES:Merrill Library
END:VEVENT
BEGIN:VEVENT
DTSTART;TZID=America/New_York:20260120T080000
DTEND;TZID=America/New_York:20260120T200000
DTSTAMP:20260420T201109
CREATED:20251206T025606Z
LAST-MODIFIED:20260120T215916Z
UID:10085560-1768896000-1768939200@machias.edu
SUMMARY:Library open 8am - 8pm
DESCRIPTION:
URL:https://machias.edu/event/library-open-8am-10pm-555/
CATEGORIES:Merrill Library
END:VEVENT
BEGIN:VEVENT
DTSTART;TZID=America/New_York:20260121T080000
DTEND;TZID=America/New_York:20260121T200000
DTSTAMP:20260420T201109
CREATED:20251206T025606Z
LAST-MODIFIED:20260121T221521Z
UID:10085563-1768982400-1769025600@machias.edu
SUMMARY:Library open 8am - 8pm
DESCRIPTION:
URL:https://machias.edu/event/library-open-8am-10pm-556/
CATEGORIES:Merrill Library
END:VEVENT
BEGIN:VEVENT
DTSTART;TZID=America/New_York:20260122T100000
DTEND;TZID=America/New_York:20260122T200000
DTSTAMP:20260420T201109
CREATED:20251206T025606Z
LAST-MODIFIED:20260122T223028Z
UID:10085566-1769076000-1769112000@machias.edu
SUMMARY:Library open 10am - 8pm - DELAYED OPENING DUE TO WEATHER
DESCRIPTION:
URL:https://machias.edu/event/library-open-8am-10pm-557/
CATEGORIES:Merrill Library
END:VEVENT
BEGIN:VEVENT
DTSTART;TZID=America/New_York:20260123T080000
DTEND;TZID=America/New_York:20260123T170000
DTSTAMP:20260420T201109
CREATED:20251206T025606Z
LAST-MODIFIED:20260122T223029Z
UID:10085569-1769155200-1769187600@machias.edu
SUMMARY:Library open 8am - 5pm
DESCRIPTION:
URL:https://machias.edu/event/library-open-8am-5pm-156/
CATEGORIES:Merrill Library
END:VEVENT
BEGIN:VEVENT
DTSTART;VALUE=DATE:20260124
DTEND;VALUE=DATE:20260125
DTSTAMP:20260420T201109
CREATED:20251206T025606Z
LAST-MODIFIED:20260124T230003Z
UID:10085572-1769212800-1769299199@machias.edu
SUMMARY:Library closed
DESCRIPTION:
URL:https://machias.edu/event/library-open-1pm-5pm-75/
CATEGORIES:Merrill Library
END:VEVENT
BEGIN:VEVENT
DTSTART;TZID=America/New_York:20260125T140000
DTEND;TZID=America/New_York:20260125T200000
DTSTAMP:20260420T201109
CREATED:20251206T025606Z
LAST-MODIFIED:20260124T230004Z
UID:10085575-1769349600-1769371200@machias.edu
SUMMARY:Library open 2pm - 8pm
DESCRIPTION:
URL:https://machias.edu/event/library-open-2pm-8pm-108/
CATEGORIES:Merrill Library
END:VEVENT
BEGIN:VEVENT
DTSTART;TZID=America/New_York:20260126T080000
DTEND;TZID=America/New_York:20260126T200000
DTSTAMP:20260420T201109
CREATED:20251206T025607Z
LAST-MODIFIED:20260126T233029Z
UID:10085578-1769414400-1769457600@machias.edu
SUMMARY:Library CLOSED DUE TO WEATHER
DESCRIPTION:
URL:https://machias.edu/event/library-open-8am-10pm-558/
CATEGORIES:Merrill Library
END:VEVENT
BEGIN:VEVENT
DTSTART;TZID=America/New_York:20260127T100000
DTEND;TZID=America/New_York:20260127T200000
DTSTAMP:20260420T201109
CREATED:20251206T025607Z
LAST-MODIFIED:20260127T234357Z
UID:10085581-1769508000-1769544000@machias.edu
SUMMARY:Library open 10am - 8pm - DELAYED OPENING DUE TO WEATHER
DESCRIPTION:
URL:https://machias.edu/event/library-open-8am-10pm-559/
CATEGORIES:Merrill Library
END:VEVENT
BEGIN:VEVENT
DTSTART;TZID=America/New_York:20260128T080000
DTEND;TZID=America/New_York:20260128T200000
DTSTAMP:20260420T201109
CREATED:20251206T025607Z
LAST-MODIFIED:20260128T235851Z
UID:10085584-1769587200-1769630400@machias.edu
SUMMARY:Library open 8am - 8pm
DESCRIPTION:
URL:https://machias.edu/event/library-open-8am-10pm-560/
CATEGORIES:Merrill Library
END:VEVENT
BEGIN:VEVENT
DTSTART;TZID=America/New_York:20260129T080000
DTEND;TZID=America/New_York:20260129T200000
DTSTAMP:20260420T201109
CREATED:20251206T025607Z
LAST-MODIFIED:20260130T001421Z
UID:10085587-1769673600-1769716800@machias.edu
SUMMARY:Library open 8am - 8pm
DESCRIPTION:
URL:https://machias.edu/event/library-open-8am-10pm-561/
CATEGORIES:Merrill Library
END:VEVENT
BEGIN:VEVENT
DTSTART;TZID=America/New_York:20260130T080000
DTEND;TZID=America/New_York:20260130T170000
DTSTAMP:20260420T201109
CREATED:20251206T025607Z
LAST-MODIFIED:20260130T001421Z
UID:10085590-1769760000-1769792400@machias.edu
SUMMARY:Library open 8am - 5pm
DESCRIPTION:
URL:https://machias.edu/event/library-open-8am-5pm-157/
CATEGORIES:Merrill Library
END:VEVENT
BEGIN:VEVENT
DTSTART;VALUE=DATE:20260131
DTEND;VALUE=DATE:20260201
DTSTAMP:20260420T201109
CREATED:20251206T025607Z
LAST-MODIFIED:20260131T001341Z
UID:10085593-1769817600-1769903999@machias.edu
SUMMARY:Library closed
DESCRIPTION:
URL:https://machias.edu/event/library-open-1pm-5pm-76/
CATEGORIES:Merrill Library
END:VEVENT
BEGIN:VEVENT
DTSTART;TZID=America/New_York:20260201T140000
DTEND;TZID=America/New_York:20260201T200000
DTSTAMP:20260420T201109
CREATED:20251206T025607Z
LAST-MODIFIED:20260202T002834Z
UID:10085596-1769954400-1769976000@machias.edu
SUMMARY:Library open 2pm - 8pm
DESCRIPTION:
URL:https://machias.edu/event/library-open-2pm-8pm-109/
CATEGORIES:Merrill Library
END:VEVENT
BEGIN:VEVENT
DTSTART;TZID=America/New_York:20260202T080000
DTEND;TZID=America/New_York:20260202T200000
DTSTAMP:20260420T201109
CREATED:20251206T025607Z
LAST-MODIFIED:20260203T002857Z
UID:10085599-1770019200-1770062400@machias.edu
SUMMARY:Library open 8am - 8pm
DESCRIPTION:
URL:https://machias.edu/event/library-open-8am-10pm-562/
CATEGORIES:Merrill Library
END:VEVENT
BEGIN:VEVENT
DTSTART;TZID=America/New_York:20260203T080000
DTEND;TZID=America/New_York:20260203T200000
DTSTAMP:20260420T201109
CREATED:20251206T025607Z
LAST-MODIFIED:20260204T004407Z
UID:10085602-1770105600-1770148800@machias.edu
SUMMARY:Library open 8am - 8pm
DESCRIPTION:
URL:https://machias.edu/event/library-open-8am-10pm-563/
CATEGORIES:Merrill Library
END:VEVENT
BEGIN:VEVENT
DTSTART;TZID=America/New_York:20260204T080000
DTEND;TZID=America/New_York:20260204T200000
DTSTAMP:20260420T201109
CREATED:20251206T025608Z
LAST-MODIFIED:20260205T005150Z
UID:10085605-1770192000-1770235200@machias.edu
SUMMARY:Library open 8am - 8pm
DESCRIPTION:
URL:https://machias.edu/event/library-open-8am-10pm-564/
CATEGORIES:Merrill Library
END:VEVENT
BEGIN:VEVENT
DTSTART;TZID=America/New_York:20260205T080000
DTEND;TZID=America/New_York:20260205T200000
DTSTAMP:20260420T201109
CREATED:20251206T025608Z
LAST-MODIFIED:20260206T005103Z
UID:10085608-1770278400-1770321600@machias.edu
SUMMARY:Library open 8am - 8pm
DESCRIPTION:
URL:https://machias.edu/event/library-open-8am-10pm-565/
CATEGORIES:Merrill Library
END:VEVENT
BEGIN:VEVENT
DTSTART;TZID=America/New_York:20260206T080000
DTEND;TZID=America/New_York:20260206T170000
DTSTAMP:20260420T201109
CREATED:20251206T025608Z
LAST-MODIFIED:20260206T005103Z
UID:10085611-1770364800-1770397200@machias.edu
SUMMARY:Library open 8am - 5pm
DESCRIPTION:
URL:https://machias.edu/event/library-open-8am-5pm-158/
CATEGORIES:Merrill Library
END:VEVENT
END:VCALENDAR