BEGIN:VCALENDAR
VERSION:2.0
PRODID:-//University of Maine at Machias - ECPv6.15.17.1//NONSGML v1.0//EN
CALSCALE:GREGORIAN
METHOD:PUBLISH
X-ORIGINAL-URL:https://machias.edu
X-WR-CALDESC:Events for University of Maine at Machias
REFRESH-INTERVAL;VALUE=DURATION:PT1H
X-Robots-Tag:noindex
X-PUBLISHED-TTL:PT1H
BEGIN:VTIMEZONE
TZID:America/New_York
BEGIN:DAYLIGHT
TZOFFSETFROM:-0500
TZOFFSETTO:-0400
TZNAME:EDT
DTSTART:20240310T070000
END:DAYLIGHT
BEGIN:STANDARD
TZOFFSETFROM:-0400
TZOFFSETTO:-0500
TZNAME:EST
DTSTART:20241103T060000
END:STANDARD
BEGIN:DAYLIGHT
TZOFFSETFROM:-0500
TZOFFSETTO:-0400
TZNAME:EDT
DTSTART:20250309T070000
END:DAYLIGHT
BEGIN:STANDARD
TZOFFSETFROM:-0400
TZOFFSETTO:-0500
TZNAME:EST
DTSTART:20251102T060000
END:STANDARD
BEGIN:DAYLIGHT
TZOFFSETFROM:-0500
TZOFFSETTO:-0400
TZNAME:EDT
DTSTART:20260308T070000
END:DAYLIGHT
BEGIN:STANDARD
TZOFFSETFROM:-0400
TZOFFSETTO:-0500
TZNAME:EST
DTSTART:20261101T060000
END:STANDARD
END:VTIMEZONE
BEGIN:VEVENT
DTSTART;TZID=America/New_York:20251115T130000
DTEND;TZID=America/New_York:20251115T170000
DTSTAMP:20260421T053039
CREATED:20250825T170229Z
LAST-MODIFIED:20251115T015540Z
UID:10085345-1763211600-1763226000@machias.edu
SUMMARY:Library open 1pm - 5pm
DESCRIPTION:
URL:https://machias.edu/event/library-open-1pm-5pm-71/
CATEGORIES:Merrill Library
END:VEVENT
BEGIN:VEVENT
DTSTART;TZID=America/New_York:20251116T140000
DTEND;TZID=America/New_York:20251116T200000
DTSTAMP:20260421T053039
CREATED:20250825T170229Z
LAST-MODIFIED:20251116T015612Z
UID:10085348-1763301600-1763323200@machias.edu
SUMMARY:Library open 2pm - 8pm
DESCRIPTION:
URL:https://machias.edu/event/library-open-2pm-8pm-104/
CATEGORIES:Merrill Library
END:VEVENT
BEGIN:VEVENT
DTSTART;TZID=America/New_York:20251117T090000
DTEND;TZID=America/New_York:20251117T220000
DTSTAMP:20260421T053039
CREATED:20250825T170229Z
LAST-MODIFIED:20251118T015633Z
UID:10085351-1763370000-1763416800@machias.edu
SUMMARY:Library open 9am - 10pm - DELAYED OPENING DUE TO WEATHER
DESCRIPTION:
URL:https://machias.edu/event/library-open-8am-10pm-537/
CATEGORIES:Merrill Library
END:VEVENT
BEGIN:VEVENT
DTSTART;TZID=America/New_York:20251118T080000
DTEND;TZID=America/New_York:20251118T220000
DTSTAMP:20260421T053039
CREATED:20250825T170229Z
LAST-MODIFIED:20251119T020303Z
UID:10085354-1763452800-1763503200@machias.edu
SUMMARY:Library open 8am - 10pm
DESCRIPTION:
URL:https://machias.edu/event/library-open-8am-10pm-538/
CATEGORIES:Merrill Library
END:VEVENT
BEGIN:VEVENT
DTSTART;TZID=America/New_York:20251119T080000
DTEND;TZID=America/New_York:20251119T220000
DTSTAMP:20260421T053039
CREATED:20250825T170229Z
LAST-MODIFIED:20251120T020853Z
UID:10085357-1763539200-1763589600@machias.edu
SUMMARY:Library open 8am - 10pm
DESCRIPTION:
URL:https://machias.edu/event/library-open-8am-10pm-539/
CATEGORIES:Merrill Library
END:VEVENT
BEGIN:VEVENT
DTSTART;TZID=America/New_York:20251120T080000
DTEND;TZID=America/New_York:20251120T220000
DTSTAMP:20260421T053039
CREATED:20250825T170229Z
LAST-MODIFIED:20251121T022312Z
UID:10085360-1763625600-1763676000@machias.edu
SUMMARY:Library open 8am - 10pm
DESCRIPTION:
URL:https://machias.edu/event/library-open-8am-10pm-540/
CATEGORIES:Merrill Library
END:VEVENT
BEGIN:VEVENT
DTSTART;TZID=America/New_York:20251121T080000
DTEND;TZID=America/New_York:20251121T170000
DTSTAMP:20260421T053039
CREATED:20250825T170229Z
LAST-MODIFIED:20251121T022313Z
UID:10085363-1763712000-1763744400@machias.edu
SUMMARY:Library open 8am - 5pm
DESCRIPTION:
URL:https://machias.edu/event/library-open-8am-5pm-152/
CATEGORIES:Merrill Library
END:VEVENT
BEGIN:VEVENT
DTSTART;TZID=America/New_York:20251122T130000
DTEND;TZID=America/New_York:20251122T170000
DTSTAMP:20260421T053039
CREATED:20250825T170229Z
LAST-MODIFIED:20251122T023700Z
UID:10085366-1763816400-1763830800@machias.edu
SUMMARY:Library open 1pm - 5pm
DESCRIPTION:
URL:https://machias.edu/event/library-open-1pm-5pm-72/
CATEGORIES:Merrill Library
END:VEVENT
BEGIN:VEVENT
DTSTART;TZID=America/New_York:20251123T140000
DTEND;TZID=America/New_York:20251123T200000
DTSTAMP:20260421T053039
CREATED:20250825T170229Z
LAST-MODIFIED:20251123T023600Z
UID:10085369-1763906400-1763928000@machias.edu
SUMMARY:Library open 2pm - 8pm
DESCRIPTION:
URL:https://machias.edu/event/library-open-2pm-8pm-105/
CATEGORIES:Merrill Library
END:VEVENT
BEGIN:VEVENT
DTSTART;TZID=America/New_York:20251124T080000
DTEND;TZID=America/New_York:20251124T220000
DTSTAMP:20260421T053039
CREATED:20250825T170229Z
LAST-MODIFIED:20251125T024226Z
UID:10085372-1763971200-1764021600@machias.edu
SUMMARY:Library open 8am - 10pm
DESCRIPTION:
URL:https://machias.edu/event/library-open-8am-10pm-541/
CATEGORIES:Merrill Library
END:VEVENT
BEGIN:VEVENT
DTSTART;TZID=America/New_York:20251125T080000
DTEND;TZID=America/New_York:20251125T220000
DTSTAMP:20260421T053039
CREATED:20250825T170229Z
LAST-MODIFIED:20251126T025548Z
UID:10085375-1764057600-1764108000@machias.edu
SUMMARY:Library open 8am - 10pm
DESCRIPTION:
URL:https://machias.edu/event/library-open-8am-10pm-542/
CATEGORIES:Merrill Library
END:VEVENT
BEGIN:VEVENT
DTSTART;VALUE=DATE:20251126
DTEND;VALUE=DATE:20251127
DTSTAMP:20260421T053039
CREATED:20250825T170230Z
LAST-MODIFIED:20251126T025548Z
UID:10085381-1764115200-1764201599@machias.edu
SUMMARY:Library closed
DESCRIPTION:
URL:https://machias.edu/event/library-closed-382/
CATEGORIES:Merrill Library
END:VEVENT
BEGIN:VEVENT
DTSTART;VALUE=DATE:20251127
DTEND;VALUE=DATE:20251128
DTSTAMP:20260421T053039
CREATED:20250825T170230Z
LAST-MODIFIED:20251127T025546Z
UID:10085378-1764201600-1764287999@machias.edu
SUMMARY:Library closed
DESCRIPTION:
URL:https://machias.edu/event/library-closed-381/
CATEGORIES:Merrill Library
END:VEVENT
BEGIN:VEVENT
DTSTART;VALUE=DATE:20251128
DTEND;VALUE=DATE:20251129
DTSTAMP:20260421T053039
CREATED:20250825T170230Z
LAST-MODIFIED:20251128T025532Z
UID:10085384-1764288000-1764374399@machias.edu
SUMMARY:Library closed
DESCRIPTION:
URL:https://machias.edu/event/library-closed-383/
CATEGORIES:Merrill Library
END:VEVENT
BEGIN:VEVENT
DTSTART;VALUE=DATE:20251129
DTEND;VALUE=DATE:20251130
DTSTAMP:20260421T053039
CREATED:20250825T170230Z
LAST-MODIFIED:20251129T025539Z
UID:10085387-1764374400-1764460799@machias.edu
SUMMARY:Library closed
DESCRIPTION:
URL:https://machias.edu/event/library-closed-384/
CATEGORIES:Merrill Library
END:VEVENT
BEGIN:VEVENT
DTSTART;VALUE=DATE:20251130
DTEND;VALUE=DATE:20251201
DTSTAMP:20260421T053039
CREATED:20250825T170230Z
LAST-MODIFIED:20251130T025536Z
UID:10085390-1764460800-1764547199@machias.edu
SUMMARY:Library closed
DESCRIPTION:
URL:https://machias.edu/event/library-closed-385/
CATEGORIES:Merrill Library
END:VEVENT
BEGIN:VEVENT
DTSTART;TZID=America/New_York:20251201T080000
DTEND;TZID=America/New_York:20251201T220000
DTSTAMP:20260421T053039
CREATED:20250825T170230Z
LAST-MODIFIED:20251202T025650Z
UID:10085393-1764576000-1764626400@machias.edu
SUMMARY:Library open 8am - 10pm
DESCRIPTION:
URL:https://machias.edu/event/library-open-8am-10pm-543/
CATEGORIES:Merrill Library
END:VEVENT
BEGIN:VEVENT
DTSTART;TZID=America/New_York:20251202T080000
DTEND;TZID=America/New_York:20251202T220000
DTSTAMP:20260421T053039
CREATED:20250825T170230Z
LAST-MODIFIED:20251202T025651Z
UID:10085396-1764662400-1764712800@machias.edu
SUMMARY:Library open 8am - 10pm
DESCRIPTION:
URL:https://machias.edu/event/library-open-8am-10pm-544/
CATEGORIES:Merrill Library
END:VEVENT
BEGIN:VEVENT
DTSTART;TZID=America/New_York:20251203T100000
DTEND;TZID=America/New_York:20251203T220000
DTSTAMP:20260421T053039
CREATED:20250825T170230Z
LAST-MODIFIED:20251204T025549Z
UID:10085399-1764756000-1764799200@machias.edu
SUMMARY:Library open 10am - 10pm - DELAYED OPENING DUE TO WEATHER
DESCRIPTION:
URL:https://machias.edu/event/library-open-8am-10pm-545/
CATEGORIES:Merrill Library
END:VEVENT
BEGIN:VEVENT
DTSTART;TZID=America/New_York:20251204T080000
DTEND;TZID=America/New_York:20251204T220000
DTSTAMP:20260421T053039
CREATED:20250825T170230Z
LAST-MODIFIED:20251205T025600Z
UID:10085402-1764835200-1764885600@machias.edu
SUMMARY:Library open 8am - 10pm
DESCRIPTION:
URL:https://machias.edu/event/library-open-8am-10pm-546/
CATEGORIES:Merrill Library
END:VEVENT
BEGIN:VEVENT
DTSTART;TZID=America/New_York:20251205T080000
DTEND;TZID=America/New_York:20251205T170000
DTSTAMP:20260421T053039
CREATED:20250825T170230Z
LAST-MODIFIED:20251205T025601Z
UID:10085405-1764921600-1764954000@machias.edu
SUMMARY:Library open 8am - 5pm
DESCRIPTION:
URL:https://machias.edu/event/library-open-8am-5pm-153/
CATEGORIES:Merrill Library
END:VEVENT
BEGIN:VEVENT
DTSTART;TZID=America/New_York:20251206T130000
DTEND;TZID=America/New_York:20251206T170000
DTSTAMP:20260421T053039
CREATED:20250825T170231Z
LAST-MODIFIED:20251206T025603Z
UID:10085408-1765026000-1765040400@machias.edu
SUMMARY:Library open 1pm - 5pm
DESCRIPTION:
URL:https://machias.edu/event/library-open-1pm-5pm-73/
CATEGORIES:Merrill Library
END:VEVENT
BEGIN:VEVENT
DTSTART;TZID=America/New_York:20251207T140000
DTEND;TZID=America/New_York:20251207T200000
DTSTAMP:20260421T053039
CREATED:20250825T170231Z
LAST-MODIFIED:20251207T025647Z
UID:10085411-1765116000-1765137600@machias.edu
SUMMARY:Library open 2pm - 8pm
DESCRIPTION:
URL:https://machias.edu/event/library-open-2pm-8pm-106/
CATEGORIES:Merrill Library
END:VEVENT
BEGIN:VEVENT
DTSTART;TZID=America/New_York:20251208T100000
DTEND;TZID=America/New_York:20251208T220000
DTSTAMP:20260421T053039
CREATED:20250825T170231Z
LAST-MODIFIED:20251209T025633Z
UID:10085414-1765188000-1765231200@machias.edu
SUMMARY:Library open 10am - 10pm - DELAYED OPENING DUE TO WEATHER
DESCRIPTION:
URL:https://machias.edu/event/library-open-8am-10pm-547/
CATEGORIES:Merrill Library
END:VEVENT
BEGIN:VEVENT
DTSTART;TZID=America/New_York:20251209T080000
DTEND;TZID=America/New_York:20251209T220000
DTSTAMP:20260421T053039
CREATED:20250825T170231Z
LAST-MODIFIED:20251209T025633Z
UID:10085417-1765267200-1765317600@machias.edu
SUMMARY:Library open 8am - 10pm
DESCRIPTION:
URL:https://machias.edu/event/library-open-8am-10pm-548/
CATEGORIES:Merrill Library
END:VEVENT
BEGIN:VEVENT
DTSTART;TZID=America/New_York:20251210T080000
DTEND;TZID=America/New_York:20251210T220000
DTSTAMP:20260421T053039
CREATED:20250825T170231Z
LAST-MODIFIED:20251210T031159Z
UID:10085420-1765353600-1765404000@machias.edu
SUMMARY:Library open 8am - 10pm
DESCRIPTION:
URL:https://machias.edu/event/library-open-8am-10pm-549/
CATEGORIES:Merrill Library
END:VEVENT
BEGIN:VEVENT
DTSTART;TZID=America/New_York:20251211T080000
DTEND;TZID=America/New_York:20251211T220000
DTSTAMP:20260421T053039
CREATED:20250825T170231Z
LAST-MODIFIED:20251211T031117Z
UID:10085423-1765440000-1765490400@machias.edu
SUMMARY:Library open 8am - 10pm
DESCRIPTION:
URL:https://machias.edu/event/library-open-8am-10pm-550/
CATEGORIES:Merrill Library
END:VEVENT
BEGIN:VEVENT
DTSTART;TZID=America/New_York:20251212T080000
DTEND;TZID=America/New_York:20251212T170000
DTSTAMP:20260421T053039
CREATED:20250825T170231Z
LAST-MODIFIED:20251212T032555Z
UID:10085426-1765526400-1765558800@machias.edu
SUMMARY:Library open 8am - 5pm
DESCRIPTION:
URL:https://machias.edu/event/library-open-8am-5pm-154/
CATEGORIES:Merrill Library
END:VEVENT
BEGIN:VEVENT
DTSTART;TZID=America/New_York:20251213T130000
DTEND;TZID=America/New_York:20251213T170000
DTSTAMP:20260421T053039
CREATED:20250825T170231Z
LAST-MODIFIED:20251213T032634Z
UID:10085429-1765630800-1765645200@machias.edu
SUMMARY:Library open 1pm - 5pm
DESCRIPTION:
URL:https://machias.edu/event/library-open-1pm-5pm-74/
CATEGORIES:Merrill Library
END:VEVENT
BEGIN:VEVENT
DTSTART;TZID=America/New_York:20251214T140000
DTEND;TZID=America/New_York:20251214T200000
DTSTAMP:20260421T053039
CREATED:20250825T170231Z
LAST-MODIFIED:20251214T032540Z
UID:10085432-1765720800-1765742400@machias.edu
SUMMARY:Library open 2pm - 8pm
DESCRIPTION:
URL:https://machias.edu/event/library-open-2pm-8pm-107/
CATEGORIES:Merrill Library
END:VEVENT
END:VCALENDAR