BEGIN:VCALENDAR
VERSION:2.0
PRODID:-//University of Maine at Machias - ECPv6.15.17.1//NONSGML v1.0//EN
CALSCALE:GREGORIAN
METHOD:PUBLISH
X-ORIGINAL-URL:https://machias.edu
X-WR-CALDESC:Events for University of Maine at Machias
REFRESH-INTERVAL;VALUE=DURATION:PT1H
X-Robots-Tag:noindex
X-PUBLISHED-TTL:PT1H
BEGIN:VTIMEZONE
TZID:America/New_York
BEGIN:DAYLIGHT
TZOFFSETFROM:-0500
TZOFFSETTO:-0400
TZNAME:EDT
DTSTART:20240310T070000
END:DAYLIGHT
BEGIN:STANDARD
TZOFFSETFROM:-0400
TZOFFSETTO:-0500
TZNAME:EST
DTSTART:20241103T060000
END:STANDARD
BEGIN:DAYLIGHT
TZOFFSETFROM:-0500
TZOFFSETTO:-0400
TZNAME:EDT
DTSTART:20250309T070000
END:DAYLIGHT
BEGIN:STANDARD
TZOFFSETFROM:-0400
TZOFFSETTO:-0500
TZNAME:EST
DTSTART:20251102T060000
END:STANDARD
BEGIN:DAYLIGHT
TZOFFSETFROM:-0500
TZOFFSETTO:-0400
TZNAME:EDT
DTSTART:20260308T070000
END:DAYLIGHT
BEGIN:STANDARD
TZOFFSETFROM:-0400
TZOFFSETTO:-0500
TZNAME:EST
DTSTART:20261101T060000
END:STANDARD
END:VTIMEZONE
BEGIN:VEVENT
DTSTART;VALUE=DATE:20251012
DTEND;VALUE=DATE:20251013
DTSTAMP:20260423T000944
CREATED:20250825T170225Z
LAST-MODIFIED:20251011T235954Z
UID:10085243-1760227200-1760313599@machias.edu
SUMMARY:Library closed
DESCRIPTION:
URL:https://machias.edu/event/library-closed-378/
CATEGORIES:Merrill Library
END:VEVENT
BEGIN:VEVENT
DTSTART;VALUE=DATE:20251013
DTEND;VALUE=DATE:20251014
DTSTAMP:20260423T000944
CREATED:20250825T170225Z
LAST-MODIFIED:20251013T001439Z
UID:10085240-1760313600-1760399999@machias.edu
SUMMARY:Library closed
DESCRIPTION:
URL:https://machias.edu/event/library-closed-377/
CATEGORIES:Merrill Library
END:VEVENT
BEGIN:VEVENT
DTSTART;TZID=America/New_York:20251014T080000
DTEND;TZID=America/New_York:20251014T220000
DTSTAMP:20260423T000944
CREATED:20250825T170226Z
LAST-MODIFIED:20251015T001546Z
UID:10085249-1760428800-1760479200@machias.edu
SUMMARY:Library open 8am - 10pm
DESCRIPTION:
URL:https://machias.edu/event/library-open-8am-10pm-519/
CATEGORIES:Merrill Library
END:VEVENT
BEGIN:VEVENT
DTSTART;TZID=America/New_York:20251015T080000
DTEND;TZID=America/New_York:20251015T220000
DTSTAMP:20260423T000944
CREATED:20250825T170226Z
LAST-MODIFIED:20251016T001438Z
UID:10085252-1760515200-1760565600@machias.edu
SUMMARY:Library open 8am - 10pm
DESCRIPTION:
URL:https://machias.edu/event/library-open-8am-10pm-520/
CATEGORIES:Merrill Library
END:VEVENT
BEGIN:VEVENT
DTSTART;TZID=America/New_York:20251016T080000
DTEND;TZID=America/New_York:20251016T220000
DTSTAMP:20260423T000944
CREATED:20250825T170226Z
LAST-MODIFIED:20251017T001555Z
UID:10085255-1760601600-1760652000@machias.edu
SUMMARY:Library open 8am - 10pm
DESCRIPTION:
URL:https://machias.edu/event/library-open-8am-10pm-521/
CATEGORIES:Merrill Library
END:VEVENT
BEGIN:VEVENT
DTSTART;TZID=America/New_York:20251017T080000
DTEND;TZID=America/New_York:20251017T170000
DTSTAMP:20260423T000944
CREATED:20250825T170226Z
LAST-MODIFIED:20251017T001556Z
UID:10085258-1760688000-1760720400@machias.edu
SUMMARY:Library open 8am - 5pm
DESCRIPTION:
URL:https://machias.edu/event/library-open-8am-5pm-147/
CATEGORIES:Merrill Library
END:VEVENT
BEGIN:VEVENT
DTSTART;TZID=America/New_York:20251018T130000
DTEND;TZID=America/New_York:20251018T170000
DTSTAMP:20260423T000944
CREATED:20250825T170226Z
LAST-MODIFIED:20251018T003002Z
UID:10085261-1760792400-1760806800@machias.edu
SUMMARY:Library open 1pm - 5pm
DESCRIPTION:
URL:https://machias.edu/event/library-open-1pm-5pm-67/
CATEGORIES:Merrill Library
END:VEVENT
BEGIN:VEVENT
DTSTART;TZID=America/New_York:20251019T140000
DTEND;TZID=America/New_York:20251019T200000
DTSTAMP:20260423T000944
CREATED:20250825T170226Z
LAST-MODIFIED:20251019T004437Z
UID:10085264-1760882400-1760904000@machias.edu
SUMMARY:Library open 2pm - 8pm
DESCRIPTION:
URL:https://machias.edu/event/library-open-2pm-8pm-100/
CATEGORIES:Merrill Library
END:VEVENT
BEGIN:VEVENT
DTSTART;TZID=America/New_York:20251020T080000
DTEND;TZID=America/New_York:20251020T220000
DTSTAMP:20260423T000944
CREATED:20250825T170226Z
LAST-MODIFIED:20251021T004551Z
UID:10085267-1760947200-1760997600@machias.edu
SUMMARY:Library open 8am - 10pm
DESCRIPTION:
URL:https://machias.edu/event/library-open-8am-10pm-522/
CATEGORIES:Merrill Library
END:VEVENT
BEGIN:VEVENT
DTSTART;TZID=America/New_York:20251021T080000
DTEND;TZID=America/New_York:20251021T220000
DTSTAMP:20260423T000944
CREATED:20250825T170226Z
LAST-MODIFIED:20251022T005107Z
UID:10085270-1761033600-1761084000@machias.edu
SUMMARY:Library open 8am - 10pm
DESCRIPTION:
URL:https://machias.edu/event/library-open-8am-10pm-523/
CATEGORIES:Merrill Library
END:VEVENT
BEGIN:VEVENT
DTSTART;TZID=America/New_York:20251022T080000
DTEND;TZID=America/New_York:20251022T220000
DTSTAMP:20260423T000944
CREATED:20250825T170226Z
LAST-MODIFIED:20251023T005143Z
UID:10085273-1761120000-1761170400@machias.edu
SUMMARY:Library open 8am - 10pm
DESCRIPTION:
URL:https://machias.edu/event/library-open-8am-10pm-524/
CATEGORIES:Merrill Library
END:VEVENT
BEGIN:VEVENT
DTSTART;TZID=America/New_York:20251023T080000
DTEND;TZID=America/New_York:20251023T220000
DTSTAMP:20260423T000944
CREATED:20250825T170226Z
LAST-MODIFIED:20251024T005111Z
UID:10085276-1761206400-1761256800@machias.edu
SUMMARY:Library open 8am - 10pm
DESCRIPTION:
URL:https://machias.edu/event/library-open-8am-10pm-525/
CATEGORIES:Merrill Library
END:VEVENT
BEGIN:VEVENT
DTSTART;TZID=America/New_York:20251024T080000
DTEND;TZID=America/New_York:20251024T170000
DTSTAMP:20260423T000944
CREATED:20250825T170227Z
LAST-MODIFIED:20251024T005112Z
UID:10085279-1761292800-1761325200@machias.edu
SUMMARY:Library open 8am - 5pm
DESCRIPTION:
URL:https://machias.edu/event/library-open-8am-5pm-148/
CATEGORIES:Merrill Library
END:VEVENT
BEGIN:VEVENT
DTSTART;TZID=America/New_York:20251025T130000
DTEND;TZID=America/New_York:20251025T170000
DTSTAMP:20260423T000944
CREATED:20250825T170227Z
LAST-MODIFIED:20251025T005107Z
UID:10085282-1761397200-1761411600@machias.edu
SUMMARY:Library open 1pm - 5pm
DESCRIPTION:
URL:https://machias.edu/event/library-open-1pm-5pm-68/
CATEGORIES:Merrill Library
END:VEVENT
BEGIN:VEVENT
DTSTART;TZID=America/New_York:20251026T140000
DTEND;TZID=America/New_York:20251026T200000
DTSTAMP:20260423T000944
CREATED:20250825T170227Z
LAST-MODIFIED:20251026T005157Z
UID:10085285-1761487200-1761508800@machias.edu
SUMMARY:Library open 2pm - 8pm
DESCRIPTION:
URL:https://machias.edu/event/library-open-2pm-8pm-101/
CATEGORIES:Merrill Library
END:VEVENT
BEGIN:VEVENT
DTSTART;TZID=America/New_York:20251027T080000
DTEND;TZID=America/New_York:20251027T220000
DTSTAMP:20260423T000944
CREATED:20250825T170227Z
LAST-MODIFIED:20251028T005122Z
UID:10085288-1761552000-1761602400@machias.edu
SUMMARY:Library open 8am - 10pm
DESCRIPTION:
URL:https://machias.edu/event/library-open-8am-10pm-526/
CATEGORIES:Merrill Library
END:VEVENT
BEGIN:VEVENT
DTSTART;TZID=America/New_York:20251028T080000
DTEND;TZID=America/New_York:20251028T220000
DTSTAMP:20260423T000944
CREATED:20250825T170227Z
LAST-MODIFIED:20251029T010742Z
UID:10085291-1761638400-1761688800@machias.edu
SUMMARY:Library open 8am - 10pm
DESCRIPTION:
URL:https://machias.edu/event/library-open-8am-10pm-527/
CATEGORIES:Merrill Library
END:VEVENT
BEGIN:VEVENT
DTSTART;TZID=America/New_York:20251029T080000
DTEND;TZID=America/New_York:20251029T220000
DTSTAMP:20260423T000944
CREATED:20250825T170227Z
LAST-MODIFIED:20251030T010653Z
UID:10085294-1761724800-1761775200@machias.edu
SUMMARY:Library open 8am - 10pm
DESCRIPTION:
URL:https://machias.edu/event/library-open-8am-10pm-528/
CATEGORIES:Merrill Library
END:VEVENT
BEGIN:VEVENT
DTSTART;TZID=America/New_York:20251030T080000
DTEND;TZID=America/New_York:20251030T220000
DTSTAMP:20260423T000944
CREATED:20250825T170227Z
LAST-MODIFIED:20251031T010602Z
UID:10085297-1761811200-1761861600@machias.edu
SUMMARY:Library open 8am - 10pm
DESCRIPTION:
URL:https://machias.edu/event/library-open-8am-10pm-529/
CATEGORIES:Merrill Library
END:VEVENT
BEGIN:VEVENT
DTSTART;TZID=America/New_York:20251031T080000
DTEND;TZID=America/New_York:20251031T170000
DTSTAMP:20260423T000944
CREATED:20250825T170227Z
LAST-MODIFIED:20251031T010603Z
UID:10085300-1761897600-1761930000@machias.edu
SUMMARY:Library open 8am - 5pm
DESCRIPTION:
URL:https://machias.edu/event/library-open-8am-5pm-149/
CATEGORIES:Merrill Library
END:VEVENT
BEGIN:VEVENT
DTSTART;TZID=America/New_York:20251101T130000
DTEND;TZID=America/New_York:20251101T170000
DTSTAMP:20260423T000944
CREATED:20250825T170227Z
LAST-MODIFIED:20251101T010653Z
UID:10085303-1762002000-1762016400@machias.edu
SUMMARY:Library open 1pm - 5pm
DESCRIPTION:
URL:https://machias.edu/event/library-open-1pm-5pm-69/
CATEGORIES:Merrill Library
END:VEVENT
BEGIN:VEVENT
DTSTART;TZID=America/New_York:20251102T140000
DTEND;TZID=America/New_York:20251102T200000
DTSTAMP:20260423T000944
CREATED:20250825T170227Z
LAST-MODIFIED:20251102T010556Z
UID:10085306-1762092000-1762113600@machias.edu
SUMMARY:Library open 2pm - 8pm
DESCRIPTION:
URL:https://machias.edu/event/library-open-2pm-8pm-102/
CATEGORIES:Merrill Library
END:VEVENT
BEGIN:VEVENT
DTSTART;TZID=America/New_York:20251103T080000
DTEND;TZID=America/New_York:20251103T220000
DTSTAMP:20260423T000944
CREATED:20250825T170227Z
LAST-MODIFIED:20251104T012128Z
UID:10085309-1762156800-1762207200@machias.edu
SUMMARY:Library open 8am - 10pm
DESCRIPTION:
URL:https://machias.edu/event/library-open-8am-10pm-530/
CATEGORIES:Merrill Library
END:VEVENT
BEGIN:VEVENT
DTSTART;TZID=America/New_York:20251104T080000
DTEND;TZID=America/New_York:20251104T220000
DTSTAMP:20260423T000944
CREATED:20250825T170228Z
LAST-MODIFIED:20251105T012125Z
UID:10085312-1762243200-1762293600@machias.edu
SUMMARY:Library open 8am - 10pm
DESCRIPTION:
URL:https://machias.edu/event/library-open-8am-10pm-531/
CATEGORIES:Merrill Library
END:VEVENT
BEGIN:VEVENT
DTSTART;TZID=America/New_York:20251105T080000
DTEND;TZID=America/New_York:20251105T220000
DTSTAMP:20260423T000944
CREATED:20250825T170228Z
LAST-MODIFIED:20251106T012117Z
UID:10085315-1762329600-1762380000@machias.edu
SUMMARY:Library open 8am - 10pm
DESCRIPTION:
URL:https://machias.edu/event/library-open-8am-10pm-532/
CATEGORIES:Merrill Library
END:VEVENT
BEGIN:VEVENT
DTSTART;TZID=America/New_York:20251106T080000
DTEND;TZID=America/New_York:20251106T220000
DTSTAMP:20260423T000944
CREATED:20250825T170228Z
LAST-MODIFIED:20251107T012240Z
UID:10085318-1762416000-1762466400@machias.edu
SUMMARY:Library open 8am - 10pm
DESCRIPTION:
URL:https://machias.edu/event/library-open-8am-10pm-533/
CATEGORIES:Merrill Library
END:VEVENT
BEGIN:VEVENT
DTSTART;TZID=America/New_York:20251107T080000
DTEND;TZID=America/New_York:20251107T170000
DTSTAMP:20260423T000944
CREATED:20250825T170228Z
LAST-MODIFIED:20251107T012241Z
UID:10085321-1762502400-1762534800@machias.edu
SUMMARY:Library open 8am - 5pm
DESCRIPTION:
URL:https://machias.edu/event/library-open-8am-5pm-150/
CATEGORIES:Merrill Library
END:VEVENT
BEGIN:VEVENT
DTSTART;TZID=America/New_York:20251108T130000
DTEND;TZID=America/New_York:20251108T170000
DTSTAMP:20260423T000944
CREATED:20250825T170228Z
LAST-MODIFIED:20251108T013706Z
UID:10085324-1762606800-1762621200@machias.edu
SUMMARY:Library open 1pm - 5pm
DESCRIPTION:
URL:https://machias.edu/event/library-open-1pm-5pm-70/
CATEGORIES:Merrill Library
END:VEVENT
BEGIN:VEVENT
DTSTART;TZID=America/New_York:20251109T140000
DTEND;TZID=America/New_York:20251109T200000
DTSTAMP:20260423T000944
CREATED:20250825T170228Z
LAST-MODIFIED:20251109T015343Z
UID:10085327-1762696800-1762718400@machias.edu
SUMMARY:Library open 2pm - 8pm
DESCRIPTION:
URL:https://machias.edu/event/library-open-2pm-8pm-103/
CATEGORIES:Merrill Library
END:VEVENT
BEGIN:VEVENT
DTSTART;TZID=America/New_York:20251110T080000
DTEND;TZID=America/New_York:20251110T220000
DTSTAMP:20260423T000944
CREATED:20250825T170228Z
LAST-MODIFIED:20251111T015145Z
UID:10085330-1762761600-1762812000@machias.edu
SUMMARY:Library open 8am - 10pm
DESCRIPTION:
URL:https://machias.edu/event/library-open-8am-10pm-534/
CATEGORIES:Merrill Library
END:VEVENT
END:VCALENDAR