BEGIN:VCALENDAR
VERSION:2.0
PRODID:-//University of Maine at Machias - ECPv6.15.17.1//NONSGML v1.0//EN
CALSCALE:GREGORIAN
METHOD:PUBLISH
X-ORIGINAL-URL:https://machias.edu
X-WR-CALDESC:Events for University of Maine at Machias
REFRESH-INTERVAL;VALUE=DURATION:PT1H
X-Robots-Tag:noindex
X-PUBLISHED-TTL:PT1H
BEGIN:VTIMEZONE
TZID:America/New_York
BEGIN:DAYLIGHT
TZOFFSETFROM:-0500
TZOFFSETTO:-0400
TZNAME:EDT
DTSTART:20190310T070000
END:DAYLIGHT
BEGIN:STANDARD
TZOFFSETFROM:-0400
TZOFFSETTO:-0500
TZNAME:EST
DTSTART:20191103T060000
END:STANDARD
BEGIN:DAYLIGHT
TZOFFSETFROM:-0500
TZOFFSETTO:-0400
TZNAME:EDT
DTSTART:20200308T070000
END:DAYLIGHT
BEGIN:STANDARD
TZOFFSETFROM:-0400
TZOFFSETTO:-0500
TZNAME:EST
DTSTART:20201101T060000
END:STANDARD
BEGIN:DAYLIGHT
TZOFFSETFROM:-0500
TZOFFSETTO:-0400
TZNAME:EDT
DTSTART:20210314T070000
END:DAYLIGHT
BEGIN:STANDARD
TZOFFSETFROM:-0400
TZOFFSETTO:-0500
TZNAME:EST
DTSTART:20211107T060000
END:STANDARD
END:VTIMEZONE
BEGIN:VEVENT
DTSTART;TZID=America/New_York:20200501T080000
DTEND;TZID=America/New_York:20200501T170000
DTSTAMP:20260419T101933
CREATED:20200217T152507Z
LAST-MODIFIED:20200226T170208Z
UID:10050826-1588320000-1588352400@machias.edu
SUMMARY:Library open 8am - 5pm
DESCRIPTION:
URL:https://machias.edu/event/library-open-8am-5pm-14/
CATEGORIES:Merrill Library
END:VEVENT
BEGIN:VEVENT
DTSTART;VALUE=DATE:20200509
DTEND;VALUE=DATE:20200510
DTSTAMP:20260419T101933
CREATED:20200217T152507Z
LAST-MODIFIED:20200226T170208Z
UID:10050829-1588982400-1589068799@machias.edu
SUMMARY:Library closed
DESCRIPTION:
URL:https://machias.edu/event/library-closed-9/
CATEGORIES:Merrill Library
END:VEVENT
BEGIN:VEVENT
DTSTART;VALUE=DATE:20200510
DTEND;VALUE=DATE:20200511
DTSTAMP:20260419T101933
CREATED:20200217T152508Z
LAST-MODIFIED:20200226T170208Z
UID:10050832-1589068800-1589155199@machias.edu
SUMMARY:Library closed
DESCRIPTION:
URL:https://machias.edu/event/library-closed-10/
CATEGORIES:Merrill Library
END:VEVENT
BEGIN:VEVENT
DTSTART;VALUE=DATE:20200516
DTEND;VALUE=DATE:20200517
DTSTAMP:20260419T101933
CREATED:20200217T152508Z
LAST-MODIFIED:20200226T170208Z
UID:10050835-1589587200-1589673599@machias.edu
SUMMARY:Library closed
DESCRIPTION:
URL:https://machias.edu/event/library-closed-11/
CATEGORIES:Merrill Library
END:VEVENT
BEGIN:VEVENT
DTSTART;VALUE=DATE:20200517
DTEND;VALUE=DATE:20200518
DTSTAMP:20260419T101933
CREATED:20200217T152508Z
LAST-MODIFIED:20200226T170208Z
UID:10050838-1589673600-1589759999@machias.edu
SUMMARY:Library closed
DESCRIPTION:
URL:https://machias.edu/event/library-closed-12/
CATEGORIES:Merrill Library
END:VEVENT
BEGIN:VEVENT
DTSTART;VALUE=DATE:20200523
DTEND;VALUE=DATE:20200524
DTSTAMP:20260419T101933
CREATED:20200223T162656Z
LAST-MODIFIED:20200226T170209Z
UID:10050944-1590192000-1590278399@machias.edu
SUMMARY:Library closed
DESCRIPTION:
URL:https://machias.edu/event/library-closed-13/
CATEGORIES:Merrill Library
END:VEVENT
BEGIN:VEVENT
DTSTART;VALUE=DATE:20200524
DTEND;VALUE=DATE:20200525
DTSTAMP:20260419T101933
CREATED:20200224T163259Z
LAST-MODIFIED:20200226T170209Z
UID:10050953-1590278400-1590364799@machias.edu
SUMMARY:Library closed
DESCRIPTION:
URL:https://machias.edu/event/library-closed-14/
CATEGORIES:Merrill Library
END:VEVENT
BEGIN:VEVENT
DTSTART;VALUE=DATE:20200525
DTEND;VALUE=DATE:20200526
DTSTAMP:20260419T101933
CREATED:20200225T164859Z
LAST-MODIFIED:20200226T170209Z
UID:10050959-1590364800-1590451199@machias.edu
SUMMARY:Library closed
DESCRIPTION:
URL:https://machias.edu/event/library-closed-15/
CATEGORIES:Merrill Library
END:VEVENT
BEGIN:VEVENT
DTSTART;TZID=America/New_York:20200825T080000
DTEND;TZID=America/New_York:20200825T163000
DTSTAMP:20260419T101933
CREATED:20200825T135636Z
LAST-MODIFIED:20200825T135636Z
UID:10050972-1598342400-1598373000@machias.edu
SUMMARY:Library closed - Reference services available 8am - 4:30pm
DESCRIPTION:
URL:https://machias.edu/event/library-closed-reference-services-available-8am-430pm/
CATEGORIES:Merrill Library
END:VEVENT
BEGIN:VEVENT
DTSTART;TZID=America/New_York:20200826T080000
DTEND;TZID=America/New_York:20200826T163000
DTSTAMP:20260419T101933
CREATED:20200825T135636Z
LAST-MODIFIED:20200826T140416Z
UID:10050975-1598428800-1598459400@machias.edu
SUMMARY:Library closed - Reference services available 8am - 4:30pm
DESCRIPTION:
URL:https://machias.edu/event/library-closed-reference-services-available-8am-430pm-2/
CATEGORIES:Merrill Library
END:VEVENT
BEGIN:VEVENT
DTSTART;TZID=America/New_York:20200827T080000
DTEND;TZID=America/New_York:20200827T163000
DTSTAMP:20260419T101933
CREATED:20200825T135637Z
LAST-MODIFIED:20200827T141236Z
UID:10050978-1598515200-1598545800@machias.edu
SUMMARY:Library closed - Reference services available 8am - 4:30pm
DESCRIPTION:
URL:https://machias.edu/event/library-closed-reference-services-available-8am-430pm-3/
CATEGORIES:Merrill Library
END:VEVENT
BEGIN:VEVENT
DTSTART;TZID=America/New_York:20200828T080000
DTEND;TZID=America/New_York:20200828T163000
DTSTAMP:20260419T101933
CREATED:20200825T135637Z
LAST-MODIFIED:20200828T141619Z
UID:10050984-1598601600-1598632200@machias.edu
SUMMARY:Library closed - Reference services available 8am - 4:30pm
DESCRIPTION:
URL:https://machias.edu/event/library-closed-reference-services-available-8am-430pm-4/
CATEGORIES:Merrill Library
END:VEVENT
BEGIN:VEVENT
DTSTART;VALUE=DATE:20200829
DTEND;VALUE=DATE:20200830
DTSTAMP:20260419T101933
CREATED:20200825T135637Z
LAST-MODIFIED:20200829T141944Z
UID:10050990-1598659200-1598745599@machias.edu
SUMMARY:Library closed
DESCRIPTION:
URL:https://machias.edu/event/library-closed-17/
CATEGORIES:Merrill Library
END:VEVENT
BEGIN:VEVENT
DTSTART;VALUE=DATE:20200830
DTEND;VALUE=DATE:20200831
DTSTAMP:20260419T101933
CREATED:20200825T135637Z
LAST-MODIFIED:20200830T143034Z
UID:10050987-1598745600-1598831999@machias.edu
SUMMARY:Library closed
DESCRIPTION:
URL:https://machias.edu/event/library-closed-16/
CATEGORIES:Merrill Library
END:VEVENT
BEGIN:VEVENT
DTSTART;TZID=America/New_York:20200831T080000
DTEND;TZID=America/New_York:20200831T220000
DTSTAMP:20260419T101933
CREATED:20200825T135637Z
LAST-MODIFIED:20200831T144444Z
UID:10051354-1598860800-1598911200@machias.edu
SUMMARY:Library open - UMM students\, staff\, and faculty only
DESCRIPTION:
URL:https://machias.edu/event/library-open-umm-students-staff-and-faculty-only/
CATEGORIES:Merrill Library
END:VEVENT
BEGIN:VEVENT
DTSTART;TZID=America/New_York:20200901T080000
DTEND;TZID=America/New_York:20200901T220000
DTSTAMP:20260419T101933
CREATED:20200825T135637Z
LAST-MODIFIED:20200901T145142Z
UID:10051357-1598947200-1598997600@machias.edu
SUMMARY:Library open 8am - 10pm. UMM students\, staff\, and faculty only
DESCRIPTION:
URL:https://machias.edu/event/library-open-umm-students-staff-and-faculty-only-2/
CATEGORIES:Merrill Library
END:VEVENT
BEGIN:VEVENT
DTSTART;TZID=America/New_York:20200902T080000
DTEND;TZID=America/New_York:20200902T220000
DTSTAMP:20260419T101933
CREATED:20200825T135638Z
LAST-MODIFIED:20200902T150558Z
UID:10051360-1599033600-1599084000@machias.edu
SUMMARY:Library open 8am - 10pm. UMM students\, staff\, and faculty only
DESCRIPTION:
URL:https://machias.edu/event/library-open-umm-students-staff-and-faculty-only-3/
CATEGORIES:Merrill Library
END:VEVENT
BEGIN:VEVENT
DTSTART;TZID=America/New_York:20200903T080000
DTEND;TZID=America/New_York:20200903T220000
DTSTAMP:20260419T101933
CREATED:20200825T135638Z
LAST-MODIFIED:20200903T150400Z
UID:10051363-1599120000-1599170400@machias.edu
SUMMARY:Library open 8am - 10pm. UMM students\, staff\, and faculty only
DESCRIPTION:
URL:https://machias.edu/event/library-open-umm-students-staff-and-faculty-only-4/
CATEGORIES:Merrill Library
END:VEVENT
BEGIN:VEVENT
DTSTART;TZID=America/New_York:20200904T080000
DTEND;TZID=America/New_York:20200904T170000
DTSTAMP:20260419T101933
CREATED:20200825T135638Z
LAST-MODIFIED:20200904T152017Z
UID:10051366-1599206400-1599238800@machias.edu
SUMMARY:Library open 8am - 5pm. UMM students\, staff\, and faculty only
DESCRIPTION:
URL:https://machias.edu/event/library-open-umm-students-staff-and-faculty-only-5/
CATEGORIES:Merrill Library
END:VEVENT
BEGIN:VEVENT
DTSTART;TZID=America/New_York:20200905T120000
DTEND;TZID=America/New_York:20200905T160000
DTSTAMP:20260419T101933
CREATED:20200825T135638Z
LAST-MODIFIED:20200905T152539Z
UID:10051369-1599307200-1599321600@machias.edu
SUMMARY:Library open noon - 4pm. UMM students\, staff\, and faculty only
DESCRIPTION:
URL:https://machias.edu/event/library-open-umm-students-staff-and-faculty-only-6/
CATEGORIES:Merrill Library
END:VEVENT
BEGIN:VEVENT
DTSTART;TZID=America/New_York:20200906T140000
DTEND;TZID=America/New_York:20200906T220000
DTSTAMP:20260419T101933
CREATED:20200825T135638Z
LAST-MODIFIED:20200906T152507Z
UID:10051372-1599400800-1599429600@machias.edu
SUMMARY:Library open 2pm - 10pm. UMM students\, staff\, and faculty only
DESCRIPTION:
URL:https://machias.edu/event/library-open-umm-students-staff-and-faculty-only-7/
CATEGORIES:Merrill Library
END:VEVENT
BEGIN:VEVENT
DTSTART;TZID=America/New_York:20200907T080000
DTEND;TZID=America/New_York:20200907T160000
DTSTAMP:20260419T101933
CREATED:20200825T135638Z
LAST-MODIFIED:20200907T153412Z
UID:10051375-1599465600-1599494400@machias.edu
SUMMARY:Library open 8am - 4pm. UMM students\, staff\, and faculty only
DESCRIPTION:
URL:https://machias.edu/event/library-open-umm-students-staff-and-faculty-only-8/
CATEGORIES:Merrill Library
END:VEVENT
BEGIN:VEVENT
DTSTART;TZID=America/New_York:20200908T080000
DTEND;TZID=America/New_York:20200908T220000
DTSTAMP:20260419T101933
CREATED:20200825T135638Z
LAST-MODIFIED:20200908T153328Z
UID:10051378-1599552000-1599602400@machias.edu
SUMMARY:Library open 8am - 10pm. UMM students\, staff\, and faculty only
DESCRIPTION:
URL:https://machias.edu/event/library-open-umm-students-staff-and-faculty-only-9/
CATEGORIES:Merrill Library
END:VEVENT
BEGIN:VEVENT
DTSTART;TZID=America/New_York:20200909T080000
DTEND;TZID=America/New_York:20200909T220000
DTSTAMP:20260419T101933
CREATED:20200825T135639Z
LAST-MODIFIED:20200908T153328Z
UID:10051381-1599638400-1599688800@machias.edu
SUMMARY:Library open 8am - 10pm. UMM students\, staff\, and faculty only
DESCRIPTION:
URL:https://machias.edu/event/library-open-umm-students-staff-and-faculty-only-10/
CATEGORIES:Merrill Library
END:VEVENT
BEGIN:VEVENT
DTSTART;TZID=America/New_York:20200910T080000
DTEND;TZID=America/New_York:20200910T220000
DTSTAMP:20260419T101933
CREATED:20200825T135639Z
LAST-MODIFIED:20200910T155621Z
UID:10051384-1599724800-1599775200@machias.edu
SUMMARY:Library open 8am - 10pm. UMM students\, staff\, and faculty only
DESCRIPTION:
URL:https://machias.edu/event/library-open-umm-students-staff-and-faculty-only-11/
CATEGORIES:Merrill Library
END:VEVENT
BEGIN:VEVENT
DTSTART;TZID=America/New_York:20200911T080000
DTEND;TZID=America/New_York:20200911T170000
DTSTAMP:20260419T101933
CREATED:20200825T135639Z
LAST-MODIFIED:20200911T160252Z
UID:10051387-1599811200-1599843600@machias.edu
SUMMARY:Library open 8am - 5pm. UMM students\, staff\, and faculty only
DESCRIPTION:
URL:https://machias.edu/event/library-open-umm-students-staff-and-faculty-only-12/
CATEGORIES:Merrill Library
END:VEVENT
BEGIN:VEVENT
DTSTART;TZID=America/New_York:20200912T120000
DTEND;TZID=America/New_York:20200912T160000
DTSTAMP:20260419T101933
CREATED:20200825T135639Z
LAST-MODIFIED:20200912T160419Z
UID:10051390-1599912000-1599926400@machias.edu
SUMMARY:Library open noon - 4pm. UMM students\, staff\, and faculty only
DESCRIPTION:
URL:https://machias.edu/event/library-open-umm-students-staff-and-faculty-only-13/
CATEGORIES:Merrill Library
END:VEVENT
BEGIN:VEVENT
DTSTART;TZID=America/New_York:20200913T140000
DTEND;TZID=America/New_York:20200913T220000
DTSTAMP:20260419T101933
CREATED:20200825T135639Z
LAST-MODIFIED:20200913T161849Z
UID:10051393-1600005600-1600034400@machias.edu
SUMMARY:Library open 2pm - 10pm. UMM students\, staff\, and faculty only
DESCRIPTION:
URL:https://machias.edu/event/library-open-umm-students-staff-and-faculty-only-14/
CATEGORIES:Merrill Library
END:VEVENT
BEGIN:VEVENT
DTSTART;TZID=America/New_York:20200914T080000
DTEND;TZID=America/New_York:20200914T220000
DTSTAMP:20260419T101933
CREATED:20200825T135639Z
LAST-MODIFIED:20200914T162514Z
UID:10051396-1600070400-1600120800@machias.edu
SUMMARY:Library open 8am - 10pm. UMM students\, staff\, and faculty only
DESCRIPTION:
URL:https://machias.edu/event/library-open-umm-students-staff-and-faculty-only-15/
CATEGORIES:Merrill Library
END:VEVENT
BEGIN:VEVENT
DTSTART;TZID=America/New_York:20200915T080000
DTEND;TZID=America/New_York:20200915T220000
DTSTAMP:20260419T101933
CREATED:20200825T135640Z
LAST-MODIFIED:20200915T163103Z
UID:10051399-1600156800-1600207200@machias.edu
SUMMARY:Library open 8am - 10pm. UMM students\, staff\, and faculty only
DESCRIPTION:
URL:https://machias.edu/event/library-open-umm-students-staff-and-faculty-only-16/
CATEGORIES:Merrill Library
END:VEVENT
END:VCALENDAR