BEGIN:VCALENDAR
VERSION:2.0
PRODID:-//University of Maine at Machias - ECPv6.15.17.1//NONSGML v1.0//EN
CALSCALE:GREGORIAN
METHOD:PUBLISH
X-WR-CALNAME:University of Maine at Machias
X-ORIGINAL-URL:https://machias.edu
X-WR-CALDESC:Events for University of Maine at Machias
REFRESH-INTERVAL;VALUE=DURATION:PT1H
X-Robots-Tag:noindex
X-PUBLISHED-TTL:PT1H
BEGIN:VTIMEZONE
TZID:America/New_York
BEGIN:DAYLIGHT
TZOFFSETFROM:-0500
TZOFFSETTO:-0400
TZNAME:EDT
DTSTART:20240310T070000
END:DAYLIGHT
BEGIN:STANDARD
TZOFFSETFROM:-0400
TZOFFSETTO:-0500
TZNAME:EST
DTSTART:20241103T060000
END:STANDARD
BEGIN:DAYLIGHT
TZOFFSETFROM:-0500
TZOFFSETTO:-0400
TZNAME:EDT
DTSTART:20250309T070000
END:DAYLIGHT
BEGIN:STANDARD
TZOFFSETFROM:-0400
TZOFFSETTO:-0500
TZNAME:EST
DTSTART:20251102T060000
END:STANDARD
BEGIN:DAYLIGHT
TZOFFSETFROM:-0500
TZOFFSETTO:-0400
TZNAME:EDT
DTSTART:20260308T070000
END:DAYLIGHT
BEGIN:STANDARD
TZOFFSETFROM:-0400
TZOFFSETTO:-0500
TZNAME:EST
DTSTART:20261101T060000
END:STANDARD
END:VTIMEZONE
BEGIN:VEVENT
DTSTART;TZID=America/New_York:20250801T080000
DTEND;TZID=America/New_York:20250801T163000
DTSTAMP:20260421T220607
CREATED:20241123T055826Z
LAST-MODIFIED:20250616T000854Z
UID:10084410-1754035200-1754065800@machias.edu
SUMMARY:Library open 8am - 4:30pm
DESCRIPTION:
URL:https://machias.edu/event/library-open-8am-430pm-363/
CATEGORIES:Merrill Library
END:VEVENT
BEGIN:VEVENT
DTSTART;VALUE=DATE:20250802
DTEND;VALUE=DATE:20250803
DTSTAMP:20260421T220607
CREATED:20241123T055826Z
LAST-MODIFIED:20250616T000854Z
UID:10084422-1754092800-1754179199@machias.edu
SUMMARY:Library closed
DESCRIPTION:
URL:https://machias.edu/event/library-closed-367/
CATEGORIES:Merrill Library
END:VEVENT
BEGIN:VEVENT
DTSTART;VALUE=DATE:20250803
DTEND;VALUE=DATE:20250804
DTSTAMP:20260421T220607
CREATED:20241123T055826Z
LAST-MODIFIED:20250616T000854Z
UID:10084416-1754179200-1754265599@machias.edu
SUMMARY:Library closed
DESCRIPTION:
URL:https://machias.edu/event/library-closed-366/
CATEGORIES:Merrill Library
END:VEVENT
BEGIN:VEVENT
DTSTART;TZID=America/New_York:20250804T080000
DTEND;TZID=America/New_York:20250804T163000
DTSTAMP:20260421T220607
CREATED:20241123T055826Z
LAST-MODIFIED:20250616T000854Z
UID:10084428-1754294400-1754325000@machias.edu
SUMMARY:Library open 8am - 4:30pm
DESCRIPTION:
URL:https://machias.edu/event/library-open-8am-430pm-364/
CATEGORIES:Merrill Library
END:VEVENT
BEGIN:VEVENT
DTSTART;TZID=America/New_York:20250805T080000
DTEND;TZID=America/New_York:20250805T163000
DTSTAMP:20260421T220607
CREATED:20241123T055826Z
LAST-MODIFIED:20250616T000854Z
UID:10084434-1754380800-1754411400@machias.edu
SUMMARY:Library open 8am - 4:30pm
DESCRIPTION:
URL:https://machias.edu/event/library-open-8am-430pm-365/
CATEGORIES:Merrill Library
END:VEVENT
BEGIN:VEVENT
DTSTART;TZID=America/New_York:20250806T080000
DTEND;TZID=America/New_York:20250806T163000
DTSTAMP:20260421T220607
CREATED:20241123T055826Z
LAST-MODIFIED:20250616T000854Z
UID:10084440-1754467200-1754497800@machias.edu
SUMMARY:Library open 8am - 4:30pm
DESCRIPTION:
URL:https://machias.edu/event/library-open-8am-430pm-366/
CATEGORIES:Merrill Library
END:VEVENT
BEGIN:VEVENT
DTSTART;TZID=America/New_York:20250807T080000
DTEND;TZID=America/New_York:20250807T163000
DTSTAMP:20260421T220607
CREATED:20241123T055827Z
LAST-MODIFIED:20250616T000854Z
UID:10084446-1754553600-1754584200@machias.edu
SUMMARY:Library open 8am - 4:30pm
DESCRIPTION:
URL:https://machias.edu/event/library-open-8am-430pm-367/
CATEGORIES:Merrill Library
END:VEVENT
BEGIN:VEVENT
DTSTART;TZID=America/New_York:20250808T080000
DTEND;TZID=America/New_York:20250808T163000
DTSTAMP:20260421T220607
CREATED:20241123T055827Z
LAST-MODIFIED:20250616T000854Z
UID:10084452-1754640000-1754670600@machias.edu
SUMMARY:Library open 8am - 4:30pm
DESCRIPTION:
URL:https://machias.edu/event/library-open-8am-430pm-368/
CATEGORIES:Merrill Library
END:VEVENT
BEGIN:VEVENT
DTSTART;VALUE=DATE:20250809
DTEND;VALUE=DATE:20250810
DTSTAMP:20260421T220607
CREATED:20241123T055827Z
LAST-MODIFIED:20250616T000854Z
UID:10084458-1754697600-1754783999@machias.edu
SUMMARY:Library closed
DESCRIPTION:
URL:https://machias.edu/event/library-closed-368/
CATEGORIES:Merrill Library
END:VEVENT
BEGIN:VEVENT
DTSTART;VALUE=DATE:20250810
DTEND;VALUE=DATE:20250811
DTSTAMP:20260421T220607
CREATED:20241123T055827Z
LAST-MODIFIED:20250616T000854Z
UID:10084464-1754784000-1754870399@machias.edu
SUMMARY:Library closed
DESCRIPTION:
URL:https://machias.edu/event/library-closed-369/
CATEGORIES:Merrill Library
END:VEVENT
BEGIN:VEVENT
DTSTART;TZID=America/New_York:20250811T080000
DTEND;TZID=America/New_York:20250811T163000
DTSTAMP:20260421T220607
CREATED:20241123T055827Z
LAST-MODIFIED:20250616T000854Z
UID:10084470-1754899200-1754929800@machias.edu
SUMMARY:Library open 8am - 4:30pm
DESCRIPTION:
URL:https://machias.edu/event/library-open-8am-430pm-369/
CATEGORIES:Merrill Library
END:VEVENT
BEGIN:VEVENT
DTSTART;TZID=America/New_York:20250812T080000
DTEND;TZID=America/New_York:20250812T163000
DTSTAMP:20260421T220607
CREATED:20241123T055827Z
LAST-MODIFIED:20250616T000854Z
UID:10084476-1754985600-1755016200@machias.edu
SUMMARY:Library open 8am - 4:30pm
DESCRIPTION:
URL:https://machias.edu/event/library-open-8am-430pm-370/
CATEGORIES:Merrill Library
END:VEVENT
BEGIN:VEVENT
DTSTART;TZID=America/New_York:20250813T080000
DTEND;TZID=America/New_York:20250813T163000
DTSTAMP:20260421T220607
CREATED:20241123T055827Z
LAST-MODIFIED:20250616T000854Z
UID:10084482-1755072000-1755102600@machias.edu
SUMMARY:Library open 8am - 4:30pm
DESCRIPTION:
URL:https://machias.edu/event/library-open-8am-430pm-371/
CATEGORIES:Merrill Library
END:VEVENT
BEGIN:VEVENT
DTSTART;TZID=America/New_York:20250814T080000
DTEND;TZID=America/New_York:20250814T163000
DTSTAMP:20260421T220607
CREATED:20241123T055827Z
LAST-MODIFIED:20250616T000854Z
UID:10084488-1755158400-1755189000@machias.edu
SUMMARY:Library open 8am - 4:30pm
DESCRIPTION:
URL:https://machias.edu/event/library-open-8am-430pm-372/
CATEGORIES:Merrill Library
END:VEVENT
BEGIN:VEVENT
DTSTART;TZID=America/New_York:20250815T080000
DTEND;TZID=America/New_York:20250815T163000
DTSTAMP:20260421T220607
CREATED:20241123T055827Z
LAST-MODIFIED:20250616T000854Z
UID:10084494-1755244800-1755275400@machias.edu
SUMMARY:Library open 8am - 4:30pm
DESCRIPTION:
URL:https://machias.edu/event/library-open-8am-430pm-373/
CATEGORIES:Merrill Library
END:VEVENT
BEGIN:VEVENT
DTSTART;VALUE=DATE:20250816
DTEND;VALUE=DATE:20250817
DTSTAMP:20260421T220607
CREATED:20241123T055828Z
LAST-MODIFIED:20250616T000854Z
UID:10084500-1755302400-1755388799@machias.edu
SUMMARY:Library closed
DESCRIPTION:
URL:https://machias.edu/event/library-closed-370/
CATEGORIES:Merrill Library
END:VEVENT
BEGIN:VEVENT
DTSTART;VALUE=DATE:20250817
DTEND;VALUE=DATE:20250818
DTSTAMP:20260421T220607
CREATED:20241123T055828Z
LAST-MODIFIED:20250616T000854Z
UID:10084506-1755388800-1755475199@machias.edu
SUMMARY:Library closed
DESCRIPTION:
URL:https://machias.edu/event/library-closed-371/
CATEGORIES:Merrill Library
END:VEVENT
BEGIN:VEVENT
DTSTART;TZID=America/New_York:20250818T080000
DTEND;TZID=America/New_York:20250818T163000
DTSTAMP:20260421T220607
CREATED:20241123T055828Z
LAST-MODIFIED:20250616T000854Z
UID:10084512-1755504000-1755534600@machias.edu
SUMMARY:Library open 8am - 4:30pm
DESCRIPTION:
URL:https://machias.edu/event/library-open-8am-430pm-374/
CATEGORIES:Merrill Library
END:VEVENT
BEGIN:VEVENT
DTSTART;TZID=America/New_York:20250819T080000
DTEND;TZID=America/New_York:20250819T163000
DTSTAMP:20260421T220607
CREATED:20241123T055828Z
LAST-MODIFIED:20250616T000854Z
UID:10084518-1755590400-1755621000@machias.edu
SUMMARY:Library open 8am - 4:30pm
DESCRIPTION:
URL:https://machias.edu/event/library-open-8am-430pm-375/
CATEGORIES:Merrill Library
END:VEVENT
BEGIN:VEVENT
DTSTART;TZID=America/New_York:20250820T080000
DTEND;TZID=America/New_York:20250820T163000
DTSTAMP:20260421T220607
CREATED:20241123T055828Z
LAST-MODIFIED:20250616T000854Z
UID:10084524-1755676800-1755707400@machias.edu
SUMMARY:Library open 8am - 4:30pm
DESCRIPTION:
URL:https://machias.edu/event/library-open-8am-430pm-376/
CATEGORIES:Merrill Library
END:VEVENT
BEGIN:VEVENT
DTSTART;TZID=America/New_York:20250821T080000
DTEND;TZID=America/New_York:20250821T163000
DTSTAMP:20260421T220607
CREATED:20241123T055828Z
LAST-MODIFIED:20250616T000855Z
UID:10084530-1755763200-1755793800@machias.edu
SUMMARY:Library open 8am - 4:30pm
DESCRIPTION:
URL:https://machias.edu/event/library-open-8am-430pm-377/
CATEGORIES:Merrill Library
END:VEVENT
BEGIN:VEVENT
DTSTART;TZID=America/New_York:20250822T080000
DTEND;TZID=America/New_York:20250822T163000
DTSTAMP:20260421T220607
CREATED:20241123T055828Z
LAST-MODIFIED:20250616T000855Z
UID:10084536-1755849600-1755880200@machias.edu
SUMMARY:Library open 8am - 4:30pm
DESCRIPTION:
URL:https://machias.edu/event/library-open-8am-430pm-378/
CATEGORIES:Merrill Library
END:VEVENT
BEGIN:VEVENT
DTSTART;VALUE=DATE:20250823
DTEND;VALUE=DATE:20250824
DTSTAMP:20260421T220607
CREATED:20241123T055828Z
LAST-MODIFIED:20250616T000855Z
UID:10084548-1755907200-1755993599@machias.edu
SUMMARY:Library closed
DESCRIPTION:
URL:https://machias.edu/event/library-closed-373/
CATEGORIES:Merrill Library
END:VEVENT
BEGIN:VEVENT
DTSTART;VALUE=DATE:20250824
DTEND;VALUE=DATE:20250825
DTSTAMP:20260421T220607
CREATED:20241123T055828Z
LAST-MODIFIED:20250616T000855Z
UID:10084542-1755993600-1756079999@machias.edu
SUMMARY:Library closed
DESCRIPTION:
URL:https://machias.edu/event/library-closed-372/
CATEGORIES:Merrill Library
END:VEVENT
BEGIN:VEVENT
DTSTART;TZID=America/New_York:20250825T080000
DTEND;TZID=America/New_York:20250825T163000
DTSTAMP:20260421T220607
CREATED:20241123T055828Z
LAST-MODIFIED:20250825T190915Z
UID:10084554-1756108800-1756139400@machias.edu
SUMMARY:Library open 8am - 4:30pm
DESCRIPTION:
URL:https://machias.edu/event/library-open-8am-430pm-379/
CATEGORIES:Merrill Library
END:VEVENT
BEGIN:VEVENT
DTSTART;TZID=America/New_York:20250826T080000
DTEND;TZID=America/New_York:20250826T163000
DTSTAMP:20260421T220607
CREATED:20241123T055828Z
LAST-MODIFIED:20250826T190917Z
UID:10084560-1756195200-1756225800@machias.edu
SUMMARY:Library open 8am - 4:30pm
DESCRIPTION:
URL:https://machias.edu/event/library-open-8am-430pm-380/
CATEGORIES:Merrill Library
END:VEVENT
BEGIN:VEVENT
DTSTART;TZID=America/New_York:20250827T080000
DTEND;TZID=America/New_York:20250827T163000
DTSTAMP:20260421T220607
CREATED:20241123T055829Z
LAST-MODIFIED:20250827T192357Z
UID:10084566-1756281600-1756312200@machias.edu
SUMMARY:Library open 8am - 4:30pm
DESCRIPTION:
URL:https://machias.edu/event/library-open-8am-430pm-381/
CATEGORIES:Merrill Library
END:VEVENT
BEGIN:VEVENT
DTSTART;TZID=America/New_York:20250828T080000
DTEND;TZID=America/New_York:20250828T163000
DTSTAMP:20260421T220607
CREATED:20241123T055829Z
LAST-MODIFIED:20250828T194026Z
UID:10084572-1756368000-1756398600@machias.edu
SUMMARY:Library open 8am - 4:30pm
DESCRIPTION:
URL:https://machias.edu/event/library-open-8am-430pm-382/
CATEGORIES:Merrill Library
END:VEVENT
BEGIN:VEVENT
DTSTART;TZID=America/New_York:20250829T080000
DTEND;TZID=America/New_York:20250829T163000
DTSTAMP:20260421T220607
CREATED:20241123T055829Z
LAST-MODIFIED:20250829T193947Z
UID:10084578-1756454400-1756485000@machias.edu
SUMMARY:Library open 8am - 4:30pm
DESCRIPTION:
URL:https://machias.edu/event/library-open-8am-430pm-383/
CATEGORIES:Merrill Library
END:VEVENT
BEGIN:VEVENT
DTSTART;VALUE=DATE:20250830
DTEND;VALUE=DATE:20250831
DTSTAMP:20260421T220607
CREATED:20241123T055829Z
LAST-MODIFIED:20250830T193926Z
UID:10084590-1756512000-1756598399@machias.edu
SUMMARY:Library closed
DESCRIPTION:
URL:https://machias.edu/event/library-closed-375/
CATEGORIES:Merrill Library
END:VEVENT
END:VCALENDAR