BEGIN:VCALENDAR
VERSION:2.0
PRODID:-//University of Maine at Machias - ECPv6.15.17.1//NONSGML v1.0//EN
CALSCALE:GREGORIAN
METHOD:PUBLISH
X-WR-CALNAME:University of Maine at Machias
X-ORIGINAL-URL:https://machias.edu
X-WR-CALDESC:Events for University of Maine at Machias
REFRESH-INTERVAL;VALUE=DURATION:PT1H
X-Robots-Tag:noindex
X-PUBLISHED-TTL:PT1H
BEGIN:VTIMEZONE
TZID:America/New_York
BEGIN:DAYLIGHT
TZOFFSETFROM:-0500
TZOFFSETTO:-0400
TZNAME:EDT
DTSTART:20240310T070000
END:DAYLIGHT
BEGIN:STANDARD
TZOFFSETFROM:-0400
TZOFFSETTO:-0500
TZNAME:EST
DTSTART:20241103T060000
END:STANDARD
BEGIN:DAYLIGHT
TZOFFSETFROM:-0500
TZOFFSETTO:-0400
TZNAME:EDT
DTSTART:20250309T070000
END:DAYLIGHT
BEGIN:STANDARD
TZOFFSETFROM:-0400
TZOFFSETTO:-0500
TZNAME:EST
DTSTART:20251102T060000
END:STANDARD
BEGIN:DAYLIGHT
TZOFFSETFROM:-0500
TZOFFSETTO:-0400
TZNAME:EDT
DTSTART:20260308T070000
END:DAYLIGHT
BEGIN:STANDARD
TZOFFSETFROM:-0400
TZOFFSETTO:-0500
TZNAME:EST
DTSTART:20261101T060000
END:STANDARD
END:VTIMEZONE
BEGIN:VEVENT
DTSTART;TZID=America/New_York:20250701T080000
DTEND;TZID=America/New_York:20250701T163000
DTSTAMP:20260422T205008
CREATED:20241123T055823Z
LAST-MODIFIED:20250616T000852Z
UID:10084695-1751356800-1751387400@machias.edu
SUMMARY:Library open 8am - 4:30pm
DESCRIPTION:
URL:https://machias.edu/event/library-open-8am-430pm-341/
CATEGORIES:Merrill Library
END:VEVENT
BEGIN:VEVENT
DTSTART;TZID=America/New_York:20250702T080000
DTEND;TZID=America/New_York:20250702T163000
DTSTAMP:20260422T205008
CREATED:20241123T055823Z
LAST-MODIFIED:20250616T000852Z
UID:10084698-1751443200-1751473800@machias.edu
SUMMARY:Library open 8am - 4:30pm
DESCRIPTION:
URL:https://machias.edu/event/library-open-8am-430pm-342/
CATEGORIES:Merrill Library
END:VEVENT
BEGIN:VEVENT
DTSTART;TZID=America/New_York:20250703T080000
DTEND;TZID=America/New_York:20250703T163000
DTSTAMP:20260422T205008
CREATED:20241123T055823Z
LAST-MODIFIED:20250616T000852Z
UID:10084701-1751529600-1751560200@machias.edu
SUMMARY:Library open 8am - 4:30pm
DESCRIPTION:
URL:https://machias.edu/event/library-open-8am-430pm-343/
CATEGORIES:Merrill Library
END:VEVENT
BEGIN:VEVENT
DTSTART;VALUE=DATE:20250704
DTEND;VALUE=DATE:20250705
DTSTAMP:20260422T205008
CREATED:20241123T055823Z
LAST-MODIFIED:20250616T000852Z
UID:10084704-1751587200-1751673599@machias.edu
SUMMARY:Library closed
DESCRIPTION:
URL:https://machias.edu/event/library-closed-357/
CATEGORIES:Merrill Library
END:VEVENT
BEGIN:VEVENT
DTSTART;VALUE=DATE:20250705
DTEND;VALUE=DATE:20250706
DTSTAMP:20260422T205008
CREATED:20241123T055823Z
LAST-MODIFIED:20250616T000853Z
UID:10084707-1751673600-1751759999@machias.edu
SUMMARY:Library closed
DESCRIPTION:
URL:https://machias.edu/event/library-closed-358/
CATEGORIES:Merrill Library
END:VEVENT
BEGIN:VEVENT
DTSTART;VALUE=DATE:20250706
DTEND;VALUE=DATE:20250707
DTSTAMP:20260422T205008
CREATED:20241123T055823Z
LAST-MODIFIED:20250616T000852Z
UID:10084710-1751760000-1751846399@machias.edu
SUMMARY:Library closed
DESCRIPTION:
URL:https://machias.edu/event/library-closed-359/
CATEGORIES:Merrill Library
END:VEVENT
BEGIN:VEVENT
DTSTART;TZID=America/New_York:20250707T080000
DTEND;TZID=America/New_York:20250707T163000
DTSTAMP:20260422T205008
CREATED:20241123T055824Z
LAST-MODIFIED:20250616T000853Z
UID:10084713-1751875200-1751905800@machias.edu
SUMMARY:Library open 8am - 4:30pm
DESCRIPTION:
URL:https://machias.edu/event/library-open-8am-430pm-344/
CATEGORIES:Merrill Library
END:VEVENT
BEGIN:VEVENT
DTSTART;TZID=America/New_York:20250708T080000
DTEND;TZID=America/New_York:20250708T163000
DTSTAMP:20260422T205008
CREATED:20241123T055824Z
LAST-MODIFIED:20250616T000853Z
UID:10084716-1751961600-1751992200@machias.edu
SUMMARY:Library open 8am - 4:30pm
DESCRIPTION:
URL:https://machias.edu/event/library-open-8am-430pm-345/
CATEGORIES:Merrill Library
END:VEVENT
BEGIN:VEVENT
DTSTART;TZID=America/New_York:20250709T080000
DTEND;TZID=America/New_York:20250709T163000
DTSTAMP:20260422T205008
CREATED:20241123T055824Z
LAST-MODIFIED:20250616T000853Z
UID:10084719-1752048000-1752078600@machias.edu
SUMMARY:Library open 8am - 4:30pm
DESCRIPTION:
URL:https://machias.edu/event/library-open-8am-430pm-346/
CATEGORIES:Merrill Library
END:VEVENT
BEGIN:VEVENT
DTSTART;TZID=America/New_York:20250710T080000
DTEND;TZID=America/New_York:20250710T163000
DTSTAMP:20260422T205008
CREATED:20241123T055824Z
LAST-MODIFIED:20250616T000853Z
UID:10084722-1752134400-1752165000@machias.edu
SUMMARY:Library open 8am - 4:30pm
DESCRIPTION:
URL:https://machias.edu/event/library-open-8am-430pm-347/
CATEGORIES:Merrill Library
END:VEVENT
BEGIN:VEVENT
DTSTART;TZID=America/New_York:20250711T080000
DTEND;TZID=America/New_York:20250711T163000
DTSTAMP:20260422T205008
CREATED:20241123T055824Z
LAST-MODIFIED:20250616T000853Z
UID:10084725-1752220800-1752251400@machias.edu
SUMMARY:Library open 8am - 4:30pm
DESCRIPTION:
URL:https://machias.edu/event/library-open-8am-430pm-348/
CATEGORIES:Merrill Library
END:VEVENT
BEGIN:VEVENT
DTSTART;VALUE=DATE:20250712
DTEND;VALUE=DATE:20250713
DTSTAMP:20260422T205008
CREATED:20241123T055824Z
LAST-MODIFIED:20250616T000853Z
UID:10084728-1752278400-1752364799@machias.edu
SUMMARY:Library closed
DESCRIPTION:
URL:https://machias.edu/event/library-closed-360/
CATEGORIES:Merrill Library
END:VEVENT
BEGIN:VEVENT
DTSTART;VALUE=DATE:20250713
DTEND;VALUE=DATE:20250714
DTSTAMP:20260422T205008
CREATED:20241123T055824Z
LAST-MODIFIED:20250616T000853Z
UID:10084731-1752364800-1752451199@machias.edu
SUMMARY:Library closed
DESCRIPTION:
URL:https://machias.edu/event/library-closed-361/
CATEGORIES:Merrill Library
END:VEVENT
BEGIN:VEVENT
DTSTART;TZID=America/New_York:20250714T080000
DTEND;TZID=America/New_York:20250714T163000
DTSTAMP:20260422T205008
CREATED:20241123T055824Z
LAST-MODIFIED:20250616T000853Z
UID:10084734-1752480000-1752510600@machias.edu
SUMMARY:Library open 8am - 4:30pm
DESCRIPTION:
URL:https://machias.edu/event/library-open-8am-430pm-349/
CATEGORIES:Merrill Library
END:VEVENT
BEGIN:VEVENT
DTSTART;TZID=America/New_York:20250715T080000
DTEND;TZID=America/New_York:20250715T163000
DTSTAMP:20260422T205008
CREATED:20241123T055824Z
LAST-MODIFIED:20250616T000853Z
UID:10084737-1752566400-1752597000@machias.edu
SUMMARY:Library open 8am - 4:30pm
DESCRIPTION:
URL:https://machias.edu/event/library-open-8am-430pm-350/
CATEGORIES:Merrill Library
END:VEVENT
BEGIN:VEVENT
DTSTART;TZID=America/New_York:20250716T080000
DTEND;TZID=America/New_York:20250716T163000
DTSTAMP:20260422T205008
CREATED:20241123T055824Z
LAST-MODIFIED:20250616T000853Z
UID:10084740-1752652800-1752683400@machias.edu
SUMMARY:Library open 8am - 4:30pm
DESCRIPTION:
URL:https://machias.edu/event/library-open-8am-430pm-351/
CATEGORIES:Merrill Library
END:VEVENT
BEGIN:VEVENT
DTSTART;TZID=America/New_York:20250717T080000
DTEND;TZID=America/New_York:20250717T163000
DTSTAMP:20260422T205008
CREATED:20241123T055824Z
LAST-MODIFIED:20250616T000853Z
UID:10084743-1752739200-1752769800@machias.edu
SUMMARY:Library open 8am - 4:30pm
DESCRIPTION:
URL:https://machias.edu/event/library-open-8am-430pm-352/
CATEGORIES:Merrill Library
END:VEVENT
BEGIN:VEVENT
DTSTART;TZID=America/New_York:20250718T080000
DTEND;TZID=America/New_York:20250718T163000
DTSTAMP:20260422T205008
CREATED:20241123T055825Z
LAST-MODIFIED:20250616T000853Z
UID:10084326-1752825600-1752856200@machias.edu
SUMMARY:Library open 8am - 4:30pm
DESCRIPTION:
URL:https://machias.edu/event/library-open-8am-430pm-353/
CATEGORIES:Merrill Library
END:VEVENT
BEGIN:VEVENT
DTSTART;VALUE=DATE:20250719
DTEND;VALUE=DATE:20250720
DTSTAMP:20260422T205008
CREATED:20241123T055825Z
LAST-MODIFIED:20250616T000853Z
UID:10084332-1752883200-1752969599@machias.edu
SUMMARY:Library closed
DESCRIPTION:
URL:https://machias.edu/event/library-closed-362/
CATEGORIES:Merrill Library
END:VEVENT
BEGIN:VEVENT
DTSTART;VALUE=DATE:20250720
DTEND;VALUE=DATE:20250721
DTSTAMP:20260422T205008
CREATED:20241123T055825Z
LAST-MODIFIED:20250616T000853Z
UID:10084338-1752969600-1753055999@machias.edu
SUMMARY:Library closed
DESCRIPTION:
URL:https://machias.edu/event/library-closed-363/
CATEGORIES:Merrill Library
END:VEVENT
BEGIN:VEVENT
DTSTART;TZID=America/New_York:20250721T080000
DTEND;TZID=America/New_York:20250721T163000
DTSTAMP:20260422T205008
CREATED:20241123T055825Z
LAST-MODIFIED:20250616T000853Z
UID:10084344-1753084800-1753115400@machias.edu
SUMMARY:Library open 8am - 4:30pm
DESCRIPTION:
URL:https://machias.edu/event/library-open-8am-430pm-354/
CATEGORIES:Merrill Library
END:VEVENT
BEGIN:VEVENT
DTSTART;TZID=America/New_York:20250722T080000
DTEND;TZID=America/New_York:20250722T163000
DTSTAMP:20260422T205008
CREATED:20241123T055825Z
LAST-MODIFIED:20250616T000853Z
UID:10084350-1753171200-1753201800@machias.edu
SUMMARY:Library open 8am - 4:30pm
DESCRIPTION:
URL:https://machias.edu/event/library-open-8am-430pm-355/
CATEGORIES:Merrill Library
END:VEVENT
BEGIN:VEVENT
DTSTART;TZID=America/New_York:20250723T080000
DTEND;TZID=America/New_York:20250723T163000
DTSTAMP:20260422T205008
CREATED:20241123T055825Z
LAST-MODIFIED:20250616T000853Z
UID:10084356-1753257600-1753288200@machias.edu
SUMMARY:Library open 8am - 4:30pm
DESCRIPTION:
URL:https://machias.edu/event/library-open-8am-430pm-356/
CATEGORIES:Merrill Library
END:VEVENT
BEGIN:VEVENT
DTSTART;TZID=America/New_York:20250724T080000
DTEND;TZID=America/New_York:20250724T163000
DTSTAMP:20260422T205008
CREATED:20241123T055825Z
LAST-MODIFIED:20250616T000853Z
UID:10084362-1753344000-1753374600@machias.edu
SUMMARY:Library open 8am - 4:30pm
DESCRIPTION:
URL:https://machias.edu/event/library-open-8am-430pm-357/
CATEGORIES:Merrill Library
END:VEVENT
BEGIN:VEVENT
DTSTART;TZID=America/New_York:20250725T080000
DTEND;TZID=America/New_York:20250725T163000
DTSTAMP:20260422T205008
CREATED:20241123T055825Z
LAST-MODIFIED:20250616T000853Z
UID:10084368-1753430400-1753461000@machias.edu
SUMMARY:Library open 8am - 4:30pm
DESCRIPTION:
URL:https://machias.edu/event/library-open-8am-430pm-358/
CATEGORIES:Merrill Library
END:VEVENT
BEGIN:VEVENT
DTSTART;VALUE=DATE:20250726
DTEND;VALUE=DATE:20250727
DTSTAMP:20260422T205008
CREATED:20241123T055826Z
LAST-MODIFIED:20250616T000853Z
UID:10084380-1753488000-1753574399@machias.edu
SUMMARY:Library closed
DESCRIPTION:
URL:https://machias.edu/event/library-closed-365/
CATEGORIES:Merrill Library
END:VEVENT
BEGIN:VEVENT
DTSTART;VALUE=DATE:20250727
DTEND;VALUE=DATE:20250728
DTSTAMP:20260422T205008
CREATED:20241123T055825Z
LAST-MODIFIED:20250616T000853Z
UID:10084374-1753574400-1753660799@machias.edu
SUMMARY:Library closed
DESCRIPTION:
URL:https://machias.edu/event/library-closed-364/
CATEGORIES:Merrill Library
END:VEVENT
BEGIN:VEVENT
DTSTART;TZID=America/New_York:20250728T080000
DTEND;TZID=America/New_York:20250728T163000
DTSTAMP:20260422T205008
CREATED:20241123T055826Z
LAST-MODIFIED:20250616T000853Z
UID:10084386-1753689600-1753720200@machias.edu
SUMMARY:Library open 8am - 4:30pm
DESCRIPTION:
URL:https://machias.edu/event/library-open-8am-430pm-359/
CATEGORIES:Merrill Library
END:VEVENT
BEGIN:VEVENT
DTSTART;TZID=America/New_York:20250729T080000
DTEND;TZID=America/New_York:20250729T163000
DTSTAMP:20260422T205008
CREATED:20241123T055826Z
LAST-MODIFIED:20250616T000854Z
UID:10084392-1753776000-1753806600@machias.edu
SUMMARY:Library open 8am - 4:30pm
DESCRIPTION:
URL:https://machias.edu/event/library-open-8am-430pm-360/
CATEGORIES:Merrill Library
END:VEVENT
BEGIN:VEVENT
DTSTART;TZID=America/New_York:20250730T080000
DTEND;TZID=America/New_York:20250730T163000
DTSTAMP:20260422T205008
CREATED:20241123T055826Z
LAST-MODIFIED:20250616T000854Z
UID:10084398-1753862400-1753893000@machias.edu
SUMMARY:Library open 8am - 4:30pm
DESCRIPTION:
URL:https://machias.edu/event/library-open-8am-430pm-361/
CATEGORIES:Merrill Library
END:VEVENT
END:VCALENDAR