BEGIN:VCALENDAR
VERSION:2.0
PRODID:-//University of Maine at Machias - ECPv6.15.17.1//NONSGML v1.0//EN
CALSCALE:GREGORIAN
METHOD:PUBLISH
X-WR-CALNAME:University of Maine at Machias
X-ORIGINAL-URL:https://machias.edu
X-WR-CALDESC:Events for University of Maine at Machias
REFRESH-INTERVAL;VALUE=DURATION:PT1H
X-Robots-Tag:noindex
X-PUBLISHED-TTL:PT1H
BEGIN:VTIMEZONE
TZID:America/New_York
BEGIN:DAYLIGHT
TZOFFSETFROM:-0500
TZOFFSETTO:-0400
TZNAME:EDT
DTSTART:20230312T070000
END:DAYLIGHT
BEGIN:STANDARD
TZOFFSETFROM:-0400
TZOFFSETTO:-0500
TZNAME:EST
DTSTART:20231105T060000
END:STANDARD
BEGIN:DAYLIGHT
TZOFFSETFROM:-0500
TZOFFSETTO:-0400
TZNAME:EDT
DTSTART:20240310T070000
END:DAYLIGHT
BEGIN:STANDARD
TZOFFSETFROM:-0400
TZOFFSETTO:-0500
TZNAME:EST
DTSTART:20241103T060000
END:STANDARD
BEGIN:DAYLIGHT
TZOFFSETFROM:-0500
TZOFFSETTO:-0400
TZNAME:EDT
DTSTART:20250309T070000
END:DAYLIGHT
BEGIN:STANDARD
TZOFFSETFROM:-0400
TZOFFSETTO:-0500
TZNAME:EST
DTSTART:20251102T060000
END:STANDARD
END:VTIMEZONE
BEGIN:VTIMEZONE
TZID:UTC
BEGIN:STANDARD
TZOFFSETFROM:+0000
TZOFFSETTO:+0000
TZNAME:UTC
DTSTART:20230101T000000
END:STANDARD
END:VTIMEZONE
BEGIN:VEVENT
DTSTART;VALUE=DATE:20241013
DTEND;VALUE=DATE:20241014
DTSTAMP:20260423T015933
CREATED:20241007T161342Z
LAST-MODIFIED:20241007T161424Z
UID:10083222-1728777600-1728863999@machias.edu
SUMMARY:Reynolds/Fitness Center Closed
DESCRIPTION:
URL:https://machias.edu/event/reynolds-fitness-center-closed/2024-10-13/
CATEGORIES:Fitness Center hours
END:VEVENT
BEGIN:VEVENT
DTSTART;VALUE=DATE:20241014
DTEND;VALUE=DATE:20241015
DTSTAMP:20260423T015933
CREATED:20210416T141508Z
LAST-MODIFIED:20250307T185055Z
UID:10053584-1728864000-1728950399@machias.edu
SUMMARY:Fitness Center open 6 a.m.–7 p.m.
DESCRIPTION:Facility Hours & Events
URL:https://machias.edu/event/6-a-m-7-p-m-2022-07-01/2024-10-14/
CATEGORIES:Fitness Center hours
END:VEVENT
BEGIN:VEVENT
DTSTART;VALUE=DATE:20241015
DTEND;VALUE=DATE:20241016
DTSTAMP:20260423T015933
CREATED:20210416T141508Z
LAST-MODIFIED:20250307T185055Z
UID:10053587-1728950400-1729036799@machias.edu
SUMMARY:Fitness Center open 6 a.m.–7 p.m.
DESCRIPTION:Facility Hours & Events
URL:https://machias.edu/event/6-a-m-7-p-m-2022-07-01/2024-10-15/
CATEGORIES:Fitness Center hours
END:VEVENT
BEGIN:VEVENT
DTSTART;VALUE=DATE:20241016
DTEND;VALUE=DATE:20241017
DTSTAMP:20260423T015933
CREATED:20210416T141508Z
LAST-MODIFIED:20250307T185055Z
UID:10053590-1729036800-1729123199@machias.edu
SUMMARY:Fitness Center open 6 a.m.–7 p.m.
DESCRIPTION:Facility Hours & Events
URL:https://machias.edu/event/6-a-m-7-p-m-2022-07-01/2024-10-16/
CATEGORIES:Fitness Center hours
END:VEVENT
BEGIN:VEVENT
DTSTART;VALUE=DATE:20241017
DTEND;VALUE=DATE:20241018
DTSTAMP:20260423T015933
CREATED:20210416T141508Z
LAST-MODIFIED:20250307T185055Z
UID:10053593-1729123200-1729209599@machias.edu
SUMMARY:Fitness Center open 6 a.m.–7 p.m.
DESCRIPTION:Facility Hours & Events
URL:https://machias.edu/event/6-a-m-7-p-m-2022-07-01/2024-10-17/
CATEGORIES:Fitness Center hours
END:VEVENT
BEGIN:VEVENT
DTSTART;VALUE=DATE:20241018
DTEND;VALUE=DATE:20241019
DTSTAMP:20260423T015933
CREATED:20210416T141508Z
LAST-MODIFIED:20250307T185055Z
UID:10053596-1729209600-1729295999@machias.edu
SUMMARY:Fitness Center open 6 a.m.–7 p.m.
DESCRIPTION:Facility Hours & Events
URL:https://machias.edu/event/6-a-m-7-p-m-2022-07-01/2024-10-18/
CATEGORIES:Fitness Center hours
END:VEVENT
BEGIN:VEVENT
DTSTART;VALUE=DATE:20241019
DTEND;VALUE=DATE:20241020
DTSTAMP:20260423T015933
CREATED:20241007T155019Z
LAST-MODIFIED:20241007T160708Z
UID:10082442-1729296000-1729382399@machias.edu
SUMMARY:Reynolds/Fitness Center Open 9am-3pm
DESCRIPTION:
URL:https://machias.edu/event/reynolds-fitness-center-open-9am-3pm-2/2024-10-19/
CATEGORIES:Fitness Center hours
END:VEVENT
END:VCALENDAR