BEGIN:VCALENDAR
VERSION:2.0
PRODID:-//University of Maine at Machias - ECPv6.15.17.1//NONSGML v1.0//EN
CALSCALE:GREGORIAN
METHOD:PUBLISH
X-ORIGINAL-URL:https://machias.edu
X-WR-CALDESC:Events for University of Maine at Machias
REFRESH-INTERVAL;VALUE=DURATION:PT1H
X-Robots-Tag:noindex
X-PUBLISHED-TTL:PT1H
BEGIN:VTIMEZONE
TZID:UTC
BEGIN:STANDARD
TZOFFSETFROM:+0000
TZOFFSETTO:+0000
TZNAME:UTC
DTSTART:20240101T000000
END:STANDARD
END:VTIMEZONE
BEGIN:VTIMEZONE
TZID:America/New_York
BEGIN:DAYLIGHT
TZOFFSETFROM:-0500
TZOFFSETTO:-0400
TZNAME:EDT
DTSTART:20240310T070000
END:DAYLIGHT
BEGIN:STANDARD
TZOFFSETFROM:-0400
TZOFFSETTO:-0500
TZNAME:EST
DTSTART:20241103T060000
END:STANDARD
BEGIN:DAYLIGHT
TZOFFSETFROM:-0500
TZOFFSETTO:-0400
TZNAME:EDT
DTSTART:20250309T070000
END:DAYLIGHT
BEGIN:STANDARD
TZOFFSETFROM:-0400
TZOFFSETTO:-0500
TZNAME:EST
DTSTART:20251102T060000
END:STANDARD
BEGIN:DAYLIGHT
TZOFFSETFROM:-0500
TZOFFSETTO:-0400
TZNAME:EDT
DTSTART:20260308T070000
END:DAYLIGHT
BEGIN:STANDARD
TZOFFSETFROM:-0400
TZOFFSETTO:-0500
TZNAME:EST
DTSTART:20261101T060000
END:STANDARD
END:VTIMEZONE
BEGIN:VEVENT
DTSTART;VALUE=DATE:20250111
DTEND;VALUE=DATE:20250112
DTSTAMP:20260421T015705
CREATED:20241007T155019Z
LAST-MODIFIED:20241007T160708Z
UID:10082478-1736553600-1736639999@machias.edu
SUMMARY:Reynolds/Fitness Center Open 9am-3pm
DESCRIPTION:
URL:https://machias.edu/event/reynolds-fitness-center-open-9am-3pm-2/2025-01-11/
CATEGORIES:Fitness Center hours
END:VEVENT
BEGIN:VEVENT
DTSTART;VALUE=DATE:20250112
DTEND;VALUE=DATE:20250113
DTSTAMP:20260421T015705
CREATED:20241007T161342Z
LAST-MODIFIED:20241007T161424Z
UID:10083261-1736640000-1736726399@machias.edu
SUMMARY:Reynolds/Fitness Center Closed
DESCRIPTION:
URL:https://machias.edu/event/reynolds-fitness-center-closed/2025-01-12/
CATEGORIES:Fitness Center hours
END:VEVENT
BEGIN:VEVENT
DTSTART;VALUE=DATE:20250113
DTEND;VALUE=DATE:20250114
DTSTAMP:20260421T015705
CREATED:20210416T141508Z
LAST-MODIFIED:20250307T185055Z
UID:10053779-1736726400-1736812799@machias.edu
SUMMARY:Fitness Center open 6 a.m.–7 p.m.
DESCRIPTION:Facility Hours & Events
URL:https://machias.edu/event/6-a-m-7-p-m-2022-07-01/2025-01-13/
CATEGORIES:Fitness Center hours
END:VEVENT
BEGIN:VEVENT
DTSTART;VALUE=DATE:20250114
DTEND;VALUE=DATE:20250115
DTSTAMP:20260421T015705
CREATED:20210416T141508Z
LAST-MODIFIED:20250307T185055Z
UID:10053782-1736812800-1736899199@machias.edu
SUMMARY:Fitness Center open 6 a.m.–7 p.m.
DESCRIPTION:Facility Hours & Events
URL:https://machias.edu/event/6-a-m-7-p-m-2022-07-01/2025-01-14/
CATEGORIES:Fitness Center hours
END:VEVENT
BEGIN:VEVENT
DTSTART;VALUE=DATE:20250115
DTEND;VALUE=DATE:20250116
DTSTAMP:20260421T015705
CREATED:20210416T141508Z
LAST-MODIFIED:20250307T185055Z
UID:10053785-1736899200-1736985599@machias.edu
SUMMARY:Fitness Center open 6 a.m.–7 p.m.
DESCRIPTION:Facility Hours & Events
URL:https://machias.edu/event/6-a-m-7-p-m-2022-07-01/2025-01-15/
CATEGORIES:Fitness Center hours
END:VEVENT
BEGIN:VEVENT
DTSTART;VALUE=DATE:20250116
DTEND;VALUE=DATE:20250117
DTSTAMP:20260421T015705
CREATED:20210416T141508Z
LAST-MODIFIED:20250307T185055Z
UID:10053788-1736985600-1737071999@machias.edu
SUMMARY:Fitness Center open 6 a.m.–7 p.m.
DESCRIPTION:Facility Hours & Events
URL:https://machias.edu/event/6-a-m-7-p-m-2022-07-01/2025-01-16/
CATEGORIES:Fitness Center hours
END:VEVENT
BEGIN:VEVENT
DTSTART;VALUE=DATE:20250117
DTEND;VALUE=DATE:20250118
DTSTAMP:20260421T015705
CREATED:20210416T141508Z
LAST-MODIFIED:20250307T185055Z
UID:10053791-1737072000-1737158399@machias.edu
SUMMARY:Fitness Center open 6 a.m.–7 p.m.
DESCRIPTION:Facility Hours & Events
URL:https://machias.edu/event/6-a-m-7-p-m-2022-07-01/2025-01-17/
CATEGORIES:Fitness Center hours
END:VEVENT
BEGIN:VEVENT
DTSTART;VALUE=DATE:20250118
DTEND;VALUE=DATE:20250119
DTSTAMP:20260421T015705
CREATED:20241007T155019Z
LAST-MODIFIED:20241007T160708Z
UID:10082481-1737158400-1737244799@machias.edu
SUMMARY:Reynolds/Fitness Center Open 9am-3pm
DESCRIPTION:
URL:https://machias.edu/event/reynolds-fitness-center-open-9am-3pm-2/2025-01-18/
CATEGORIES:Fitness Center hours
END:VEVENT
BEGIN:VEVENT
DTSTART;VALUE=DATE:20250119
DTEND;VALUE=DATE:20250120
DTSTAMP:20260421T015705
CREATED:20241007T161342Z
LAST-MODIFIED:20241007T161424Z
UID:10083264-1737244800-1737331199@machias.edu
SUMMARY:Reynolds/Fitness Center Closed
DESCRIPTION:
URL:https://machias.edu/event/reynolds-fitness-center-closed/2025-01-19/
CATEGORIES:Fitness Center hours
END:VEVENT
BEGIN:VEVENT
DTSTART;VALUE=DATE:20250120
DTEND;VALUE=DATE:20250121
DTSTAMP:20260421T015705
CREATED:20210416T141508Z
LAST-MODIFIED:20250307T185055Z
UID:10053794-1737331200-1737417599@machias.edu
SUMMARY:Fitness Center open 6 a.m.–7 p.m.
DESCRIPTION:Facility Hours & Events
URL:https://machias.edu/event/6-a-m-7-p-m-2022-07-01/2025-01-20/
CATEGORIES:Fitness Center hours
END:VEVENT
BEGIN:VEVENT
DTSTART;VALUE=DATE:20250121
DTEND;VALUE=DATE:20250122
DTSTAMP:20260421T015705
CREATED:20210416T141508Z
LAST-MODIFIED:20250307T185055Z
UID:10053797-1737417600-1737503999@machias.edu
SUMMARY:Fitness Center open 6 a.m.–7 p.m.
DESCRIPTION:Facility Hours & Events
URL:https://machias.edu/event/6-a-m-7-p-m-2022-07-01/2025-01-21/
CATEGORIES:Fitness Center hours
END:VEVENT
BEGIN:VEVENT
DTSTART;VALUE=DATE:20250122
DTEND;VALUE=DATE:20250123
DTSTAMP:20260421T015705
CREATED:20210416T141508Z
LAST-MODIFIED:20250307T185055Z
UID:10053800-1737504000-1737590399@machias.edu
SUMMARY:Fitness Center open 6 a.m.–7 p.m.
DESCRIPTION:Facility Hours & Events
URL:https://machias.edu/event/6-a-m-7-p-m-2022-07-01/2025-01-22/
CATEGORIES:Fitness Center hours
END:VEVENT
BEGIN:VEVENT
DTSTART;VALUE=DATE:20250123
DTEND;VALUE=DATE:20250124
DTSTAMP:20260421T015705
CREATED:20210416T141508Z
LAST-MODIFIED:20250307T185055Z
UID:10053803-1737590400-1737676799@machias.edu
SUMMARY:Fitness Center open 6 a.m.–7 p.m.
DESCRIPTION:Facility Hours & Events
URL:https://machias.edu/event/6-a-m-7-p-m-2022-07-01/2025-01-23/
CATEGORIES:Fitness Center hours
END:VEVENT
BEGIN:VEVENT
DTSTART;VALUE=DATE:20250124
DTEND;VALUE=DATE:20250125
DTSTAMP:20260421T015705
CREATED:20210416T141508Z
LAST-MODIFIED:20250307T185055Z
UID:10053806-1737676800-1737763199@machias.edu
SUMMARY:Fitness Center open 6 a.m.–7 p.m.
DESCRIPTION:Facility Hours & Events
URL:https://machias.edu/event/6-a-m-7-p-m-2022-07-01/2025-01-24/
CATEGORIES:Fitness Center hours
END:VEVENT
BEGIN:VEVENT
DTSTART;VALUE=DATE:20250125
DTEND;VALUE=DATE:20250126
DTSTAMP:20260421T015705
CREATED:20241007T155019Z
LAST-MODIFIED:20241007T160708Z
UID:10082484-1737763200-1737849599@machias.edu
SUMMARY:Reynolds/Fitness Center Open 9am-3pm
DESCRIPTION:
URL:https://machias.edu/event/reynolds-fitness-center-open-9am-3pm-2/2025-01-25/
CATEGORIES:Fitness Center hours
END:VEVENT
BEGIN:VEVENT
DTSTART;VALUE=DATE:20250126
DTEND;VALUE=DATE:20250127
DTSTAMP:20260421T015705
CREATED:20241007T161342Z
LAST-MODIFIED:20241007T161424Z
UID:10083267-1737849600-1737935999@machias.edu
SUMMARY:Reynolds/Fitness Center Closed
DESCRIPTION:
URL:https://machias.edu/event/reynolds-fitness-center-closed/2025-01-26/
CATEGORIES:Fitness Center hours
END:VEVENT
BEGIN:VEVENT
DTSTART;VALUE=DATE:20250127
DTEND;VALUE=DATE:20250128
DTSTAMP:20260421T015705
CREATED:20210416T141508Z
LAST-MODIFIED:20250307T185055Z
UID:10053809-1737936000-1738022399@machias.edu
SUMMARY:Fitness Center open 6 a.m.–7 p.m.
DESCRIPTION:Facility Hours & Events
URL:https://machias.edu/event/6-a-m-7-p-m-2022-07-01/2025-01-27/
CATEGORIES:Fitness Center hours
END:VEVENT
BEGIN:VEVENT
DTSTART;VALUE=DATE:20250128
DTEND;VALUE=DATE:20250129
DTSTAMP:20260421T015705
CREATED:20210416T141508Z
LAST-MODIFIED:20250307T185055Z
UID:10053812-1738022400-1738108799@machias.edu
SUMMARY:Fitness Center open 6 a.m.–7 p.m.
DESCRIPTION:Facility Hours & Events
URL:https://machias.edu/event/6-a-m-7-p-m-2022-07-01/2025-01-28/
CATEGORIES:Fitness Center hours
END:VEVENT
BEGIN:VEVENT
DTSTART;VALUE=DATE:20250129
DTEND;VALUE=DATE:20250130
DTSTAMP:20260421T015705
CREATED:20210416T141508Z
LAST-MODIFIED:20250307T185055Z
UID:10053815-1738108800-1738195199@machias.edu
SUMMARY:Fitness Center open 6 a.m.–7 p.m.
DESCRIPTION:Facility Hours & Events
URL:https://machias.edu/event/6-a-m-7-p-m-2022-07-01/2025-01-29/
CATEGORIES:Fitness Center hours
END:VEVENT
BEGIN:VEVENT
DTSTART;VALUE=DATE:20250130
DTEND;VALUE=DATE:20250131
DTSTAMP:20260421T015705
CREATED:20210416T141508Z
LAST-MODIFIED:20250307T185055Z
UID:10053818-1738195200-1738281599@machias.edu
SUMMARY:Fitness Center open 6 a.m.–7 p.m.
DESCRIPTION:Facility Hours & Events
URL:https://machias.edu/event/6-a-m-7-p-m-2022-07-01/2025-01-30/
CATEGORIES:Fitness Center hours
END:VEVENT
BEGIN:VEVENT
DTSTART;VALUE=DATE:20250131
DTEND;VALUE=DATE:20250201
DTSTAMP:20260421T015705
CREATED:20210416T141508Z
LAST-MODIFIED:20250307T185055Z
UID:10053821-1738281600-1738367999@machias.edu
SUMMARY:Fitness Center open 6 a.m.–7 p.m.
DESCRIPTION:Facility Hours & Events
URL:https://machias.edu/event/6-a-m-7-p-m-2022-07-01/2025-01-31/
CATEGORIES:Fitness Center hours
END:VEVENT
BEGIN:VEVENT
DTSTART;VALUE=DATE:20250201
DTEND;VALUE=DATE:20250202
DTSTAMP:20260421T015705
CREATED:20241007T155019Z
LAST-MODIFIED:20241007T160708Z
UID:10082487-1738368000-1738454399@machias.edu
SUMMARY:Reynolds/Fitness Center Open 9am-3pm
DESCRIPTION:
URL:https://machias.edu/event/reynolds-fitness-center-open-9am-3pm-2/2025-02-01/
CATEGORIES:Fitness Center hours
END:VEVENT
BEGIN:VEVENT
DTSTART;VALUE=DATE:20250202
DTEND;VALUE=DATE:20250203
DTSTAMP:20260421T015705
CREATED:20241007T161342Z
LAST-MODIFIED:20241007T161424Z
UID:10083270-1738454400-1738540799@machias.edu
SUMMARY:Reynolds/Fitness Center Closed
DESCRIPTION:
URL:https://machias.edu/event/reynolds-fitness-center-closed/2025-02-02/
CATEGORIES:Fitness Center hours
END:VEVENT
BEGIN:VEVENT
DTSTART;VALUE=DATE:20250203
DTEND;VALUE=DATE:20250204
DTSTAMP:20260421T015705
CREATED:20210416T141508Z
LAST-MODIFIED:20250307T185055Z
UID:10053824-1738540800-1738627199@machias.edu
SUMMARY:Fitness Center open 6 a.m.–7 p.m.
DESCRIPTION:Facility Hours & Events
URL:https://machias.edu/event/6-a-m-7-p-m-2022-07-01/2025-02-03/
CATEGORIES:Fitness Center hours
END:VEVENT
BEGIN:VEVENT
DTSTART;VALUE=DATE:20250204
DTEND;VALUE=DATE:20250205
DTSTAMP:20260421T015705
CREATED:20210416T141508Z
LAST-MODIFIED:20250307T185055Z
UID:10053827-1738627200-1738713599@machias.edu
SUMMARY:Fitness Center open 6 a.m.–7 p.m.
DESCRIPTION:Facility Hours & Events
URL:https://machias.edu/event/6-a-m-7-p-m-2022-07-01/2025-02-04/
CATEGORIES:Fitness Center hours
END:VEVENT
BEGIN:VEVENT
DTSTART;VALUE=DATE:20250205
DTEND;VALUE=DATE:20250206
DTSTAMP:20260421T015705
CREATED:20210416T141508Z
LAST-MODIFIED:20250307T185055Z
UID:10053830-1738713600-1738799999@machias.edu
SUMMARY:Fitness Center open 6 a.m.–7 p.m.
DESCRIPTION:Facility Hours & Events
URL:https://machias.edu/event/6-a-m-7-p-m-2022-07-01/2025-02-05/
CATEGORIES:Fitness Center hours
END:VEVENT
BEGIN:VEVENT
DTSTART;VALUE=DATE:20250206
DTEND;VALUE=DATE:20250207
DTSTAMP:20260421T015705
CREATED:20210416T141508Z
LAST-MODIFIED:20250307T185055Z
UID:10053833-1738800000-1738886399@machias.edu
SUMMARY:Fitness Center open 6 a.m.–7 p.m.
DESCRIPTION:Facility Hours & Events
URL:https://machias.edu/event/6-a-m-7-p-m-2022-07-01/2025-02-06/
CATEGORIES:Fitness Center hours
END:VEVENT
BEGIN:VEVENT
DTSTART;VALUE=DATE:20250207
DTEND;VALUE=DATE:20250208
DTSTAMP:20260421T015705
CREATED:20210416T141508Z
LAST-MODIFIED:20250307T185055Z
UID:10053836-1738886400-1738972799@machias.edu
SUMMARY:Fitness Center open 6 a.m.–7 p.m.
DESCRIPTION:Facility Hours & Events
URL:https://machias.edu/event/6-a-m-7-p-m-2022-07-01/2025-02-07/
CATEGORIES:Fitness Center hours
END:VEVENT
BEGIN:VEVENT
DTSTART;VALUE=DATE:20250208
DTEND;VALUE=DATE:20250209
DTSTAMP:20260421T015705
CREATED:20241007T155019Z
LAST-MODIFIED:20241007T160708Z
UID:10082490-1738972800-1739059199@machias.edu
SUMMARY:Reynolds/Fitness Center Open 9am-3pm
DESCRIPTION:
URL:https://machias.edu/event/reynolds-fitness-center-open-9am-3pm-2/2025-02-08/
CATEGORIES:Fitness Center hours
END:VEVENT
BEGIN:VEVENT
DTSTART;VALUE=DATE:20250209
DTEND;VALUE=DATE:20250210
DTSTAMP:20260421T015705
CREATED:20241007T161342Z
LAST-MODIFIED:20241007T161424Z
UID:10083273-1739059200-1739145599@machias.edu
SUMMARY:Reynolds/Fitness Center Closed
DESCRIPTION:
URL:https://machias.edu/event/reynolds-fitness-center-closed/2025-02-09/
CATEGORIES:Fitness Center hours
END:VEVENT
END:VCALENDAR