BEGIN:VCALENDAR
VERSION:2.0
PRODID:-//University of Maine at Machias - ECPv6.15.17.1//NONSGML v1.0//EN
CALSCALE:GREGORIAN
METHOD:PUBLISH
X-WR-CALNAME:University of Maine at Machias
X-ORIGINAL-URL:https://machias.edu
X-WR-CALDESC:Events for University of Maine at Machias
REFRESH-INTERVAL;VALUE=DURATION:PT1H
X-Robots-Tag:noindex
X-PUBLISHED-TTL:PT1H
BEGIN:VTIMEZONE
TZID:UTC
BEGIN:STANDARD
TZOFFSETFROM:+0000
TZOFFSETTO:+0000
TZNAME:UTC
DTSTART:20240101T000000
END:STANDARD
END:VTIMEZONE
BEGIN:VTIMEZONE
TZID:America/New_York
BEGIN:DAYLIGHT
TZOFFSETFROM:-0500
TZOFFSETTO:-0400
TZNAME:EDT
DTSTART:20240310T070000
END:DAYLIGHT
BEGIN:STANDARD
TZOFFSETFROM:-0400
TZOFFSETTO:-0500
TZNAME:EST
DTSTART:20241103T060000
END:STANDARD
BEGIN:DAYLIGHT
TZOFFSETFROM:-0500
TZOFFSETTO:-0400
TZNAME:EDT
DTSTART:20250309T070000
END:DAYLIGHT
BEGIN:STANDARD
TZOFFSETFROM:-0400
TZOFFSETTO:-0500
TZNAME:EST
DTSTART:20251102T060000
END:STANDARD
BEGIN:DAYLIGHT
TZOFFSETFROM:-0500
TZOFFSETTO:-0400
TZNAME:EDT
DTSTART:20260308T070000
END:DAYLIGHT
BEGIN:STANDARD
TZOFFSETFROM:-0400
TZOFFSETTO:-0500
TZNAME:EST
DTSTART:20261101T060000
END:STANDARD
END:VTIMEZONE
BEGIN:VEVENT
DTSTART;VALUE=DATE:20250301
DTEND;VALUE=DATE:20250302
DTSTAMP:20260419T223023
CREATED:20241007T155019Z
LAST-MODIFIED:20241007T160708Z
UID:10082499-1740787200-1740873599@machias.edu
SUMMARY:Reynolds/Fitness Center Open 9am-3pm
DESCRIPTION:
URL:https://machias.edu/event/reynolds-fitness-center-open-9am-3pm-2/2025-03-01/
CATEGORIES:Fitness Center hours
END:VEVENT
BEGIN:VEVENT
DTSTART;VALUE=DATE:20250302
DTEND;VALUE=DATE:20250303
DTSTAMP:20260419T223023
CREATED:20241007T161342Z
LAST-MODIFIED:20241007T161424Z
UID:10083282-1740873600-1740959999@machias.edu
SUMMARY:Reynolds/Fitness Center Closed
DESCRIPTION:
URL:https://machias.edu/event/reynolds-fitness-center-closed/2025-03-02/
CATEGORIES:Fitness Center hours
END:VEVENT
BEGIN:VEVENT
DTSTART;VALUE=DATE:20250303
DTEND;VALUE=DATE:20250304
DTSTAMP:20260419T223023
CREATED:20210416T141508Z
LAST-MODIFIED:20250307T185055Z
UID:10053884-1740960000-1741046399@machias.edu
SUMMARY:Fitness Center open 6 a.m.–7 p.m.
DESCRIPTION:Facility Hours & Events
URL:https://machias.edu/event/6-a-m-7-p-m-2022-07-01/2025-03-03/
CATEGORIES:Fitness Center hours
END:VEVENT
BEGIN:VEVENT
DTSTART;VALUE=DATE:20250304
DTEND;VALUE=DATE:20250305
DTSTAMP:20260419T223023
CREATED:20210416T141508Z
LAST-MODIFIED:20250307T185055Z
UID:10053887-1741046400-1741132799@machias.edu
SUMMARY:Fitness Center open 6 a.m.–7 p.m.
DESCRIPTION:Facility Hours & Events
URL:https://machias.edu/event/6-a-m-7-p-m-2022-07-01/2025-03-04/
CATEGORIES:Fitness Center hours
END:VEVENT
BEGIN:VEVENT
DTSTART;VALUE=DATE:20250305
DTEND;VALUE=DATE:20250306
DTSTAMP:20260419T223023
CREATED:20210416T141508Z
LAST-MODIFIED:20250307T185055Z
UID:10053890-1741132800-1741219199@machias.edu
SUMMARY:Fitness Center open 6 a.m.–7 p.m.
DESCRIPTION:Facility Hours & Events
URL:https://machias.edu/event/6-a-m-7-p-m-2022-07-01/2025-03-05/
CATEGORIES:Fitness Center hours
END:VEVENT
BEGIN:VEVENT
DTSTART;VALUE=DATE:20250306
DTEND;VALUE=DATE:20250307
DTSTAMP:20260419T223023
CREATED:20210416T141508Z
LAST-MODIFIED:20250307T185055Z
UID:10053893-1741219200-1741305599@machias.edu
SUMMARY:Fitness Center open 6 a.m.–7 p.m.
DESCRIPTION:Facility Hours & Events
URL:https://machias.edu/event/6-a-m-7-p-m-2022-07-01/2025-03-06/
CATEGORIES:Fitness Center hours
END:VEVENT
BEGIN:VEVENT
DTSTART;VALUE=DATE:20250307
DTEND;VALUE=DATE:20250308
DTSTAMP:20260419T223023
CREATED:20210416T141508Z
LAST-MODIFIED:20250307T185055Z
UID:10053896-1741305600-1741391999@machias.edu
SUMMARY:Fitness Center open 6 a.m.–7 p.m.
DESCRIPTION:Facility Hours & Events
URL:https://machias.edu/event/6-a-m-7-p-m-2022-07-01/2025-03-07/
CATEGORIES:Fitness Center hours
END:VEVENT
BEGIN:VEVENT
DTSTART;VALUE=DATE:20250308
DTEND;VALUE=DATE:20250309
DTSTAMP:20260419T223023
CREATED:20241007T155019Z
LAST-MODIFIED:20241007T160708Z
UID:10082502-1741392000-1741478399@machias.edu
SUMMARY:Reynolds/Fitness Center Open 9am-3pm
DESCRIPTION:
URL:https://machias.edu/event/reynolds-fitness-center-open-9am-3pm-2/2025-03-08/
CATEGORIES:Fitness Center hours
END:VEVENT
BEGIN:VEVENT
DTSTART;VALUE=DATE:20250309
DTEND;VALUE=DATE:20250311
DTSTAMP:20260419T223023
CREATED:20241007T161342Z
LAST-MODIFIED:20241007T161424Z
UID:10083285-1741478400-1741568399@machias.edu
SUMMARY:Reynolds/Fitness Center Closed
DESCRIPTION:
URL:https://machias.edu/event/reynolds-fitness-center-closed/2025-03-09/
CATEGORIES:Fitness Center hours
END:VEVENT
BEGIN:VEVENT
DTSTART;VALUE=DATE:20250310
DTEND;VALUE=DATE:20250311
DTSTAMP:20260419T223023
CREATED:20210416T141508Z
LAST-MODIFIED:20250307T185055Z
UID:10053899-1741564800-1741651199@machias.edu
SUMMARY:Fitness Center open 6 a.m.–7 p.m.
DESCRIPTION:Facility Hours & Events
URL:https://machias.edu/event/6-a-m-7-p-m-2022-07-01/2025-03-10/
CATEGORIES:Fitness Center hours
END:VEVENT
BEGIN:VEVENT
DTSTART;VALUE=DATE:20250311
DTEND;VALUE=DATE:20250312
DTSTAMP:20260419T223023
CREATED:20210416T141508Z
LAST-MODIFIED:20250307T185055Z
UID:10053902-1741651200-1741737599@machias.edu
SUMMARY:Fitness Center open 6 a.m.–7 p.m.
DESCRIPTION:Facility Hours & Events
URL:https://machias.edu/event/6-a-m-7-p-m-2022-07-01/2025-03-11/
CATEGORIES:Fitness Center hours
END:VEVENT
BEGIN:VEVENT
DTSTART;VALUE=DATE:20250312
DTEND;VALUE=DATE:20250313
DTSTAMP:20260419T223023
CREATED:20210416T141508Z
LAST-MODIFIED:20250307T185055Z
UID:10053905-1741737600-1741823999@machias.edu
SUMMARY:Fitness Center open 6 a.m.–7 p.m.
DESCRIPTION:Facility Hours & Events
URL:https://machias.edu/event/6-a-m-7-p-m-2022-07-01/2025-03-12/
CATEGORIES:Fitness Center hours
END:VEVENT
BEGIN:VEVENT
DTSTART;VALUE=DATE:20250313
DTEND;VALUE=DATE:20250314
DTSTAMP:20260419T223023
CREATED:20210416T141508Z
LAST-MODIFIED:20250307T185055Z
UID:10053908-1741824000-1741910399@machias.edu
SUMMARY:Fitness Center open 6 a.m.–7 p.m.
DESCRIPTION:Facility Hours & Events
URL:https://machias.edu/event/6-a-m-7-p-m-2022-07-01/2025-03-13/
CATEGORIES:Fitness Center hours
END:VEVENT
BEGIN:VEVENT
DTSTART;VALUE=DATE:20250314
DTEND;VALUE=DATE:20250315
DTSTAMP:20260419T223023
CREATED:20210416T141508Z
LAST-MODIFIED:20250307T185055Z
UID:10053911-1741910400-1741996799@machias.edu
SUMMARY:Fitness Center open 6 a.m.–7 p.m.
DESCRIPTION:Facility Hours & Events
URL:https://machias.edu/event/6-a-m-7-p-m-2022-07-01/2025-03-14/
CATEGORIES:Fitness Center hours
END:VEVENT
BEGIN:VEVENT
DTSTART;VALUE=DATE:20250315
DTEND;VALUE=DATE:20250316
DTSTAMP:20260419T223023
CREATED:20241007T155019Z
LAST-MODIFIED:20241007T160708Z
UID:10082505-1741996800-1742083199@machias.edu
SUMMARY:Reynolds/Fitness Center Open 9am-3pm
DESCRIPTION:
URL:https://machias.edu/event/reynolds-fitness-center-open-9am-3pm-2/2025-03-15/
CATEGORIES:Fitness Center hours
END:VEVENT
BEGIN:VEVENT
DTSTART;VALUE=DATE:20250316
DTEND;VALUE=DATE:20250317
DTSTAMP:20260419T223023
CREATED:20241007T161342Z
LAST-MODIFIED:20241007T161424Z
UID:10083288-1742083200-1742169599@machias.edu
SUMMARY:Reynolds/Fitness Center Closed
DESCRIPTION:
URL:https://machias.edu/event/reynolds-fitness-center-closed/2025-03-16/
CATEGORIES:Fitness Center hours
END:VEVENT
BEGIN:VEVENT
DTSTART;VALUE=DATE:20250317
DTEND;VALUE=DATE:20250318
DTSTAMP:20260419T223023
CREATED:20210416T141508Z
LAST-MODIFIED:20250307T185055Z
UID:10053914-1742169600-1742255999@machias.edu
SUMMARY:Fitness Center open 6 a.m.–7 p.m.
DESCRIPTION:Facility Hours & Events
URL:https://machias.edu/event/6-a-m-7-p-m-2022-07-01/2025-03-17/
CATEGORIES:Fitness Center hours
END:VEVENT
BEGIN:VEVENT
DTSTART;VALUE=DATE:20250318
DTEND;VALUE=DATE:20250319
DTSTAMP:20260419T223023
CREATED:20210416T141508Z
LAST-MODIFIED:20250307T185055Z
UID:10053917-1742256000-1742342399@machias.edu
SUMMARY:Fitness Center open 6 a.m.–7 p.m.
DESCRIPTION:Facility Hours & Events
URL:https://machias.edu/event/6-a-m-7-p-m-2022-07-01/2025-03-18/
CATEGORIES:Fitness Center hours
END:VEVENT
BEGIN:VEVENT
DTSTART;VALUE=DATE:20250319
DTEND;VALUE=DATE:20250320
DTSTAMP:20260419T223023
CREATED:20210416T141508Z
LAST-MODIFIED:20250307T185055Z
UID:10053920-1742342400-1742428799@machias.edu
SUMMARY:Fitness Center open 6 a.m.–7 p.m.
DESCRIPTION:Facility Hours & Events
URL:https://machias.edu/event/6-a-m-7-p-m-2022-07-01/2025-03-19/
CATEGORIES:Fitness Center hours
END:VEVENT
BEGIN:VEVENT
DTSTART;VALUE=DATE:20250320
DTEND;VALUE=DATE:20250321
DTSTAMP:20260419T223023
CREATED:20210416T141508Z
LAST-MODIFIED:20250307T185055Z
UID:10053923-1742428800-1742515199@machias.edu
SUMMARY:Fitness Center open 6 a.m.–7 p.m.
DESCRIPTION:Facility Hours & Events
URL:https://machias.edu/event/6-a-m-7-p-m-2022-07-01/2025-03-20/
CATEGORIES:Fitness Center hours
END:VEVENT
BEGIN:VEVENT
DTSTART;VALUE=DATE:20250321
DTEND;VALUE=DATE:20250322
DTSTAMP:20260419T223023
CREATED:20210416T141508Z
LAST-MODIFIED:20250307T185055Z
UID:10053926-1742515200-1742601599@machias.edu
SUMMARY:Fitness Center open 6 a.m.–7 p.m.
DESCRIPTION:Facility Hours & Events
URL:https://machias.edu/event/6-a-m-7-p-m-2022-07-01/2025-03-21/
CATEGORIES:Fitness Center hours
END:VEVENT
BEGIN:VEVENT
DTSTART;VALUE=DATE:20250322
DTEND;VALUE=DATE:20250323
DTSTAMP:20260419T223023
CREATED:20241007T155019Z
LAST-MODIFIED:20241007T160708Z
UID:10082508-1742601600-1742687999@machias.edu
SUMMARY:Reynolds/Fitness Center Open 9am-3pm
DESCRIPTION:
URL:https://machias.edu/event/reynolds-fitness-center-open-9am-3pm-2/2025-03-22/
CATEGORIES:Fitness Center hours
END:VEVENT
BEGIN:VEVENT
DTSTART;VALUE=DATE:20250323
DTEND;VALUE=DATE:20250324
DTSTAMP:20260419T223023
CREATED:20241007T161342Z
LAST-MODIFIED:20241007T161424Z
UID:10083291-1742688000-1742774399@machias.edu
SUMMARY:Reynolds/Fitness Center Closed
DESCRIPTION:
URL:https://machias.edu/event/reynolds-fitness-center-closed/2025-03-23/
CATEGORIES:Fitness Center hours
END:VEVENT
BEGIN:VEVENT
DTSTART;VALUE=DATE:20250324
DTEND;VALUE=DATE:20250325
DTSTAMP:20260419T223023
CREATED:20210416T141508Z
LAST-MODIFIED:20250307T185055Z
UID:10053929-1742774400-1742860799@machias.edu
SUMMARY:Fitness Center open 6 a.m.–7 p.m.
DESCRIPTION:Facility Hours & Events
URL:https://machias.edu/event/6-a-m-7-p-m-2022-07-01/2025-03-24/
CATEGORIES:Fitness Center hours
END:VEVENT
BEGIN:VEVENT
DTSTART;VALUE=DATE:20250325
DTEND;VALUE=DATE:20250326
DTSTAMP:20260419T223023
CREATED:20210416T141508Z
LAST-MODIFIED:20250307T185055Z
UID:10053932-1742860800-1742947199@machias.edu
SUMMARY:Fitness Center open 6 a.m.–7 p.m.
DESCRIPTION:Facility Hours & Events
URL:https://machias.edu/event/6-a-m-7-p-m-2022-07-01/2025-03-25/
CATEGORIES:Fitness Center hours
END:VEVENT
BEGIN:VEVENT
DTSTART;VALUE=DATE:20250326
DTEND;VALUE=DATE:20250327
DTSTAMP:20260419T223023
CREATED:20210416T141508Z
LAST-MODIFIED:20250307T185055Z
UID:10053935-1742947200-1743033599@machias.edu
SUMMARY:Fitness Center open 6 a.m.–7 p.m.
DESCRIPTION:Facility Hours & Events
URL:https://machias.edu/event/6-a-m-7-p-m-2022-07-01/2025-03-26/
CATEGORIES:Fitness Center hours
END:VEVENT
BEGIN:VEVENT
DTSTART;VALUE=DATE:20250327
DTEND;VALUE=DATE:20250328
DTSTAMP:20260419T223023
CREATED:20210416T141508Z
LAST-MODIFIED:20250307T185055Z
UID:10053938-1743033600-1743119999@machias.edu
SUMMARY:Fitness Center open 6 a.m.–7 p.m.
DESCRIPTION:Facility Hours & Events
URL:https://machias.edu/event/6-a-m-7-p-m-2022-07-01/2025-03-27/
CATEGORIES:Fitness Center hours
END:VEVENT
BEGIN:VEVENT
DTSTART;VALUE=DATE:20250328
DTEND;VALUE=DATE:20250329
DTSTAMP:20260419T223023
CREATED:20210416T141508Z
LAST-MODIFIED:20250307T185055Z
UID:10053941-1743120000-1743206399@machias.edu
SUMMARY:Fitness Center open 6 a.m.–7 p.m.
DESCRIPTION:Facility Hours & Events
URL:https://machias.edu/event/6-a-m-7-p-m-2022-07-01/2025-03-28/
CATEGORIES:Fitness Center hours
END:VEVENT
BEGIN:VEVENT
DTSTART;VALUE=DATE:20250329
DTEND;VALUE=DATE:20250330
DTSTAMP:20260419T223023
CREATED:20241007T155019Z
LAST-MODIFIED:20241007T160708Z
UID:10082511-1743206400-1743292799@machias.edu
SUMMARY:Reynolds/Fitness Center Open 9am-3pm
DESCRIPTION:
URL:https://machias.edu/event/reynolds-fitness-center-open-9am-3pm-2/2025-03-29/
CATEGORIES:Fitness Center hours
END:VEVENT
BEGIN:VEVENT
DTSTART;VALUE=DATE:20250330
DTEND;VALUE=DATE:20250331
DTSTAMP:20260419T223023
CREATED:20241007T161342Z
LAST-MODIFIED:20241007T161424Z
UID:10083294-1743292800-1743379199@machias.edu
SUMMARY:Reynolds/Fitness Center Closed
DESCRIPTION:
URL:https://machias.edu/event/reynolds-fitness-center-closed/2025-03-30/
CATEGORIES:Fitness Center hours
END:VEVENT
END:VCALENDAR