BEGIN:VCALENDAR
VERSION:2.0
PRODID:-//University of Maine at Machias - ECPv6.15.17.1//NONSGML v1.0//EN
CALSCALE:GREGORIAN
METHOD:PUBLISH
X-ORIGINAL-URL:https://machias.edu
X-WR-CALDESC:Events for University of Maine at Machias
REFRESH-INTERVAL;VALUE=DURATION:PT1H
X-Robots-Tag:noindex
X-PUBLISHED-TTL:PT1H
BEGIN:VTIMEZONE
TZID:America/New_York
BEGIN:DAYLIGHT
TZOFFSETFROM:-0500
TZOFFSETTO:-0400
TZNAME:EDT
DTSTART:20210314T070000
END:DAYLIGHT
BEGIN:STANDARD
TZOFFSETFROM:-0400
TZOFFSETTO:-0500
TZNAME:EST
DTSTART:20211107T060000
END:STANDARD
BEGIN:DAYLIGHT
TZOFFSETFROM:-0500
TZOFFSETTO:-0400
TZNAME:EDT
DTSTART:20220313T070000
END:DAYLIGHT
BEGIN:STANDARD
TZOFFSETFROM:-0400
TZOFFSETTO:-0500
TZNAME:EST
DTSTART:20221106T060000
END:STANDARD
BEGIN:DAYLIGHT
TZOFFSETFROM:-0500
TZOFFSETTO:-0400
TZNAME:EDT
DTSTART:20230312T070000
END:DAYLIGHT
BEGIN:STANDARD
TZOFFSETFROM:-0400
TZOFFSETTO:-0500
TZNAME:EST
DTSTART:20231105T060000
END:STANDARD
END:VTIMEZONE
BEGIN:VEVENT
DTSTART;VALUE=DATE:20220630
DTEND;VALUE=DATE:20220701
DTSTAMP:20260421T223657
CREATED:20220401T053653Z
LAST-MODIFIED:20220413T205156Z
UID:10077818-1656547200-1656633599@machias.edu
SUMMARY:3rd or Subsequent Yrs President's Decision to Member
DESCRIPTION:
URL:https://machias.edu/event/3rd-or-subsequent-yrs-presidents-decision-to-member-2/
CATEGORIES:Faculty/Staff Calendar
END:VEVENT
BEGIN:VEVENT
DTSTART;VALUE=DATE:20220629
DTEND;VALUE=DATE:20220630
DTSTAMP:20260421T223657
CREATED:20220331T051722Z
LAST-MODIFIED:20220413T205156Z
UID:10077807-1656460800-1656547199@machias.edu
SUMMARY:Post Tenure President's Decision to Member
DESCRIPTION:
URL:https://machias.edu/event/post-tenure-presidents-decision-to-member-2/
CATEGORIES:Faculty/Staff Calendar
END:VEVENT
BEGIN:VEVENT
DTSTART;TZID=America/New_York:20220527T120000
DTEND;TZID=America/New_York:20220527T134500
DTSTAMP:20260421T223657
CREATED:20220413T205156Z
LAST-MODIFIED:20220413T205156Z
UID:10077884-1653652800-1653659100@machias.edu
SUMMARY:Faculty and Staff Reception (Tentative)
DESCRIPTION:
URL:https://machias.edu/event/faculty-and-staff-reception-tentative/
CATEGORIES:Faculty/Staff Calendar
END:VEVENT
BEGIN:VEVENT
DTSTART;TZID=America/New_York:20220527T100000
DTEND;TZID=America/New_York:20220527T120000
DTSTAMP:20260421T223657
CREATED:20220413T205155Z
LAST-MODIFIED:20220413T205155Z
UID:10077878-1653645600-1653652800@machias.edu
SUMMARY:Faculty Meeting (Tentative)
DESCRIPTION:
URL:https://machias.edu/event/faculty-meeting-tentative/
CATEGORIES:Faculty/Staff Calendar
END:VEVENT
BEGIN:VEVENT
DTSTART;VALUE=DATE:20220527
DTEND;VALUE=DATE:20220528
DTSTAMP:20260421T223657
CREATED:20220303T024407Z
LAST-MODIFIED:20220413T205155Z
UID:10077747-1653609600-1653695999@machias.edu
SUMMARY:3rd or Subsequent Yrs Due from HOC to President
DESCRIPTION:
URL:https://machias.edu/event/3rd-or-subsequent-yrs-due-from-hoc-to-president/
CATEGORIES:Faculty/Staff Calendar
END:VEVENT
BEGIN:VEVENT
DTSTART;TZID=America/New_York:20220526T140000
DTEND;TZID=America/New_York:20220526T170000
DTSTAMP:20260421T223657
CREATED:20220303T024407Z
LAST-MODIFIED:20220413T205155Z
UID:10077744-1653573600-1653584400@machias.edu
SUMMARY:COVID-19 Testing
DESCRIPTION:Please use the door by the soccer field. Remember to not eat\, drink\, smoke\, or chew anything (except a few sips of water) at least one hour prior to testing.
URL:https://machias.edu/event/covid-19-testing-78/
LOCATION:Clipper Lounge\, Sennett Hall
CATEGORIES:Faculty/Staff Calendar
END:VEVENT
BEGIN:VEVENT
DTSTART;TZID=America/New_York:20220526T130000
DTEND;TZID=America/New_York:20220526T140000
DTSTAMP:20260421T223657
CREATED:20220413T205155Z
LAST-MODIFIED:20220413T205155Z
UID:10077872-1653570000-1653573600@machias.edu
SUMMARY:Committee Meetings
DESCRIPTION:
URL:https://machias.edu/event/committee-meetings-26/
CATEGORIES:Faculty/Staff Calendar
END:VEVENT
BEGIN:VEVENT
DTSTART;TZID=America/New_York:20220526T100000
DTEND;TZID=America/New_York:20220526T110000
DTSTAMP:20260421T223657
CREATED:20220413T205155Z
LAST-MODIFIED:20220413T205155Z
UID:10077866-1653559200-1653562800@machias.edu
SUMMARY:Division Meetings
DESCRIPTION:
URL:https://machias.edu/event/division-meetings-34/
CATEGORIES:Faculty/Staff Calendar
END:VEVENT
BEGIN:VEVENT
DTSTART;TZID=America/New_York:20220525T090000
DTEND;TZID=America/New_York:20220525T120000
DTSTAMP:20260421T223657
CREATED:20220406T062614Z
LAST-MODIFIED:20220413T205154Z
UID:10074917-1653469200-1653480000@machias.edu
SUMMARY:Understanding Digital Accessibility and Creating Accessible Digital Content
DESCRIPTION:
URL:https://machias.edu/event/understanding-digital-accessibility-and-creating-accessible-digital-content/
CATEGORIES:Faculty/Staff Calendar
END:VEVENT
BEGIN:VEVENT
DTSTART;TZID=America/New_York:20220524T090000
DTEND;TZID=America/New_York:20220524T120000
DTSTAMP:20260421T223657
CREATED:20220302T023954Z
LAST-MODIFIED:20220413T205154Z
UID:10077738-1653382800-1653393600@machias.edu
SUMMARY:COVID-19 Testing
DESCRIPTION:Please use the door by the soccer field. Remember to not eat\, drink\, smoke\, or chew anything (except a few sips of water) at least one hour prior to testing.
URL:https://machias.edu/event/covid-19-testing-77/
LOCATION:Clipper Lounge\, Sennett Hall
CATEGORIES:Faculty/Staff Calendar
END:VEVENT
BEGIN:VEVENT
DTSTART;TZID=America/New_York:20220519T140000
DTEND;TZID=America/New_York:20220519T170000
DTSTAMP:20260421T223657
CREATED:20220301T022451Z
LAST-MODIFIED:20220413T205154Z
UID:10077735-1652968800-1652979600@machias.edu
SUMMARY:COVID-19 Testing
DESCRIPTION:Please use the door by the soccer field. Remember to not eat\, drink\, smoke\, or chew anything (except a few sips of water) at least one hour prior to testing.
URL:https://machias.edu/event/covid-19-testing-76/
LOCATION:Clipper Lounge\, Sennett Hall
CATEGORIES:Faculty/Staff Calendar
END:VEVENT
BEGIN:VEVENT
DTSTART;TZID=America/New_York:20220517T090000
DTEND;TZID=America/New_York:20220517T120000
DTSTAMP:20260421T223657
CREATED:20220226T015924Z
LAST-MODIFIED:20220413T205154Z
UID:10074860-1652778000-1652788800@machias.edu
SUMMARY:COVID-19 Testing
DESCRIPTION:Please use the door by the soccer field. Remember to not eat\, drink\, smoke\, or chew anything (except a few sips of water) at least one hour prior to testing.
URL:https://machias.edu/event/covid-19-testing-74/
LOCATION:Clipper Lounge\, Sennett Hall
CATEGORIES:Faculty/Staff Calendar
END:VEVENT
BEGIN:VEVENT
DTSTART;VALUE=DATE:20220517
DTEND;VALUE=DATE:20220518
DTSTAMP:20260421T223657
CREATED:20220225T014520Z
LAST-MODIFIED:20220413T205154Z
UID:10077729-1652745600-1652831999@machias.edu
SUMMARY:3rd or Subsequent Yrs Peer Review Due to AVPAA
DESCRIPTION:
URL:https://machias.edu/event/3rd-or-subsequent-yrs-peer-review-due-to-avpaa/
CATEGORIES:Faculty/Staff Calendar
END:VEVENT
BEGIN:VEVENT
DTSTART;VALUE=DATE:20220513
DTEND;VALUE=DATE:20220514
DTSTAMP:20260421T223657
CREATED:20220225T014519Z
LAST-MODIFIED:20220413T205153Z
UID:10077726-1652400000-1652486399@machias.edu
SUMMARY:Final Grades Due
DESCRIPTION:
URL:https://machias.edu/event/final-grades-due-5/
CATEGORIES:Faculty/Staff Calendar
END:VEVENT
BEGIN:VEVENT
DTSTART;TZID=America/New_York:20220512T140000
DTEND;TZID=America/New_York:20220512T170000
DTSTAMP:20260421T223657
CREATED:20220224T014038Z
LAST-MODIFIED:20220413T205153Z
UID:10077720-1652364000-1652374800@machias.edu
SUMMARY:COVID-19 Testing
DESCRIPTION:Please use the door by the soccer field. Remember to not eat\, drink\, smoke\, or chew anything (except a few sips of water) at least one hour prior to testing.
URL:https://machias.edu/event/covid-19-testing-72/
LOCATION:Clipper Lounge\, Sennett Hall
CATEGORIES:Faculty/Staff Calendar
END:VEVENT
BEGIN:VEVENT
DTSTART;TZID=America/New_York:20220510T090000
DTEND;TZID=America/New_York:20220510T120000
DTSTAMP:20260421T223657
CREATED:20220224T014038Z
LAST-MODIFIED:20220413T205153Z
UID:10077717-1652173200-1652184000@machias.edu
SUMMARY:COVID-19 Testing
DESCRIPTION:Please use the door by the soccer field. Remember to not eat\, drink\, smoke\, or chew anything (except a few sips of water) at least one hour prior to testing.
URL:https://machias.edu/event/covid-19-testing-71/
LOCATION:Clipper Lounge\, Sennett Hall
CATEGORIES:Faculty/Staff Calendar
END:VEVENT
BEGIN:VEVENT
DTSTART;VALUE=DATE:20220507
DTEND;VALUE=DATE:20220508
DTSTAMP:20260421T223657
CREATED:20220223T012417Z
LAST-MODIFIED:20220413T205153Z
UID:10077714-1651881600-1651967999@machias.edu
SUMMARY:3rd or Subsequent Yrs Unit Member Response Deadline
DESCRIPTION:
URL:https://machias.edu/event/3rd-or-subsequent-yrs-unit-member-response-deadline-3/
CATEGORIES:Faculty/Staff Calendar
END:VEVENT
BEGIN:VEVENT
DTSTART;TZID=America/New_York:20220506T110000
DTEND;TZID=America/New_York:20220506T130000
DTSTAMP:20260421T223657
CREATED:20220222T012024Z
LAST-MODIFIED:20220413T205152Z
UID:10077708-1651834800-1651842000@machias.edu
SUMMARY:Commencement
DESCRIPTION:
URL:https://machias.edu/event/commencement-6/
CATEGORIES:Faculty/Staff Calendar
END:VEVENT
BEGIN:VEVENT
DTSTART;VALUE=DATE:20220506
DTEND;VALUE=DATE:20220507
DTSTAMP:20260421T223657
CREATED:20220219T010906Z
LAST-MODIFIED:20220413T205153Z
UID:10077677-1651795200-1651881599@machias.edu
SUMMARY:Post Tenure Due from HOC to President
DESCRIPTION:
URL:https://machias.edu/event/post-tenure-due-from-hoc-to-president-2/
CATEGORIES:Faculty/Staff Calendar
END:VEVENT
BEGIN:VEVENT
DTSTART;TZID=America/New_York:20220505T140000
DTEND;TZID=America/New_York:20220505T170000
DTSTAMP:20260421T223657
CREATED:20220218T010351Z
LAST-MODIFIED:20220413T205152Z
UID:10077671-1651759200-1651770000@machias.edu
SUMMARY:COVID-19 Testing
DESCRIPTION:Please use the door by the soccer field. Remember to not eat\, drink\, smoke\, or chew anything (except a few sips of water) at least one hour prior to testing.
URL:https://machias.edu/event/covid-19-testing-69/
LOCATION:Clipper Lounge\, Sennett Hall
CATEGORIES:Faculty/Staff Calendar
END:VEVENT
BEGIN:VEVENT
DTSTART;TZID=America/New_York:20220505T130000
DTEND;TZID=America/New_York:20220505T140000
DTSTAMP:20260421T223657
CREATED:20220211T003142Z
LAST-MODIFIED:20220413T205152Z
UID:10077653-1651755600-1651759200@machias.edu
SUMMARY:AVPAA Drop-in Office Hour
DESCRIPTION:You are invited to a Zoom meeting now.\nJoin from PC\, Mac\, Linux\, iOS or Android: https://maine.zoom.us/j/87102129489?pwd=SXlpa0U2UEttcnQyczR4M09CUTJTZz09\n    Password: 962087\nOr Telephone: \n        US: +1 301 715 8592  or +1 312 626 6799  or +1 646 876 9923  or +1 669 900 6833  or +1 253 215 8782  or +1 346 248 7799  or +1 408 638 0968\n    Meeting ID: 871 0212 9489\nFrom a Polycom or other H.323 room system that is not a member of a video conference\, click call on the remote and dial one of the following IP addresses followed by # the meeting ID and # again:\n    162.255.36.11 (US East)\n    162.255.37.11 (US West)\n     Meeting ID: 871 0212 9489\n    Password: 962087\nPlease call your campus Help Desk if you need assistance.
URL:https://machias.edu/event/avpaa-drop-in-office-hour-18/
LOCATION:https://maine.zoom.us/j/87102129489?pwd=SXlpa0U2UEttcnQyczR4M09CUTJTZz09
CATEGORIES:Faculty/Staff Calendar
END:VEVENT
BEGIN:VEVENT
DTSTART;VALUE=DATE:20220505
DTEND;VALUE=DATE:20220506
DTSTAMP:20260421T223657
CREATED:20220218T010350Z
LAST-MODIFIED:20220413T205152Z
UID:10077668-1651708800-1651795199@machias.edu
SUMMARY:Final Exams End
DESCRIPTION:
URL:https://machias.edu/event/final-exams-end-4/
CATEGORIES:Faculty/Staff Calendar
END:VEVENT
BEGIN:VEVENT
DTSTART;TZID=America/New_York:20220503T090000
DTEND;TZID=America/New_York:20220503T120000
DTSTAMP:20260421T223657
CREATED:20220202T233512Z
LAST-MODIFIED:20220413T205151Z
UID:10074803-1651568400-1651579200@machias.edu
SUMMARY:COVID-19 Testing
DESCRIPTION:Please use the door by the soccer field. Remember to not eat\, drink\, smoke\, or chew anything (except a few sips of water) at least one hour prior to testing.
URL:https://machias.edu/event/covid-19-testing-67/
LOCATION:Clipper Lounge\, Sennett Hall
CATEGORIES:Faculty/Staff Calendar
END:VEVENT
BEGIN:VEVENT
DTSTART;VALUE=DATE:20220502
DTEND;VALUE=DATE:20220503
DTSTAMP:20260421T223657
CREATED:20220202T233512Z
LAST-MODIFIED:20220413T205151Z
UID:10074800-1651449600-1651535999@machias.edu
SUMMARY:Final Exams Begin
DESCRIPTION:
URL:https://machias.edu/event/final-exams-begin-4/
CATEGORIES:Faculty/Staff Calendar
END:VEVENT
BEGIN:VEVENT
DTSTART;VALUE=DATE:20220430
DTEND;VALUE=DATE:20220501
DTSTAMP:20260421T223657
CREATED:20220209T001703Z
LAST-MODIFIED:20220413T205151Z
UID:10077650-1651276800-1651363199@machias.edu
SUMMARY:HoC forward Post-Tenure to Provost Office
DESCRIPTION:
URL:https://machias.edu/event/hoc-forward-post-tenure-to-provost-office/
CATEGORIES:Faculty/Staff Calendar
END:VEVENT
BEGIN:VEVENT
DTSTART;VALUE=DATE:20220430
DTEND;VALUE=DATE:20220501
DTSTAMP:20260421T223657
CREATED:20220202T233512Z
LAST-MODIFIED:20220413T205151Z
UID:10077623-1651276800-1651363199@machias.edu
SUMMARY:3rd or Subsequent Yrs Peer Review Forwards Recomm.
DESCRIPTION:
URL:https://machias.edu/event/3rd-or-subsequent-yrs-peer-review-forwards-recomm/
CATEGORIES:Faculty/Staff Calendar
END:VEVENT
BEGIN:VEVENT
DTSTART;VALUE=DATE:20220429
DTEND;VALUE=DATE:20220430
DTSTAMP:20260421T223657
CREATED:20220202T233512Z
LAST-MODIFIED:20220413T205151Z
UID:10077620-1651190400-1651276799@machias.edu
SUMMARY:Classes End
DESCRIPTION:
URL:https://machias.edu/event/classes-end-10/
CATEGORIES:Faculty/Staff Calendar
END:VEVENT
BEGIN:VEVENT
DTSTART;TZID=America/New_York:20220428T140000
DTEND;TZID=America/New_York:20220428T170000
DTSTAMP:20260421T223657
CREATED:20220202T233350Z
LAST-MODIFIED:20220413T205151Z
UID:10077614-1651154400-1651165200@machias.edu
SUMMARY:COVID-19 Testing
DESCRIPTION:Please use the door by the soccer field. Remember to not eat\, drink\, smoke\, or chew anything (except a few sips of water) at least one hour prior to testing.
URL:https://machias.edu/event/covid-19-testing-66/
LOCATION:Clipper Lounge\, Sennett Hall
CATEGORIES:Faculty/Staff Calendar
END:VEVENT
BEGIN:VEVENT
DTSTART;TZID=America/New_York:20220428T130000
DTEND;TZID=America/New_York:20220428T140000
DTSTAMP:20260421T223657
CREATED:20220202T233512Z
LAST-MODIFIED:20220413T205150Z
UID:10077617-1651150800-1651154400@machias.edu
SUMMARY:AVPAA Drop-in Office Hour
DESCRIPTION:You are invited to a Zoom meeting now.\nJoin from PC\, Mac\, Linux\, iOS or Android: https://maine.zoom.us/j/87102129489?pwd=SXlpa0U2UEttcnQyczR4M09CUTJTZz09\n    Password: 962087\nOr Telephone: \n        US: +1 301 715 8592  or +1 312 626 6799  or +1 646 876 9923  or +1 669 900 6833  or +1 253 215 8782  or +1 346 248 7799  or +1 408 638 0968\n    Meeting ID: 871 0212 9489\nFrom a Polycom or other H.323 room system that is not a member of a video conference\, click call on the remote and dial one of the following IP addresses followed by # the meeting ID and # again:\n    162.255.36.11 (US East)\n    162.255.37.11 (US West)\n     Meeting ID: 871 0212 9489\n    Password: 962087\nPlease call your campus Help Desk if you need assistance.
URL:https://machias.edu/event/avpaa-drop-in-office-hour-17/
LOCATION:https://maine.zoom.us/j/87102129489?pwd=SXlpa0U2UEttcnQyczR4M09CUTJTZz09
CATEGORIES:Faculty/Staff Calendar
END:VEVENT
BEGIN:VEVENT
DTSTART;VALUE=DATE:20220427
DTEND;VALUE=DATE:20220428
DTSTAMP:20260421T223657
CREATED:20220202T233350Z
LAST-MODIFIED:20220413T205150Z
UID:10077608-1651017600-1651103999@machias.edu
SUMMARY:Maine Day - No Classes held
DESCRIPTION:
URL:https://machias.edu/event/maine-day-no-classes-held/
CATEGORIES:Faculty/Staff Calendar
END:VEVENT
END:VCALENDAR