BEGIN:VCALENDAR
VERSION:2.0
PRODID:-//University of Maine at Machias - ECPv6.15.17.1//NONSGML v1.0//EN
CALSCALE:GREGORIAN
METHOD:PUBLISH
X-ORIGINAL-URL:https://machias.edu
X-WR-CALDESC:Events for University of Maine at Machias
REFRESH-INTERVAL;VALUE=DURATION:PT1H
X-Robots-Tag:noindex
X-PUBLISHED-TTL:PT1H
BEGIN:VTIMEZONE
TZID:America/New_York
BEGIN:DAYLIGHT
TZOFFSETFROM:-0500
TZOFFSETTO:-0400
TZNAME:EDT
DTSTART:20190310T070000
END:DAYLIGHT
BEGIN:STANDARD
TZOFFSETFROM:-0400
TZOFFSETTO:-0500
TZNAME:EST
DTSTART:20191103T060000
END:STANDARD
BEGIN:DAYLIGHT
TZOFFSETFROM:-0500
TZOFFSETTO:-0400
TZNAME:EDT
DTSTART:20200308T070000
END:DAYLIGHT
BEGIN:STANDARD
TZOFFSETFROM:-0400
TZOFFSETTO:-0500
TZNAME:EST
DTSTART:20201101T060000
END:STANDARD
BEGIN:DAYLIGHT
TZOFFSETFROM:-0500
TZOFFSETTO:-0400
TZNAME:EDT
DTSTART:20210314T070000
END:DAYLIGHT
BEGIN:STANDARD
TZOFFSETFROM:-0400
TZOFFSETTO:-0500
TZNAME:EST
DTSTART:20211107T060000
END:STANDARD
END:VTIMEZONE
BEGIN:VEVENT
DTSTART;TZID=America/New_York:20200510T130000
DTEND;TZID=America/New_York:20200510T131500
DTSTAMP:20260423T162154
CREATED:20200212T181118Z
LAST-MODIFIED:20200407T000919Z
UID:10050778-1589115600-1589116500@machias.edu
SUMMARY:Faculty Photo on Library Steps
DESCRIPTION:
URL:https://machias.edu/event/faculty-photo-on-library-steps/
CATEGORIES:Faculty/Staff Calendar
END:VEVENT
BEGIN:VEVENT
DTSTART;TZID=America/New_York:20200510T130000
DTEND;TZID=America/New_York:20200510T140000
DTSTAMP:20260423T162154
CREATED:20200212T181118Z
LAST-MODIFIED:20200407T000919Z
UID:10050784-1589115600-1589119200@machias.edu
SUMMARY:Commencement Line up in Torrey Hall
DESCRIPTION:
URL:https://machias.edu/event/commencement-line-up-in-torrey-hall/
CATEGORIES:Faculty/Staff Calendar
END:VEVENT
BEGIN:VEVENT
DTSTART;TZID=America/New_York:20200510T140000
DTEND;TZID=America/New_York:20200510T160000
DTSTAMP:20260423T162154
CREATED:20200212T181118Z
LAST-MODIFIED:20200501T031241Z
UID:10050790-1589119200-1589126400@machias.edu
SUMMARY:Commencement
DESCRIPTION:
URL:https://machias.edu/event/commencement/
LOCATION:HAS BEEN CANCELLED
CATEGORIES:Faculty/Staff Calendar
END:VEVENT
BEGIN:VEVENT
DTSTART;VALUE=DATE:20200511
DTEND;VALUE=DATE:20200523
DTSTAMP:20260423T162154
CREATED:20200212T181119Z
LAST-MODIFIED:20200522T043324Z
UID:10050796-1589155200-1590191999@machias.edu
SUMMARY:May Term
DESCRIPTION:
URL:https://machias.edu/event/may-term/
CATEGORIES:Faculty/Staff Calendar
END:VEVENT
BEGIN:VEVENT
DTSTART;TZID=America/New_York:20200512T153000
DTEND;TZID=America/New_York:20200512T170000
DTSTAMP:20260423T162154
CREATED:20200212T181119Z
LAST-MODIFIED:20200512T035451Z
UID:10050802-1589297400-1589302800@machias.edu
SUMMARY:Board of Visitors
DESCRIPTION:
URL:https://machias.edu/event/board-of-visitors-3/
CATEGORIES:Faculty/Staff Calendar
END:VEVENT
BEGIN:VEVENT
DTSTART;VALUE=DATE:20200522
DTEND;VALUE=DATE:20200523
DTSTAMP:20260423T162154
CREATED:20200215T183024Z
LAST-MODIFIED:20200522T043324Z
UID:10050823-1590105600-1590191999@machias.edu
SUMMARY:Grades due by end of day
DESCRIPTION:
URL:https://machias.edu/event/grades-due-by-end-of-day/
CATEGORIES:Faculty/Staff Calendar
END:VEVENT
BEGIN:VEVENT
DTSTART;VALUE=DATE:20200524
DTEND;VALUE=DATE:20200525
DTSTAMP:20260423T162154
CREATED:20200224T194957Z
LAST-MODIFIED:20200524T045111Z
UID:10050956-1590278400-1590364799@machias.edu
SUMMARY:3rd or subsequent yrs due to President
DESCRIPTION:
URL:https://machias.edu/event/3rd-or-subsequent-yrs-due-to-president/
CATEGORIES:Faculty/Staff Calendar
END:VEVENT
BEGIN:VEVENT
DTSTART;TZID=America/New_York:20200525T080000
DTEND;TZID=America/New_York:20200525T170000
DTSTAMP:20260423T162154
CREATED:20200225T200451Z
LAST-MODIFIED:20200525T044817Z
UID:10050201-1590393600-1590426000@machias.edu
SUMMARY:Memorial Day
DESCRIPTION:
URL:https://machias.edu/event/memorial-day/
CATEGORIES:Faculty/Staff Calendar
END:VEVENT
BEGIN:VEVENT
DTSTART;VALUE=DATE:20200526
DTEND;VALUE=DATE:20200527
DTSTAMP:20260423T162154
CREATED:20200218T191448Z
LAST-MODIFIED:20200526T045404Z
UID:10050195-1590451200-1590537599@machias.edu
SUMMARY:Summer Session Begins
DESCRIPTION:
URL:https://machias.edu/event/summer-session-begins/
CATEGORIES:Faculty/Staff Calendar
END:VEVENT
BEGIN:VEVENT
DTSTART;TZID=America/New_York:20200526T090000
DTEND;TZID=America/New_York:20200526T140000
DTSTAMP:20260423T162154
CREATED:20200226T200757Z
LAST-MODIFIED:20200508T034015Z
UID:10050207-1590483600-1590501600@machias.edu
SUMMARY:FACULTY  WORKSHOPS
DESCRIPTION:
URL:https://machias.edu/event/faculty-workshops-3/
CATEGORIES:Faculty/Staff Calendar
END:VEVENT
BEGIN:VEVENT
DTSTART;TZID=America/New_York:20200526T100000
DTEND;TZID=America/New_York:20200526T110000
DTSTAMP:20260423T162154
CREATED:20200509T034102Z
LAST-MODIFIED:20200526T045404Z
UID:10051291-1590487200-1590490800@machias.edu
SUMMARY:Google Calendar 101 - Teach Your Students
DESCRIPTION:──────────\nHi there\,\nMeghan Wilson Duff is inviting you to a scheduled Zoom meeting.\nJoin from PC\, Mac\, Linux\, iOS or Android: https://maine.zoom.us/j/93180777696\nFrom a Polycom or other H.323 room system that is not a member of a video conference\, click call on the remote and dial one of the following IP addresses followed by # the meeting ID and # again:\n  162.255.36.11 (US East)\n  162.255.37.11 (US West)\n     Meeting ID: 931 8077 7696\nPlease call your campus Help Desk if you need assistance.\n──────────
URL:https://machias.edu/event/google-calendar-101-teach-your-students/
LOCATION:https://maine.zoom.us/j/93180777696\,
CATEGORIES:Faculty/Staff Calendar
END:VEVENT
BEGIN:VEVENT
DTSTART;TZID=America/New_York:20200526T130000
DTEND;TZID=America/New_York:20200526T143000
DTSTAMP:20260423T162154
CREATED:20200510T034026Z
LAST-MODIFIED:20200526T045404Z
UID:10051297-1590498000-1590503400@machias.edu
SUMMARY:Best Practices for Online Instruction to Engage Students & Support Learning
DESCRIPTION:──────────\nHi there\,\nTora Johnson is inviting you to a scheduled Zoom meeting.\nJoin from PC\, Mac\, Linux\, iOS or Android: https://maine.zoom.us/j/2072551214\nOr Telephone: \n        US: +1 312 626 6799  or +1 646 876 9923  or +1 301 715 8592  or +1 408 638 0968  or +1 669 900 6833  or +1 253 215 8782  or +1 346 248 7799\n        Canada: +1 587 328 1099  or +1 647 374 4685  or +1 647 558 0588  or +1 778 907 2071  or +1 438 809 7799\n    Meeting ID: 207 255 1214\nFrom a Polycom or other H.323 room system that is not a member of a video conference\, click call on the remote and dial one of the following IP addresses followed by # the meeting ID and # again:\n  162.255.36.11 (US East)\n  162.255.37.11 (US West)\n     Meeting ID: 207 255 1214\nPlease call your campus Help Desk if you need assistance.\n──────────
URL:https://machias.edu/event/best-practices-for-online-instruction-to-engage-students-support-learning/
LOCATION:https://maine.zoom.us/j/2072551214
CATEGORIES:Faculty/Staff Calendar
END:VEVENT
BEGIN:VEVENT
DTSTART;TZID=America/New_York:20200527T090000
DTEND;TZID=America/New_York:20200527T103000
DTSTAMP:20260423T162154
CREATED:20200509T034102Z
LAST-MODIFIED:20200527T050331Z
UID:10051294-1590570000-1590575400@machias.edu
SUMMARY:Dysfunctional Illusions of Rigor
DESCRIPTION:──────────\nHi there\,\nMeghan Wilson Duff is inviting you to a scheduled Zoom meeting.\nJoin from PC\, Mac\, Linux\, iOS or Android: https://maine.zoom.us/j/97546417778\nFrom a Polycom or other H.323 room system that is not a member of a video conference\, click call on the remote and dial one of the following IP addresses followed by # the meeting ID and # again:\n  162.255.36.11 (US East)\n  162.255.37.11 (US West)\n     Meeting ID: 975 4641 7778\nPlease call your campus Help Desk if you need assistance.\n──────────
URL:https://machias.edu/event/dysfunctional-illusions-of-rigor/
CATEGORIES:Faculty/Staff Calendar
END:VEVENT
BEGIN:VEVENT
DTSTART;TZID=America/New_York:20200527T090000
DTEND;TZID=America/New_York:20200527T140000
DTSTAMP:20260423T162154
CREATED:20200227T201403Z
LAST-MODIFIED:20200508T034015Z
UID:10050213-1590570000-1590588000@machias.edu
SUMMARY:FACULTY WORKSHOPS
DESCRIPTION:
URL:https://machias.edu/event/faculty-workshops-4/
CATEGORIES:Faculty/Staff Calendar
END:VEVENT
BEGIN:VEVENT
DTSTART;TZID=America/New_York:20200527T110000
DTEND;TZID=America/New_York:20200527T130000
DTSTAMP:20260423T162154
CREATED:20200516T041153Z
LAST-MODIFIED:20200527T050331Z
UID:10051300-1590577200-1590584400@machias.edu
SUMMARY:Faculty Meeting
DESCRIPTION:https://maine.zoom.us/j/92312372623?pwd=aWZOaFdtenQ3VGdjU0dRSlp2T2NhQT09
URL:https://machias.edu/event/faculty-meeting/
CATEGORIES:Faculty/Staff Calendar
END:VEVENT
BEGIN:VEVENT
DTSTART;TZID=America/New_York:20200528T090000
DTEND;TZID=America/New_York:20200528T140000
DTSTAMP:20260423T162154
CREATED:20200305T204437Z
LAST-MODIFIED:20200508T034015Z
UID:10050974-1590656400-1590674400@machias.edu
SUMMARY:Faculty Workshops
DESCRIPTION:
URL:https://machias.edu/event/faculty-workshops-5/
CATEGORIES:Faculty/Staff Calendar
END:VEVENT
BEGIN:VEVENT
DTSTART;TZID=America/New_York:20200529T140000
DTEND;TZID=America/New_York:20200529T160000
DTSTAMP:20260423T162154
CREATED:20200229T201514Z
LAST-MODIFIED:20200511T035124Z
UID:10050222-1590760800-1590768000@machias.edu
SUMMARY:Retirement Reception (TBD)
DESCRIPTION:
URL:https://machias.edu/event/retirement-reception-tbd/
CATEGORIES:Faculty/Staff Calendar
END:VEVENT
BEGIN:VEVENT
DTSTART;TZID=America/New_York:20200601T090000
DTEND;TZID=America/New_York:20200601T120000
DTSTAMP:20260423T162154
CREATED:20200304T204420Z
LAST-MODIFIED:20200531T055304Z
UID:10050968-1591002000-1591012800@machias.edu
SUMMARY:Board of Visitors/Board of Trustees Summit
DESCRIPTION:
URL:https://machias.edu/event/board-of-visitors-board-of-trustees-summit-tba/
CATEGORIES:Faculty/Staff Calendar
END:VEVENT
BEGIN:VEVENT
DTSTART;VALUE=DATE:20200630
DTEND;VALUE=DATE:20200701
DTSTAMP:20260423T162154
CREATED:20200401T231405Z
LAST-MODIFIED:20200630T085821Z
UID:10051236-1593475200-1593561599@machias.edu
SUMMARY:Post Tenure President's decision to unit member
DESCRIPTION:
URL:https://machias.edu/event/post-tenure-presidents-decision-to-unit-member/
CATEGORIES:Faculty/Staff Calendar
END:VEVENT
BEGIN:VEVENT
DTSTART;VALUE=DATE:20200630
DTEND;VALUE=DATE:20200701
DTSTAMP:20260423T162154
CREATED:20200401T231405Z
LAST-MODIFIED:20200630T085821Z
UID:10051239-1593475200-1593561599@machias.edu
SUMMARY:3rd or subsequent yrs President's decision to unit member
DESCRIPTION:
URL:https://machias.edu/event/3rd-or-subsequent-yrs-presidents-decision-to-unit-member/
CATEGORIES:Faculty/Staff Calendar
END:VEVENT
BEGIN:VEVENT
DTSTART;TZID=America/New_York:20200714T150000
DTEND;TZID=America/New_York:20200714T170000
DTSTAMP:20260423T162154
CREATED:20200415T010326Z
LAST-MODIFIED:20200714T105451Z
UID:10051245-1594738800-1594746000@machias.edu
SUMMARY:Board of Visitors
DESCRIPTION:
URL:https://machias.edu/event/board-of-visitors-4/
CATEGORIES:Faculty/Staff Calendar
END:VEVENT
BEGIN:VEVENT
DTSTART;TZID=America/New_York:20200728T150000
DTEND;TZID=America/New_York:20200728T170000
DTSTAMP:20260423T162154
CREATED:20200715T110030Z
LAST-MODIFIED:20200728T125202Z
UID:10051309-1595948400-1595955600@machias.edu
SUMMARY:UMM BOV meeting RESCHEDULED
DESCRIPTION:Original Email: https://mail.google.com/mail/u/0/#inbox/FMfcgxwJWrXHpjgkKLpcLkTxgxzQDBjt\nGood morning\,\nOur UMM Board of Visitors meeting has been rescheduled to 3pm – 5pm on Tuesday\, July 28. \nPlease let me know if you cannot make this date and time: we will need a quorum for voting.\nAttached you will find the agenda and minutes from the May meeting.\nThank you for your patience.\nzoom link and password:https://maine.zoom.us/j/96145488148\n    Password: 898217  \n—\nRose\nRose Mondville\nExecutive Assistant to the VPAA and Head of Campus\nInternational Student LiaisonUniversity of Maine at Machias\n116 O’Brien Avenue\nMachias\, ME  04654\n207.255.1210 office\n207.255.1292 fax            \nIf your email is urgent or better addressed to another person or department\, please see the contacts listed below:\nAdmissions\,Residence Halls\, and Stude
URL:https://machias.edu/event/umm-bov-meeting-rescheduled/
LOCATION:https://maine.zoom.us/j/96145488148
CATEGORIES:Faculty/Staff Calendar
END:VEVENT
BEGIN:VEVENT
DTSTART;TZID=America/New_York:20200729T130000
DTEND;TZID=America/New_York:20200729T140000
DTSTAMP:20260423T162154
CREATED:20200728T125204Z
LAST-MODIFIED:20200729T125659Z
UID:10051312-1596027600-1596031200@machias.edu
SUMMARY:Faculty & Staff Zoom Meeting with Dan Qualls
DESCRIPTION:https://maine.zoom.us/j/99704907284    Password: 391028 
URL:https://machias.edu/event/faculty-staff-zoom-meeting-with-dan-qualls/
LOCATION:https://maine.zoom.us/j/99704907284 Password: 391028
CATEGORIES:Faculty/Staff Calendar
END:VEVENT
BEGIN:VEVENT
DTSTART;TZID=America/New_York:20200810T130000
DTEND;TZID=America/New_York:20200810T140000
DTSTAMP:20260423T162154
CREATED:20200808T132713Z
LAST-MODIFIED:20200810T133425Z
UID:10051315-1597064400-1597068000@machias.edu
SUMMARY:Informal virtual town hall for UMaine and UMM staff\, led by President Ferrini-Mundy
DESCRIPTION:
URL:https://machias.edu/event/informal-virtual-town-hall-for-umaine-and-umm-staff-led-by-president-ferrini-mundy/
LOCATION:https://www.youtube.com/watch?v=QhK15zM_si8&feature=youtu.be
CATEGORIES:Faculty/Staff Calendar
END:VEVENT
BEGIN:VEVENT
DTSTART;TZID=America/New_York:20200826T140000
DTEND;TZID=America/New_York:20200826T150000
DTSTAMP:20260423T162154
CREATED:20200821T142303Z
LAST-MODIFIED:20200826T144823Z
UID:10050960-1598450400-1598454000@machias.edu
SUMMARY:Faculty & Staff Meeting with Dan Qualls
DESCRIPTION:
URL:https://machias.edu/event/faculty-staff-meeting-with-dan-qualls/
LOCATION:https://maine.zoom.us/j/91799724104   Password: 318740
CATEGORIES:Faculty/Staff Calendar
END:VEVENT
BEGIN:VEVENT
DTSTART;VALUE=DATE:20200831
DTEND;VALUE=DATE:20200901
DTSTAMP:20260423T162154
CREATED:20200811T133916Z
LAST-MODIFIED:20200831T151508Z
UID:10051318-1598832000-1598918399@machias.edu
SUMMARY:classes begin
DESCRIPTION:
URL:https://machias.edu/event/classes-begin-3/
CATEGORIES:Faculty/Staff Calendar
END:VEVENT
BEGIN:VEVENT
DTSTART;TZID=America/New_York:20200902T110000
DTEND;TZID=America/New_York:20200902T130000
DTSTAMP:20260423T162154
CREATED:20200811T133916Z
LAST-MODIFIED:20200901T152233Z
UID:10051324-1599044400-1599051600@machias.edu
SUMMARY:Faculty Meeting
DESCRIPTION:
URL:https://machias.edu/event/faculty-meeting-2/
CATEGORIES:Faculty/Staff Calendar
END:VEVENT
BEGIN:VEVENT
DTSTART;TZID=America/New_York:20200902T130000
DTEND;TZID=America/New_York:20200902T140000
DTSTAMP:20260423T162154
CREATED:20200811T133916Z
LAST-MODIFIED:20200902T153523Z
UID:10051321-1599051600-1599055200@machias.edu
SUMMARY:Staff Meeting
DESCRIPTION:
URL:https://machias.edu/event/staff-meeting/
CATEGORIES:Faculty/Staff Calendar
END:VEVENT
BEGIN:VEVENT
DTSTART;VALUE=DATE:20200905
DTEND;VALUE=DATE:20200906
DTSTAMP:20260423T162154
CREATED:20200811T133917Z
LAST-MODIFIED:20200905T155633Z
UID:10051330-1599264000-1599350399@machias.edu
SUMMARY:libra proposals to PREC
DESCRIPTION:
URL:https://machias.edu/event/libra-proposals-to-prec/
CATEGORIES:Faculty/Staff Calendar
END:VEVENT
BEGIN:VEVENT
DTSTART;VALUE=DATE:20200906
DTEND;VALUE=DATE:20200907
DTSTAMP:20260423T162154
CREATED:20200811T133916Z
LAST-MODIFIED:20200906T155511Z
UID:10051327-1599350400-1599436799@machias.edu
SUMMARY:last day to add semester long course
DESCRIPTION:
URL:https://machias.edu/event/last-day-to-add-semester-long-course-2/
CATEGORIES:Faculty/Staff Calendar
END:VEVENT
END:VCALENDAR