BEGIN:VCALENDAR
VERSION:2.0
PRODID:-//University of Maine at Machias - ECPv6.15.17.1//NONSGML v1.0//EN
CALSCALE:GREGORIAN
METHOD:PUBLISH
X-WR-CALNAME:University of Maine at Machias
X-ORIGINAL-URL:https://machias.edu
X-WR-CALDESC:Events for University of Maine at Machias
REFRESH-INTERVAL;VALUE=DURATION:PT1H
X-Robots-Tag:noindex
X-PUBLISHED-TTL:PT1H
BEGIN:VTIMEZONE
TZID:America/New_York
BEGIN:DAYLIGHT
TZOFFSETFROM:-0500
TZOFFSETTO:-0400
TZNAME:EDT
DTSTART:20190310T070000
END:DAYLIGHT
BEGIN:STANDARD
TZOFFSETFROM:-0400
TZOFFSETTO:-0500
TZNAME:EST
DTSTART:20191103T060000
END:STANDARD
BEGIN:DAYLIGHT
TZOFFSETFROM:-0500
TZOFFSETTO:-0400
TZNAME:EDT
DTSTART:20200308T070000
END:DAYLIGHT
BEGIN:STANDARD
TZOFFSETFROM:-0400
TZOFFSETTO:-0500
TZNAME:EST
DTSTART:20201101T060000
END:STANDARD
BEGIN:DAYLIGHT
TZOFFSETFROM:-0500
TZOFFSETTO:-0400
TZNAME:EDT
DTSTART:20210314T070000
END:DAYLIGHT
BEGIN:STANDARD
TZOFFSETFROM:-0400
TZOFFSETTO:-0500
TZNAME:EST
DTSTART:20211107T060000
END:STANDARD
END:VTIMEZONE
BEGIN:VEVENT
DTSTART;TZID=America/New_York:20201013T090000
DTEND;TZID=America/New_York:20201013T100000
DTSTAMP:20260420T184915
CREATED:20200928T183424Z
LAST-MODIFIED:20201012T203310Z
UID:10051610-1602579600-1602583200@machias.edu
SUMMARY:University of Maine Machias Virtual Visit Maine School of Science & Mathematics
DESCRIPTION:Hi there\,\nDorsey Hill is inviting you to a scheduled Zoom meeting.\nJoin from PC\, Mac\, Linux\, iOS or Android: https://maine.zoom.us/j/8143755459\nOr Telephone: \n        US: +1 301 715 8592  or +1 312 626 6799  or +1 646 876 9923  or +1 346 248 7799  or +1 408 638 0968  or +1 669 900 6833  or +1 253 215 8782\n    Meeting ID: 814 375 5459\nFrom a Polycom or other H.323 room system that is not a member of a video conference\, click call on the remote and dial one of the following IP addresses followed by # the meeting ID and # again:\n  162.255.36.11 (US East)\n  162.255.37.11 (US West)\n     Meeting ID: 814 375 5459\nPlease call your campus Help Desk if you need assistance.
URL:https://machias.edu/event/university-of-maine-machias-virtual-visit-maine-school-of-science-mathematics/
LOCATION:https://maine.zoom.us/j/8143755459
CATEGORIES:Admissions Travel
END:VEVENT
BEGIN:VEVENT
DTSTART;TZID=America/New_York:20201013T120000
DTEND;TZID=America/New_York:20201013T123000
DTSTAMP:20260420T184915
CREATED:20200928T183424Z
LAST-MODIFIED:20201012T203310Z
UID:10051613-1602590400-1602592200@machias.edu
SUMMARY:UMaine Machias Zoom Visit - South Portland HS
DESCRIPTION:Hi there\,\nDorsey Hill is inviting you to a scheduled Zoom meeting.\nJoin from PC\, Mac\, Linux\, iOS or Android: https://maine.zoom.us/j/8143755459\nOr Telephone: \n        US: +1 301 715 8592  or +1 312 626 6799  or +1 646 876 9923  or +1 346 248 7799  or +1 408 638 0968  or +1 669 900 6833  or +1 253 215 8782\n    Meeting ID: 814 375 5459\nFrom a Polycom or other H.323 room system that is not a member of a video conference\, click call on the remote and dial one of the following IP addresses followed by # the meeting ID and # again:\n  162.255.36.11 (US East)\n  162.255.37.11 (US West)\n     Meeting ID: 814 375 5459\nPlease call your campus Help Desk if you need assistance.
URL:https://machias.edu/event/umaine-machias-zoom-visit-south-portland-hs/
LOCATION:https://maine.zoom.us/j/8143755459
CATEGORIES:Admissions Travel
END:VEVENT
BEGIN:VEVENT
DTSTART;TZID=America/New_York:20201013T160000
DTEND;TZID=America/New_York:20201013T163000
DTSTAMP:20260420T184915
CREATED:20200928T183424Z
LAST-MODIFIED:20201012T203310Z
UID:10051616-1602604800-1602606600@machias.edu
SUMMARY:University of Maine Machias Virtual Visit - Bancroft School
DESCRIPTION:Hi there\,\nDorsey Hill is inviting you to a scheduled Zoom meeting.\nJoin from PC\, Mac\, Linux\, iOS or Android: https://maine.zoom.us/j/8143755459\nOr Telephone: \n        US: +1 301 715 8592  or +1 312 626 6799  or +1 646 876 9923  or +1 346 248 7799  or +1 408 638 0968  or +1 669 900 6833  or +1 253 215 8782\n    Meeting ID: 814 375 5459\nFrom a Polycom or other H.323 room system that is not a member of a video conference\, click call on the remote and dial one of the following IP addresses followed by # the meeting ID and # again:\n  162.255.36.11 (US East)\n  162.255.37.11 (US West)\n     Meeting ID: 814 375 5459\nPlease call your campus Help Desk if you need assistance.
URL:https://machias.edu/event/university-of-maine-machias-virtual-visit-bancroft-school/
LOCATION:https://maine.zoom.us/j/8143755459
CATEGORIES:Admissions Travel
END:VEVENT
BEGIN:VEVENT
DTSTART;TZID=America/New_York:20201014T090000
DTEND;TZID=America/New_York:20201014T093000
DTSTAMP:20260420T184915
CREATED:20200928T183424Z
LAST-MODIFIED:20201013T203742Z
UID:10051619-1602666000-1602667800@machias.edu
SUMMARY:University of Maine Machias Virtual Visit - Danbury
DESCRIPTION:Hi there\,\nDorsey Hill is inviting you to a scheduled Zoom meeting.\nJoin from PC\, Mac\, Linux\, iOS or Android: https://maine.zoom.us/j/8143755459\nOr Telephone: \n        US: +1 301 715 8592  or +1 312 626 6799  or +1 646 876 9923  or +1 346 248 7799  or +1 408 638 0968  or +1 669 900 6833  or +1 253 215 8782\n    Meeting ID: 814 375 5459\nFrom a Polycom or other H.323 room system that is not a member of a video conference\, click call on the remote and dial one of the following IP addresses followed by # the meeting ID and # again:\n  162.255.36.11 (US East)\n  162.255.37.11 (US West)\n     Meeting ID: 814 375 5459\nPlease call your campus Help Desk if you need assistance.
URL:https://machias.edu/event/university-of-maine-machias-virtual-visit-danbury/
LOCATION:https://maine.zoom.us/j/8143755459
CATEGORIES:Admissions Travel
END:VEVENT
BEGIN:VEVENT
DTSTART;TZID=America/New_York:20201014T100000
DTEND;TZID=America/New_York:20201014T103000
DTSTAMP:20260420T184915
CREATED:20200928T183425Z
LAST-MODIFIED:20201013T203742Z
UID:10051622-1602669600-1602671400@machias.edu
SUMMARY:UMaine Machias Zoom Visit - Scarborough HS
DESCRIPTION:Hi there\,\nDorsey Hill is inviting you to a scheduled Zoom meeting.\nJoin from PC\, Mac\, Linux\, iOS or Android: https://maine.zoom.us/j/8143755459\nOr Telephone: \n        US: +1 301 715 8592  or +1 312 626 6799  or +1 646 876 9923  or +1 346 248 7799  or +1 408 638 0968  or +1 669 900 6833  or +1 253 215 8782\n    Meeting ID: 814 375 5459\nFrom a Polycom or other H.323 room system that is not a member of a video conference\, click call on the remote and dial one of the following IP addresses followed by # the meeting ID and # again:\n  162.255.36.11 (US East)\n  162.255.37.11 (US West)\n     Meeting ID: 814 375 5459\nPlease call your campus Help Desk if you need assistance.
URL:https://machias.edu/event/umaine-machias-zoom-visit-scarborough-hs/
LOCATION:https://maine.zoom.us/j/8143755459
CATEGORIES:Admissions Travel
END:VEVENT
BEGIN:VEVENT
DTSTART;TZID=America/New_York:20201014T110000
DTEND;TZID=America/New_York:20201014T120000
DTSTAMP:20260420T184915
CREATED:20200928T183425Z
LAST-MODIFIED:20201013T203743Z
UID:10051625-1602673200-1602676800@machias.edu
SUMMARY:University of Maine at Machias Virtual Visit - Shepard Hill Regional
DESCRIPTION:Hi there\,\nDorsey Hill is inviting you to a scheduled Zoom meeting.\nJoin from PC\, Mac\, Linux\, iOS or Android: https://maine.zoom.us/j/8143755459\nOr Telephone: \n        US: +1 301 715 8592  or +1 312 626 6799  or +1 646 876 9923  or +1 346 248 7799  or +1 408 638 0968  or +1 669 900 6833  or +1 253 215 8782\n    Meeting ID: 814 375 5459\nFrom a Polycom or other H.323 room system that is not a member of a video conference\, click call on the remote and dial one of the following IP addresses followed by # the meeting ID and # again:\n  162.255.36.11 (US East)\n  162.255.37.11 (US West)\n     Meeting ID: 814 375 5459\nPlease call your campus Help Desk if you need assistance.
URL:https://machias.edu/event/university-of-maine-at-machias-virtual-visit-shepard-hill-regional/
LOCATION:https://maine.zoom.us/j/8143755459
CATEGORIES:Admissions Travel
END:VEVENT
BEGIN:VEVENT
DTSTART;TZID=America/New_York:20201014T130000
DTEND;TZID=America/New_York:20201014T133000
DTSTAMP:20260420T184915
CREATED:20200928T183425Z
LAST-MODIFIED:20201013T203743Z
UID:10051628-1602680400-1602682200@machias.edu
SUMMARY:UMaine Machias Zoom Visit - North Yarmouth Academy
DESCRIPTION:Hi there\,\nDorsey Hill is inviting you to a scheduled Zoom meeting.\nJoin from PC\, Mac\, Linux\, iOS or Android: https://maine.zoom.us/j/8143755459\nOr Telephone: \n        US: +1 301 715 8592  or +1 312 626 6799  or +1 646 876 9923  or +1 346 248 7799  or +1 408 638 0968  or +1 669 900 6833  or +1 253 215 8782\n    Meeting ID: 814 375 5459\nFrom a Polycom or other H.323 room system that is not a member of a video conference\, click call on the remote and dial one of the following IP addresses followed by # the meeting ID and # again:\n  162.255.36.11 (US East)\n  162.255.37.11 (US West)\n     Meeting ID: 814 375 5459\nPlease call your campus Help Desk if you need assistance.
URL:https://machias.edu/event/umaine-machias-zoom-visit-north-yarmouth-academy/
LOCATION:https://maine.zoom.us/j/8143755459
CATEGORIES:Admissions Travel
END:VEVENT
BEGIN:VEVENT
DTSTART;TZID=America/New_York:20201014T141500
DTEND;TZID=America/New_York:20201014T151500
DTSTAMP:20260420T184915
CREATED:20200928T183425Z
LAST-MODIFIED:20201013T203743Z
UID:10051631-1602684900-1602688500@machias.edu
SUMMARY:University of Maine Machias Virtual Visit - Walpole HS
DESCRIPTION:Hi there\,\nDorsey Hill is inviting you to a scheduled Zoom meeting.\nJoin from PC\, Mac\, Linux\, iOS or Android: https://maine.zoom.us/j/8143755459\nOr Telephone: \n        US: +1 301 715 8592  or +1 312 626 6799  or +1 646 876 9923  or +1 346 248 7799  or +1 408 638 0968  or +1 669 900 6833  or +1 253 215 8782\n    Meeting ID: 814 375 5459\nFrom a Polycom or other H.323 room system that is not a member of a video conference\, click call on the remote and dial one of the following IP addresses followed by # the meeting ID and # again:\n  162.255.36.11 (US East)\n  162.255.37.11 (US West)\n     Meeting ID: 814 375 5459\nPlease call your campus Help Desk if you need assistance.
URL:https://machias.edu/event/university-of-maine-machias-virtual-visit-walpole-hs/
LOCATION:https://maine.zoom.us/j/8143755459
CATEGORIES:Admissions Travel
END:VEVENT
BEGIN:VEVENT
DTSTART;TZID=America/New_York:20201015T090000
DTEND;TZID=America/New_York:20201015T100000
DTSTAMP:20260420T184915
CREATED:20200928T183425Z
LAST-MODIFIED:20201014T205331Z
UID:10051634-1602752400-1602756000@machias.edu
SUMMARY:UMaine Machias Virtual Visit - Bridgton Academy
DESCRIPTION:Hi there\,\nDorsey Hill is inviting you to a scheduled Zoom meeting.\nJoin from PC\, Mac\, Linux\, iOS or Android: https://maine.zoom.us/j/8143755459\nOr Telephone: \n        US: +1 301 715 8592  or +1 312 626 6799  or +1 646 876 9923  or +1 346 248 7799  or +1 408 638 0968  or +1 669 900 6833  or +1 253 215 8782\n    Meeting ID: 814 375 5459\nFrom a Polycom or other H.323 room system that is not a member of a video conference\, click call on the remote and dial one of the following IP addresses followed by # the meeting ID and # again:\n  162.255.36.11 (US East)\n  162.255.37.11 (US West)\n     Meeting ID: 814 375 5459\nPlease call your campus Help Desk if you need assistance.
URL:https://machias.edu/event/umaine-machias-virtual-visit-bridgton-academy/
LOCATION:https://maine.zoom.us/j/8143755459
CATEGORIES:Admissions Travel
END:VEVENT
BEGIN:VEVENT
DTSTART;TZID=America/New_York:20201015T110000
DTEND;TZID=America/New_York:20201015T120000
DTSTAMP:20260420T184915
CREATED:20200928T183426Z
LAST-MODIFIED:20201014T205332Z
UID:10051637-1602759600-1602763200@machias.edu
SUMMARY:UMaine Machias Virtual Visit - John Bapst Memorial HS
DESCRIPTION:Hi there\,\nDorsey Hill is inviting you to a scheduled Zoom meeting.\nJoin from PC\, Mac\, Linux\, iOS or Android: https://maine.zoom.us/j/8143755459\nOr Telephone: \n        US: +1 301 715 8592  or +1 312 626 6799  or +1 646 876 9923  or +1 346 248 7799  or +1 408 638 0968  or +1 669 900 6833  or +1 253 215 8782\n    Meeting ID: 814 375 5459\nFrom a Polycom or other H.323 room system that is not a member of a video conference\, click call on the remote and dial one of the following IP addresses followed by # the meeting ID and # again:\n  162.255.36.11 (US East)\n  162.255.37.11 (US West)\n     Meeting ID: 814 375 5459\nPlease call your campus Help Desk if you need assistance.
URL:https://machias.edu/event/umaine-machias-virtual-visit-john-bapst-memorial-hs/
LOCATION:https://maine.zoom.us/j/8143755459
CATEGORIES:Admissions Travel
END:VEVENT
BEGIN:VEVENT
DTSTART;TZID=America/New_York:20201015T131500
DTEND;TZID=America/New_York:20201015T141500
DTSTAMP:20260420T184915
CREATED:20200928T183426Z
LAST-MODIFIED:20201014T205332Z
UID:10051640-1602767700-1602771300@machias.edu
SUMMARY:UMaine Machias Zoom Visit - Camden Hills Regional HS
DESCRIPTION:Hi there\,\nDorsey Hill is inviting you to a scheduled Zoom meeting.\nJoin from PC\, Mac\, Linux\, iOS or Android: https://maine.zoom.us/j/8143755459\nOr Telephone: \n        US: +1 301 715 8592  or +1 312 626 6799  or +1 646 876 9923  or +1 346 248 7799  or +1 408 638 0968  or +1 669 900 6833  or +1 253 215 8782\n    Meeting ID: 814 375 5459\nFrom a Polycom or other H.323 room system that is not a member of a video conference\, click call on the remote and dial one of the following IP addresses followed by # the meeting ID and # again:\n  162.255.36.11 (US East)\n  162.255.37.11 (US West)\n     Meeting ID: 814 375 5459\nPlease call your campus Help Desk if you need assistance.
URL:https://machias.edu/event/umaine-machias-zoom-visit-camden-hills-regional-hs/
LOCATION:https://maine.zoom.us/j/8143755459
CATEGORIES:Admissions Travel
END:VEVENT
BEGIN:VEVENT
DTSTART;TZID=America/New_York:20201015T151500
DTEND;TZID=America/New_York:20201015T160000
DTSTAMP:20260420T184915
CREATED:20200928T183426Z
LAST-MODIFIED:20201014T205332Z
UID:10051131-1602774900-1602777600@machias.edu
SUMMARY:University of Maine at Machias Virtual Visit - Maynard HS
DESCRIPTION:Hi there\,\nDorsey Hill is inviting you to a scheduled Zoom meeting.\nJoin from PC\, Mac\, Linux\, iOS or Android: https://maine.zoom.us/j/8143755459\nOr Telephone: \n        US: +1 301 715 8592  or +1 312 626 6799  or +1 646 876 9923  or +1 346 248 7799  or +1 408 638 0968  or +1 669 900 6833  or +1 253 215 8782\n    Meeting ID: 814 375 5459\nFrom a Polycom or other H.323 room system that is not a member of a video conference\, click call on the remote and dial one of the following IP addresses followed by # the meeting ID and # again:\n  162.255.36.11 (US East)\n  162.255.37.11 (US West)\n     Meeting ID: 814 375 5459\nPlease call your campus Help Desk if you need assistance.
URL:https://machias.edu/event/university-of-maine-at-machias-virtual-visit-maynard-hs/
LOCATION:https://maine.zoom.us/j/8143755459
CATEGORIES:Admissions Travel
END:VEVENT
BEGIN:VEVENT
DTSTART;TZID=America/New_York:20201016T091500
DTEND;TZID=America/New_York:20201016T094500
DTSTAMP:20260420T184915
CREATED:20200928T183426Z
LAST-MODIFIED:20201015T205714Z
UID:10051134-1602839700-1602841500@machias.edu
SUMMARY:University of Maine Machias Virtual Visit - New Fairfield HS
DESCRIPTION:Hi there\,\nDorsey Hill is inviting you to a scheduled Zoom meeting.\nJoin from PC\, Mac\, Linux\, iOS or Android: https://maine.zoom.us/j/8143755459\nOr Telephone: \n        US: +1 301 715 8592  or +1 312 626 6799  or +1 646 876 9923  or +1 346 248 7799  or +1 408 638 0968  or +1 669 900 6833  or +1 253 215 8782\n    Meeting ID: 814 375 5459\nFrom a Polycom or other H.323 room system that is not a member of a video conference\, click call on the remote and dial one of the following IP addresses followed by # the meeting ID and # again:\n  162.255.36.11 (US East)\n  162.255.37.11 (US West)\n     Meeting ID: 814 375 5459\nPlease call your campus Help Desk if you need assistance.
URL:https://machias.edu/event/university-of-maine-machias-virtual-visit-new-fairfield-hs/
LOCATION:https://maine.zoom.us/j/8143755459
CATEGORIES:Admissions Travel
END:VEVENT
BEGIN:VEVENT
DTSTART;TZID=America/New_York:20201016T100000
DTEND;TZID=America/New_York:20201016T110000
DTSTAMP:20260420T184915
CREATED:20200928T183427Z
LAST-MODIFIED:20201015T205715Z
UID:10051137-1602842400-1602846000@machias.edu
SUMMARY:University of Maine Machias Virtual Visit - Manchester Essex Regional
DESCRIPTION:Hi there\,\nDorsey Hill is inviting you to a scheduled Zoom meeting.\nJoin from PC\, Mac\, Linux\, iOS or Android: https://maine.zoom.us/j/8143755459\nOr Telephone: \n        US: +1 301 715 8592  or +1 312 626 6799  or +1 646 876 9923  or +1 346 248 7799  or +1 408 638 0968  or +1 669 900 6833  or +1 253 215 8782\n    Meeting ID: 814 375 5459\nFrom a Polycom or other H.323 room system that is not a member of a video conference\, click call on the remote and dial one of the following IP addresses followed by # the meeting ID and # again:\n  162.255.36.11 (US East)\n  162.255.37.11 (US West)\n     Meeting ID: 814 375 5459\nPlease call your campus Help Desk if you need assistance.
URL:https://machias.edu/event/university-of-maine-machias-virtual-visit-manchester-essex-regional/
LOCATION:https://maine.zoom.us/j/8143755459
CATEGORIES:Admissions Travel
END:VEVENT
BEGIN:VEVENT
DTSTART;TZID=America/New_York:20201016T130000
DTEND;TZID=America/New_York:20201016T143000
DTSTAMP:20260420T184915
CREATED:20200928T183427Z
LAST-MODIFIED:20201015T205715Z
UID:10051140-1602853200-1602858600@machias.edu
SUMMARY:UMaine Machias Virtual Visit - HS of Science & Technology
DESCRIPTION:Hi there\,\nDorsey Hill is inviting you to a scheduled Zoom meeting.\nJoin from PC\, Mac\, Linux\, iOS or Android: https://maine.zoom.us/j/8143755459\nOr Telephone: \n        US: +1 301 715 8592  or +1 312 626 6799  or +1 646 876 9923  or +1 346 248 7799  or +1 408 638 0968  or +1 669 900 6833  or +1 253 215 8782\n    Meeting ID: 814 375 5459\nFrom a Polycom or other H.323 room system that is not a member of a video conference\, click call on the remote and dial one of the following IP addresses followed by # the meeting ID and # again:\n  162.255.36.11 (US East)\n  162.255.37.11 (US West)\n     Meeting ID: 814 375 5459\nPlease call your campus Help Desk if you need assistance.
URL:https://machias.edu/event/umaine-machias-virtual-visit-hs-of-science-technology/
LOCATION:https://maine.zoom.us/j/8143755459
CATEGORIES:Admissions Travel
END:VEVENT
END:VCALENDAR